BEGIN:VCALENDAR
VERSION:2.0
PRODID:-//The Mad River Valley Village - ECPv6.0.13//NONSGML v1.0//EN
CALSCALE:GREGORIAN
METHOD:PUBLISH
X-ORIGINAL-URL:https://mrvvillage.com
X-WR-CALDESC:Events for The Mad River Valley Village
REFRESH-INTERVAL;VALUE=DURATION:PT1H
X-Robots-Tag:noindex
X-PUBLISHED-TTL:PT1H
BEGIN:VTIMEZONE
TZID:America/Halifax
BEGIN:DAYLIGHT
TZOFFSETFROM:-0400
TZOFFSETTO:-0300
TZNAME:ADT
DTSTART:20250309T060000
END:DAYLIGHT
BEGIN:STANDARD
TZOFFSETFROM:-0300
TZOFFSETTO:-0400
TZNAME:AST
DTSTART:20251102T050000
END:STANDARD
TZID:America/New_York
BEGIN:DAYLIGHT
TZOFFSETFROM:-0500
TZOFFSETTO:-0400
TZNAME:EDT
DTSTART:20250309T070000
END:DAYLIGHT
BEGIN:STANDARD
TZOFFSETFROM:-0400
TZOFFSETTO:-0500
TZNAME:EST
DTSTART:20251102T060000
END:STANDARD
END:VTIMEZONE
BEGIN:VEVENT
DTSTART;TZID=America/Halifax:20251208T120000
DTEND;TZID=America/Halifax:20251208T200000
DTSTAMP:20260424T055651
CREATED:20251115T112458Z
LAST-MODIFIED:20251208T225323Z
UID:10009273-1765195200-1765224000@mrvvillage.com
SUMMARY:MadLove Mondays
DESCRIPTION:Every Monday at Lawson’s Finest Liquids! \n\n$5 pours of all our draft beers all day\nMac and cheese specials\nDouble your Toast loyalty points\n20% off cases of beer in our retail shop\nOur favorite recorded live shows over the speakers. Have a favorite? Let us know!\nAlso! Monthly artist spotlights and community features\n\n 
URL:https://mrvvillage.com/event/madlove-mondays-4/
LOCATION:Lawson’s Finest Brewery\, 155 Carroll Road\, Waitsfield\, VT\, 05673\, United States
CATEGORIES:At the Brewery,Vermont
ATTACH;FMTTYPE=image/jpeg:https://mrvvillage.com/wp-content/uploads/2025/11/Taproom_WeeklyEvents-02-scaled-71FmaW-wWZCVE.jpg
ORGANIZER;CN="Lawson%26%238217%3Bs%20Finest%20Liquids":MAILTO:hello@lawsonsfinest.com
GEO:44.1878437;-72.8352541
X-APPLE-STRUCTURED-LOCATION;VALUE=URI;X-ADDRESS=Lawson’s Finest Brewery 155 Carroll Road Waitsfield VT 05673 United States;X-APPLE-RADIUS=500;X-TITLE=155 Carroll Road:geo:-72.8352541,44.1878437
END:VEVENT
BEGIN:VEVENT
DTSTART;TZID=America/New_York:20251209T173000
DTEND;TZID=America/New_York:20251209T193000
DTSTAMP:20260424T055651
CREATED:20251109T102509Z
LAST-MODIFIED:20251209T230829Z
UID:10009252-1765301400-1765308600@mrvvillage.com
SUMMARY:Tuesday Tunes: Bruce Sklar and The Sklarkestra
DESCRIPTION:Bruce Sklar and The Sklarkestra return to the Lawson’s Finest taproom to throw down some serious tunes!
URL:https://mrvvillage.com/event/tuesday-tunes-bruce-sklar-and-the-sklarkestra/
LOCATION:Lawson’s Finest Taproom\, 155 Carroll Road\, Waitsfield\, Vermont\, 05673
CATEGORIES:At the Brewery,Tuesday Tunes,Vermont
ATTACH;FMTTYPE=image/jpeg:https://mrvvillage.com/wp-content/uploads/2025/11/Taproom_WeeklyEvents-10-1-scaled-3FZTkn-YlcD21.jpg
ORGANIZER;CN="Lawson%26%238217%3Bs%20Finest%20Liquids":MAILTO:hello@lawsonsfinest.com
GEO:44.1878437;-72.8352541
X-APPLE-STRUCTURED-LOCATION;VALUE=URI;X-ADDRESS=Lawson’s Finest Taproom 155 Carroll Road Waitsfield Vermont 05673;X-APPLE-RADIUS=500;X-TITLE=155 Carroll Road:geo:-72.8352541,44.1878437
END:VEVENT
BEGIN:VEVENT
DTSTART;TZID=America/Halifax:20251210T120000
DTEND;TZID=America/Halifax:20251210T200000
DTSTAMP:20260424T055651
CREATED:20251115T112459Z
LAST-MODIFIED:20251210T230826Z
UID:10009274-1765368000-1765396800@mrvvillage.com
SUMMARY:Sunshine Brat Wednesdays
DESCRIPTION:This ain’t your grandpa’s beer and a bratwurst. \nEvery Wednesday come to Lawson’s Finest Liquids for some big time flavor: A massive jalapeño cheddar beer bratwurst made with Sip of Sunshine by our friends at 5th Quarter Butcher\, served on a pretzel bun made by none other than Patrick from Green Mountain Twisters Pretzels\, comes with a side of crispy greens and a side of German potato salad\, and your choice of draft beer! All of this for just $20! Are we kidding?! Never. We’re all business\, baby.
URL:https://mrvvillage.com/event/sunshine-brat-wednesdays-3/
LOCATION:Lawson’s Finest Brewery\, 155 Carroll Road\, Waitsfield\, VT\, 05673\, United States
CATEGORIES:At the Brewery,Vermont
ATTACH;FMTTYPE=image/jpeg:https://mrvvillage.com/wp-content/uploads/2025/11/Taproom_WeeklyEvents-04-scaled-8Zlxlu-RgxnqM.jpg
ORGANIZER;CN="Lawson%26%238217%3Bs%20Finest%20Liquids":MAILTO:hello@lawsonsfinest.com
GEO:44.1878437;-72.8352541
X-APPLE-STRUCTURED-LOCATION;VALUE=URI;X-ADDRESS=Lawson’s Finest Brewery 155 Carroll Road Waitsfield VT 05673 United States;X-APPLE-RADIUS=500;X-TITLE=155 Carroll Road:geo:-72.8352541,44.1878437
END:VEVENT
BEGIN:VEVENT
DTSTART;TZID=America/Halifax:20251211T160000
DTEND;TZID=America/Halifax:20251211T190000
DTSTAMP:20260424T055651
CREATED:20251111T104016Z
LAST-MODIFIED:20251211T230826Z
UID:10009256-1765468800-1765479600@mrvvillage.com
SUMMARY:Fresh Catch Thursday
DESCRIPTION:Every Thursday starting at 4pm we host Nor’Easter Catering for a raw bar pop-up. Come on down and enjoy the freshest oysters you can get your hands on\, and a variety of weekly specials that often include lobster rolls\, shrimp cocktails\, tuna poke bowls\, blue crab quesadillas\, and more!
URL:https://mrvvillage.com/event/fresh-catch-thursday-148/
LOCATION:Lawson’s Finest Brewery\, 155 Carroll Road\, Waitsfield\, VT\, 05673\, United States
CATEGORIES:At the Brewery,Fresh Catch Thursday,Vermont
ATTACH;FMTTYPE=image/jpeg:https://mrvvillage.com/wp-content/uploads/2025/11/Taproom_WeeklyEvents-05-scaled-RbenMu-8bm9Ei.jpg
ORGANIZER;CN="Lawson%26%238217%3Bs%20Finest%20Liquids":MAILTO:hello@lawsonsfinest.com
GEO:44.1878437;-72.8352541
X-APPLE-STRUCTURED-LOCATION;VALUE=URI;X-ADDRESS=Lawson’s Finest Brewery 155 Carroll Road Waitsfield VT 05673 United States;X-APPLE-RADIUS=500;X-TITLE=155 Carroll Road:geo:-72.8352541,44.1878437
END:VEVENT
BEGIN:VEVENT
DTSTART;TZID=America/Halifax:20251213T110000
DTEND;TZID=America/Halifax:20251213T150000
DTSTAMP:20260424T055651
CREATED:20251113T105514Z
LAST-MODIFIED:20251213T233824Z
UID:10009259-1765623600-1765638000@mrvvillage.com
SUMMARY:Maker’s Market December 13th
DESCRIPTION:It’s back! On December 13th we’ll feature over 20 local vendors at the Lawson’s Finest Taproom in Waitsfield\, VT. Come get all your holiday shopping done in one fell swoop\, while supporting the best artists and producers in the Valley. Do it all while sipping on one of our fresh maple beers or IPAs\, or transport yourself to the winter markets of Germany with a glass of delicious mulled wine. End your loop in our retail store\, where we’ll be offering free gift wrapping on any of our merchandise or apparel\, with new items joining us just in time for the holidays.
URL:https://mrvvillage.com/event/makers-market-december-13th/
LOCATION:Lawson’s Finest Brewery\, 155 Carroll Road\, Waitsfield\, VT\, 05673\, United States
CATEGORIES:At the Brewery,Vermont
ATTACH;FMTTYPE=image/jpeg:https://mrvvillage.com/wp-content/uploads/2025/10/MakersMarket_Poster_2025-pdf-Hf6AyB-UmfNa4.jpg
ORGANIZER;CN="Lawson%26%238217%3Bs%20Finest%20Liquids":MAILTO:hello@lawsonsfinest.com
GEO:44.1878437;-72.8352541
X-APPLE-STRUCTURED-LOCATION;VALUE=URI;X-ADDRESS=Lawson’s Finest Brewery 155 Carroll Road Waitsfield VT 05673 United States;X-APPLE-RADIUS=500;X-TITLE=155 Carroll Road:geo:-72.8352541,44.1878437
END:VEVENT
BEGIN:VEVENT
DTSTART;TZID=America/New_York:20251214T150000
DTEND;TZID=America/New_York:20251214T170000
DTSTAMP:20260424T055651
CREATED:20251114T111038Z
LAST-MODIFIED:20251214T235331Z
UID:10009267-1765724400-1765731600@mrvvillage.com
SUMMARY:Sunday Sessions: Bloodroot Gap
DESCRIPTION:Formed after a serendipitous jam session at a Vermont bluegrass festival\, Bloodroot Gap is a musical collaboration between brothers Rob and Jim McCuen (Swing Noire)\, Freeman Corey (Catamount Crossing\, Big Spike Bluegrass) and Jake Munson. \nCorey\, a fiddle player who grew up on a dairy farm in Benson\, is the son of a fine\, old-time fiddler. He started playing at age 10\, learning hundreds of Irish\, Scottish and French-Canadian fiddle tunes from his father. Corey has become one of Vermont’s most sought-after traditional fiddlers\, gracing the stage with Bob Amos and Catamount Crossing\, Big Spike Bluegrass\, The Haymakers and Spare Parts among countless other notable groups and musicians. \nThe McCuen Brothers have been performing side-by-side for nearly 30 years\, founding the bands Wiley Dobbs\, Acoustic Undermind\, and Swing Noire\, and sharing the stage with the likes of Frank Vignola\, Jamie Masefield\, Charlie Hunter and Doug Perkins. The brothers provide tight vocal harmonies and rhythmic accompaniment\, as only twins can. Rob dazzles audiences with his fluid solos on mandolin and guitar\, while Jim holds down the low end on upright bass.
URL:https://mrvvillage.com/event/sunday-sessions-bloodroot-gap/
LOCATION:Lawson’s Finest Taproom\, 155 Carroll Road\, Waitsfield\, Vermont\, 05673
CATEGORIES:At the Brewery,Tuesday Tunes,Vermont
ATTACH;FMTTYPE=image/jpeg:https://mrvvillage.com/wp-content/uploads/2025/11/Taproom_WeeklyEvents-11-1-scaled-nUiM5t-5lfJu2.jpg
ORGANIZER;CN="Lawson%26%238217%3Bs%20Finest%20Liquids":MAILTO:hello@lawsonsfinest.com
GEO:44.1878437;-72.8352541
X-APPLE-STRUCTURED-LOCATION;VALUE=URI;X-ADDRESS=Lawson’s Finest Taproom 155 Carroll Road Waitsfield Vermont 05673;X-APPLE-RADIUS=500;X-TITLE=155 Carroll Road:geo:-72.8352541,44.1878437
END:VEVENT
END:VCALENDAR