BEGIN:VCALENDAR
VERSION:2.0
PRODID:-//The Mad River Valley Village - ECPv6.0.13//NONSGML v1.0//EN
CALSCALE:GREGORIAN
METHOD:PUBLISH
X-WR-CALNAME:The Mad River Valley Village
X-ORIGINAL-URL:https://mrvvillage.com
X-WR-CALDESC:Events for The Mad River Valley Village
REFRESH-INTERVAL;VALUE=DURATION:PT1H
X-Robots-Tag:noindex
X-PUBLISHED-TTL:PT1H
BEGIN:VTIMEZONE
TZID:America/New_York
BEGIN:DAYLIGHT
TZOFFSETFROM:-0500
TZOFFSETTO:-0400
TZNAME:EDT
DTSTART:20260308T070000
END:DAYLIGHT
BEGIN:STANDARD
TZOFFSETFROM:-0400
TZOFFSETTO:-0500
TZNAME:EST
DTSTART:20261101T060000
END:STANDARD
END:VTIMEZONE
BEGIN:VEVENT
DTSTART;TZID=America/New_York:20260417T183000
DTEND;TZID=America/New_York:20260417T220000
DTSTAMP:20260422T180846
CREATED:20260407T203936Z
LAST-MODIFIED:20260417T215323Z
UID:10010083-1776450600-1776463200@mrvvillage.com
SUMMARY:Earth Night Dance Party
DESCRIPTION:WELCOME TO EARTH NIGHT\nEARTH NIGHT is about harnessing the energy of the global nightlife scene to embody sustainability\, power solutions\, and inspire action.\nWe’re excited to invite you to the 2026 9th annual edition of our global fundraising initiative\, organized by DJs For Climate Action. We are once again harnessing the power of music and nightlife to build community locally and generate impact globally
URL:https://mrvvillage.com/event/earth-night-dance-party/
LOCATION:Big Picture Theater\, 44 Carroll Road\, Waitsfield\, 05673
CATEGORIES:Arts & Entertainment,At the Brewery,Community
ATTACH;FMTTYPE=image/png:https://mrvvillage.com/wp-content/uploads/2026/04/Screenshot-2026-04-13-at-4.14.08-PM-CyDRPG.png
ORGANIZER;CN="Big%20Picture%20Theater":MAILTO:beths@madriver.com
GEO:44.1874779;-72.8335286
X-APPLE-STRUCTURED-LOCATION;VALUE=URI;X-ADDRESS=Big Picture Theater 44 Carroll Road Waitsfield 05673;X-APPLE-RADIUS=500;X-TITLE=44 Carroll Road:geo:-72.8335286,44.1874779
END:VEVENT
END:VCALENDAR