BEGIN:VCALENDAR
VERSION:2.0
PRODID:-//The Mad River Valley Village - ECPv6.0.13//NONSGML v1.0//EN
CALSCALE:GREGORIAN
METHOD:PUBLISH
X-WR-CALNAME:The Mad River Valley Village
X-ORIGINAL-URL:https://mrvvillage.com
X-WR-CALDESC:Events for The Mad River Valley Village
REFRESH-INTERVAL;VALUE=DURATION:PT1H
X-Robots-Tag:noindex
X-PUBLISHED-TTL:PT1H
BEGIN:VTIMEZONE
TZID:America/New_York
BEGIN:DAYLIGHT
TZOFFSETFROM:-0500
TZOFFSETTO:-0400
TZNAME:EDT
DTSTART:20250309T070000
END:DAYLIGHT
BEGIN:STANDARD
TZOFFSETFROM:-0400
TZOFFSETTO:-0500
TZNAME:EST
DTSTART:20251102T060000
END:STANDARD
END:VTIMEZONE
BEGIN:VEVENT
DTSTART;TZID=America/New_York:20250901T103000
DTEND;TZID=America/New_York:20250901T130000
DTSTAMP:20260425T232908
CREATED:20250824T215435Z
LAST-MODIFIED:20250901T235319Z
UID:10008909-1756722600-1756731600@mrvvillage.com
SUMMARY:Labor Day Celebration with Food\, Fun and Protest
DESCRIPTION:Sept 1 10:30–1:00 Bristol Town Green\nCome celebrate the workers who keep this country going and protest the billionaire takeover corrupting our government. Sign-making starts at 10:30 and the program of music\, food\, games for kids\, and tables with information starts at 11. \nSpeakers at 12 pm and a parade around the park at 12:30. \nThe event is in conjunction with the nation-wide protest Workers over Billionaires (https://maydaystrong.org/) and is sponsored by Northeast Addison County Indivisible (NeacIndivisible@gmail.com) with support from Indivisible Middlebury (indivisiblemiddlebury@gmail.com).
URL:https://mrvvillage.com/event/labor-day-celebration-with-food-fun-and-protest/
LOCATION:Bristol Town Green\, Bristol Town Green\, Bristol\, Vermont\, 05443\, United States
CATEGORIES:Community
ATTACH;FMTTYPE=image/jpeg:https://mrvvillage.com/wp-content/uploads/2025/08/workers-over-billionaires-VxGbZ9.jpg
ORGANIZER;CN="Northeast%20Addison%20County%20Indivisible":MAILTO:NeacIndivisible@gmail.com
GEO:44.134076;-73.079881
X-APPLE-STRUCTURED-LOCATION;VALUE=URI;X-ADDRESS=Bristol Town Green Bristol Town Green Bristol Vermont 05443 United States;X-APPLE-RADIUS=500;X-TITLE=Bristol Town Green:geo:-73.079881,44.134076
END:VEVENT
END:VCALENDAR