BEGIN:VCALENDAR
VERSION:2.0
PRODID:-//The Mad River Valley Village - ECPv6.0.13//NONSGML v1.0//EN
CALSCALE:GREGORIAN
METHOD:PUBLISH
X-WR-CALNAME:The Mad River Valley Village
X-ORIGINAL-URL:https://mrvvillage.com
X-WR-CALDESC:Events for The Mad River Valley Village
REFRESH-INTERVAL;VALUE=DURATION:PT1H
X-Robots-Tag:noindex
X-PUBLISHED-TTL:PT1H
BEGIN:VTIMEZONE
TZID:America/New_York
BEGIN:DAYLIGHT
TZOFFSETFROM:-0500
TZOFFSETTO:-0400
TZNAME:EDT
DTSTART:20250309T070000
END:DAYLIGHT
BEGIN:STANDARD
TZOFFSETFROM:-0400
TZOFFSETTO:-0500
TZNAME:EST
DTSTART:20251102T060000
END:STANDARD
END:VTIMEZONE
BEGIN:VEVENT
DTSTART;TZID=America/New_York:20250914T093000
DTEND;TZID=America/New_York:20250914T150000
DTSTAMP:20260425T232905
CREATED:20250828T182541Z
LAST-MODIFIED:20250912T210838Z
UID:10008928-1757842200-1757862000@mrvvillage.com
SUMMARY:Vermont Master Naturalist Field Day
DESCRIPTION:Friends of the Mad River and Vermont Master Naturalist are hosting a field day! \nIn the morning\, select from one of four guided walks that explore the natural history of our Valley:\n1. Scrag Mountain Town Forest – Waitsfield\n2. Boyce Town Forest Time Travel Ramble – Fayston\n3. Wetland Walk – Waitsfield\n4. Lincoln Gap Catamount Trail – Warren \nRegistration for the walks is required – https://www.friendsofthemadriver.org/vmnfieldday.html \nIn the afternoon\, we will all gather at Lareau Farm for lunch and naturalist explorations nearby.
URL:https://mrvvillage.com/event/vermont-master-naturalist-field-day/
LOCATION:Lareau Farm\, 48 Lareau Road\, Waitsfield\, VT\, 05673\, United States
CATEGORIES:Community
ATTACH;FMTTYPE=image/png:https://mrvvillage.com/wp-content/uploads/2025/08/VMN-Poster-aXq2gr.png
GEO:44.172559;-72.833919
X-APPLE-STRUCTURED-LOCATION;VALUE=URI;X-ADDRESS=Lareau Farm 48 Lareau Road Waitsfield VT 05673 United States;X-APPLE-RADIUS=500;X-TITLE=48 Lareau Road:geo:-72.833919,44.172559
END:VEVENT
END:VCALENDAR