BEGIN:VCALENDAR
VERSION:2.0
PRODID:-//The Mad River Valley Village - ECPv6.0.13//NONSGML v1.0//EN
CALSCALE:GREGORIAN
METHOD:PUBLISH
X-WR-CALNAME:The Mad River Valley Village
X-ORIGINAL-URL:https://mrvvillage.com
X-WR-CALDESC:Events for The Mad River Valley Village
REFRESH-INTERVAL;VALUE=DURATION:PT1H
X-Robots-Tag:noindex
X-PUBLISHED-TTL:PT1H
BEGIN:VTIMEZONE
TZID:America/New_York
BEGIN:DAYLIGHT
TZOFFSETFROM:-0500
TZOFFSETTO:-0400
TZNAME:EDT
DTSTART:20250309T070000
END:DAYLIGHT
BEGIN:STANDARD
TZOFFSETFROM:-0400
TZOFFSETTO:-0500
TZNAME:EST
DTSTART:20251102T060000
END:STANDARD
END:VTIMEZONE
BEGIN:VEVENT
DTSTART;TZID=America/New_York:20250920T100000
DTEND;TZID=America/New_York:20250920T130000
DTSTAMP:20260425T232908
CREATED:20250724T221245Z
LAST-MODIFIED:20250901T235524Z
UID:10008722-1758362400-1758373200@mrvvillage.com
SUMMARY:Community Volunteer Job Fair
DESCRIPTION:Get Involved: Mad River Valley Community Job Fair + Film Screening \nCivic involvement is the cornerstone of a thriving community—and here in the Mad River Valley\, there are so many ways to make a difference. Join us for the Mad River Valley Community Job Fair\, where local organizations will come together to share meaningful opportunities to get involved and give back. \nYou’ll have a chance to meet with representatives from groups doing important work in our Valley\, including:• Mad River Mentoring• Mad River Valley Chamber of Commerce• stewardMRV• MRV Rotary Club• MRV Ambulance Service• The Knotweed Project• Local Town Conservation Commissions…and more! \nTo deepen the weekend’s theme of civic engagement\, we’re also hosting a special screening of the feature documentary Join or Die—a compelling look at the half-century decline of American civic life through the work of renowned social scientist Robert Putnam\, author of Bowling Alone. The film explores three pressing questions: \n\n\nWhat makes democracy work? \n\n\nWhy is American democracy in crisis? \n\n\nMost importantly—what can we do about it? \n\n\nThe documentary features voices from Hillary Clinton\, Pete Buttigieg\, Surgeon General Vivek Murthy\, Eddie Glaude Jr.\, Raj Chetty\, Priya Parker\, and many grassroots leaders working to rebuild community across the country. \nDetails for the screening are coming soon—stay tuned! \nLet’s come together to strengthen our Valley and reimagine what civic life can look like.
URL:https://mrvvillage.com/event/community-volunteer-job-fair/
LOCATION:Waitsfield United Church of Christ Village Meeting House\, 4335 Main St\, Waitsfield\, VT\, 05673\, United States
CATEGORIES:Community
ATTACH;FMTTYPE=image/png:https://mrvvillage.com/wp-content/uploads/2025/07/Volunteer-6VCBVL.png
ORGANIZER;CN="Mad%20River%20Valley%20Chamber%20of%20Commerce":MAILTO:eric@madrivervalley.com
GEO:44.1904984;-72.8233656
X-APPLE-STRUCTURED-LOCATION;VALUE=URI;X-ADDRESS=Waitsfield United Church of Christ Village Meeting House 4335 Main St Waitsfield VT 05673 United States;X-APPLE-RADIUS=500;X-TITLE=4335 Main St:geo:-72.8233656,44.1904984
END:VEVENT
END:VCALENDAR