BEGIN:VCALENDAR
VERSION:2.0
PRODID:-//The Mad River Valley Village - ECPv6.0.13//NONSGML v1.0//EN
CALSCALE:GREGORIAN
METHOD:PUBLISH
X-ORIGINAL-URL:https://mrvvillage.com
X-WR-CALDESC:Events for The Mad River Valley Village
REFRESH-INTERVAL;VALUE=DURATION:PT1H
X-Robots-Tag:noindex
X-PUBLISHED-TTL:PT1H
BEGIN:VTIMEZONE
TZID:America/New_York
BEGIN:DAYLIGHT
TZOFFSETFROM:-0500
TZOFFSETTO:-0400
TZNAME:EDT
DTSTART:20250309T070000
END:DAYLIGHT
BEGIN:STANDARD
TZOFFSETFROM:-0400
TZOFFSETTO:-0500
TZNAME:EST
DTSTART:20251102T060000
END:STANDARD
END:VTIMEZONE
BEGIN:VEVENT
DTSTART;TZID=America/New_York:20251006T183000
DTEND;TZID=America/New_York:20251006T193000
DTSTAMP:20260425T202659
CREATED:20251006T050819Z
LAST-MODIFIED:20251006T125319Z
UID:10009078-1759775400-1759779000@mrvvillage.com
SUMMARY:Outsmarting Scammers Presentation
DESCRIPTION:Incidents of financial fraud are on the rise — and are becoming increasingly harder to detect. \nNick Hart\, Edward Jones financial advisor\, will share how to spot certain red flags\, available resources if you become a victim and steps you can take to help protect yourself.
URL:https://mrvvillage.com/event/outsmarting-scammers-presentation/
LOCATION:Joslin Memorial Library\, 4391 Main Street\, Waitsfield\, 05673
CATEGORIES:Community
ATTACH;FMTTYPE=image/png:https://mrvvillage.com/wp-content/uploads/2025/10/outsmarting-scammers-Facebook-Post-Square-nhtXPE.png
ORGANIZER;CN="Joslin%20Memorial%20Library":MAILTO:programs@joslinmemoriallibrary.com
GEO:44.1926386;-72.7798479
X-APPLE-STRUCTURED-LOCATION;VALUE=URI;X-ADDRESS=Joslin Memorial Library 4391 Main Street Waitsfield 05673;X-APPLE-RADIUS=500;X-TITLE=4391 Main Street:geo:-72.7798479,44.1926386
END:VEVENT
END:VCALENDAR