BEGIN:VCALENDAR
VERSION:2.0
PRODID:-//The Mad River Valley Village - ECPv6.0.13//NONSGML v1.0//EN
CALSCALE:GREGORIAN
METHOD:PUBLISH
X-ORIGINAL-URL:https://mrvvillage.com
X-WR-CALDESC:Events for The Mad River Valley Village
REFRESH-INTERVAL;VALUE=DURATION:PT1H
X-Robots-Tag:noindex
X-PUBLISHED-TTL:PT1H
BEGIN:VTIMEZONE
TZID:America/New_York
BEGIN:DAYLIGHT
TZOFFSETFROM:-0500
TZOFFSETTO:-0400
TZNAME:EDT
DTSTART:20250309T070000
END:DAYLIGHT
BEGIN:STANDARD
TZOFFSETFROM:-0400
TZOFFSETTO:-0500
TZNAME:EST
DTSTART:20251102T060000
END:STANDARD
END:VTIMEZONE
BEGIN:VEVENT
DTSTART;TZID=America/New_York:20251014T033000
DTEND;TZID=America/New_York:20251014T050000
DTSTAMP:20260425T202718
CREATED:20251105T093817Z
LAST-MODIFIED:20251105T180945Z
UID:10009208-1760412600-1760418000@mrvvillage.com
SUMMARY:After School Cafe
DESCRIPTION:We’re proud to partner with Hannah’s House for an after-school café—a safe\, welcoming space where high school students can unwind\, work on projects\, connect with peers\, and enjoy tea and snacks from Red Hen and other local establishments. \nSTARTING OCTOBER 14th\n3:30-5:30pm on Tuesdays and Wednesdays.
URL:https://mrvvillage.com/event/after-school-cafe-14/
LOCATION:Big Picture Theater\, 44 Carroll Road\, Waitsfield\, 05673
CATEGORIES:Community
ATTACH;FMTTYPE=image/png:https://mrvvillage.com/wp-content/uploads/2025/10/Screenshot-2025-10-21-at-3.23.01-PM-yYeZNU.png
ORGANIZER;CN="Big%20Picture%20Theater":MAILTO:beths@madriver.com
GEO:44.1874779;-72.8335286
X-APPLE-STRUCTURED-LOCATION;VALUE=URI;X-ADDRESS=Big Picture Theater 44 Carroll Road Waitsfield 05673;X-APPLE-RADIUS=500;X-TITLE=44 Carroll Road:geo:-72.8335286,44.1874779
END:VEVENT
BEGIN:VEVENT
DTSTART;TZID=America/New_York:20251014T130000
DTEND;TZID=America/New_York:20251014T140000
DTSTAMP:20260425T202718
CREATED:20250926T225521Z
LAST-MODIFIED:20251014T142317Z
UID:10009042-1760446800-1760450400@mrvvillage.com
SUMMARY:Organic Gardening Pest Control with Charlie Nardozzi
DESCRIPTION:Open to the public\, the Mountain Gardeners presents Charlie Nardozzi on October 14th\, at 1 pm at the Warren Library  (lower level). \nDoors will be open at 12:45 pm. Nardozzi will be speaking about “pests” in our gardens. Not only informative and entertaining\, Charlie is a nationally recognized garden writer\, speaker\, radio\, and television personality. He brings expert gardening information to home gardeners through radio\, television\, lectures\, the internet\, and the printed page. \nTo enable us to have an estimate of the number of people who may be attending\, we ask that you complete the short on-line form by clicking on the following link: https://forms.office.com/r/AJfXE4ZqGE
URL:https://mrvvillage.com/event/organic-gardening-pest-control-with-charlie-nardozzi/
LOCATION:Warren Public Library\, 413 Main Street\, Warren\, 05674
CATEGORIES:Community,Food & Drink
ATTACH;FMTTYPE=image/jpeg:https://mrvvillage.com/wp-content/uploads/2025/09/0723fd-lb-VSMAJB.jpg
GEO:44.118347;-72.8576681
X-APPLE-STRUCTURED-LOCATION;VALUE=URI;X-ADDRESS=Warren Public Library 413 Main Street Warren 05674;X-APPLE-RADIUS=500;X-TITLE=413 Main Street:geo:-72.8576681,44.118347
END:VEVENT
END:VCALENDAR