BEGIN:VCALENDAR
VERSION:2.0
PRODID:-//The Mad River Valley Village - ECPv6.0.13//NONSGML v1.0//EN
CALSCALE:GREGORIAN
METHOD:PUBLISH
X-ORIGINAL-URL:https://mrvvillage.com
X-WR-CALDESC:Events for The Mad River Valley Village
REFRESH-INTERVAL;VALUE=DURATION:PT1H
X-Robots-Tag:noindex
X-PUBLISHED-TTL:PT1H
BEGIN:VTIMEZONE
TZID:America/New_York
BEGIN:DAYLIGHT
TZOFFSETFROM:-0500
TZOFFSETTO:-0400
TZNAME:EDT
DTSTART:20250309T070000
END:DAYLIGHT
BEGIN:STANDARD
TZOFFSETFROM:-0400
TZOFFSETTO:-0500
TZNAME:EST
DTSTART:20251102T060000
END:STANDARD
END:VTIMEZONE
BEGIN:VEVENT
DTSTART;TZID=America/New_York:20251015T000000
DTEND;TZID=America/New_York:20251015T235959
DTSTAMP:20260425T202710
CREATED:20251011T140907Z
LAST-MODIFIED:20251015T142320Z
UID:10009100-1760486400-1760572799@mrvvillage.com
SUMMARY:How Low Can We Go? – Modern Airtightness Targets in Multifamily Housing with Nate Gusakov\, Green Mountain Enclosure Consulting\, LLC. (Yestermorrow Fall Speaker Series)
DESCRIPTION:Driven by code\, available incentives\, and forward-thinking design teams\, many of the recent or upcoming large multifamily new construction projects in Vermont are targeting (and usually achieving) airtightness levels that approach those of certified PHIUS buildings. Using examples from local case studies\, this presentation gives an overview of the current journey towards ultra-airtightness in large buildings including challenges\, lessons learned\, and thoughts on the future. \nFall Speaker Series: Innovative Homes\nThis talk is presented as part of our Fall 2025 Speaker Series. All talks are free and open to the public\, and take place Wednesday evenings from 6:30 – 8 pm. No registration required\, just drop by. \nTwice a year\, we curate a series of lectures on a design/build theme. This Fall we are tackling part two of our “Innovative Homes” series\, this time focusing in on multi-family homes. We’ll discuss different ways cities and towns are approaching sustainable housing development and affordability through case studies of unique living spaces.
URL:https://mrvvillage.com/event/how-low-can-we-go-modern-airtightness-targets-in-multifamily-housing-with-nate-gusakov-green-mountain-enclosure-consulting-llc-yestermorrow-fall-speaker-series/
LOCATION:Yestermorrow Design/Build School\, 7865 Main Street\, Waitsfield\, 05673
CATEGORIES:Community
ATTACH;FMTTYPE=image/png:https://mrvvillage.com/wp-content/uploads/2025/10/Yestermorrow_Logo_Main_V-1FE3nZ.png
ORGANIZER;CN="Yestermorrow%20Design%2FBuild%20School":MAILTO:info@yestermorrow.org
GEO:44.1490529;-72.8380281
X-APPLE-STRUCTURED-LOCATION;VALUE=URI;X-ADDRESS=Yestermorrow Design/Build School 7865 Main Street Waitsfield 05673;X-APPLE-RADIUS=500;X-TITLE=7865 Main Street:geo:-72.8380281,44.1490529
END:VEVENT
END:VCALENDAR