BEGIN:VCALENDAR
VERSION:2.0
PRODID:-//The Mad River Valley Village - ECPv6.0.13//NONSGML v1.0//EN
CALSCALE:GREGORIAN
METHOD:PUBLISH
X-WR-CALNAME:The Mad River Valley Village
X-ORIGINAL-URL:https://mrvvillage.com
X-WR-CALDESC:Events for The Mad River Valley Village
REFRESH-INTERVAL;VALUE=DURATION:PT1H
X-Robots-Tag:noindex
X-PUBLISHED-TTL:PT1H
BEGIN:VTIMEZONE
TZID:America/New_York
BEGIN:DAYLIGHT
TZOFFSETFROM:-0500
TZOFFSETTO:-0400
TZNAME:EDT
DTSTART:20250309T070000
END:DAYLIGHT
BEGIN:STANDARD
TZOFFSETFROM:-0400
TZOFFSETTO:-0500
TZNAME:EST
DTSTART:20251102T060000
END:STANDARD
END:VTIMEZONE
BEGIN:VEVENT
DTSTART;TZID=America/New_York:20251018T093000
DTEND;TZID=America/New_York:20251018T103000
DTSTAMP:20260425T202409
CREATED:20251008T053931Z
LAST-MODIFIED:20251018T143818Z
UID:10009085-1760779800-1760783400@mrvvillage.com
SUMMARY:NO KINGS Valley Rally
DESCRIPTION:Celebrate democracy with your neighbors at the corners of MAIN & BRIDGE STREETS \nNo thrones. No crowns. No kings.\nHosted by INDIVISIBLE MAD RIVER VALLEY — because IT’S UP TO US. \nThen head to MONTPELIER AT NOON for the STATE HOUSE RALLY —\nA double feature for community and country!\nSign up here: https://www.mobilize.us/nokings/event/850872/
URL:https://mrvvillage.com/event/no-kings-valley-rally/
LOCATION:Waitsfield United Church of Christ\, 4355 Main Street\, Waitsfield\, Vermont\, 05673\, United States
CATEGORIES:Community
ATTACH;FMTTYPE=image/png:https://mrvvillage.com/wp-content/uploads/2025/10/Screenshot-2025-10-16-at-10.13.03-AM-o5J7zr.png
ORGANIZER;CN="Indivisible%20Mad%20River%20Valley":MAILTO:IndivisibleMRV@gmail.com
GEO:44.1926386;-72.7798479
X-APPLE-STRUCTURED-LOCATION;VALUE=URI;X-ADDRESS=Waitsfield United Church of Christ 4355 Main Street Waitsfield Vermont 05673 United States;X-APPLE-RADIUS=500;X-TITLE=4355 Main Street:geo:-72.7798479,44.1926386
END:VEVENT
END:VCALENDAR