BEGIN:VCALENDAR
VERSION:2.0
PRODID:-//The Mad River Valley Village - ECPv6.0.13//NONSGML v1.0//EN
CALSCALE:GREGORIAN
METHOD:PUBLISH
X-ORIGINAL-URL:https://mrvvillage.com
X-WR-CALDESC:Events for The Mad River Valley Village
REFRESH-INTERVAL;VALUE=DURATION:PT1H
X-Robots-Tag:noindex
X-PUBLISHED-TTL:PT1H
BEGIN:VTIMEZONE
TZID:America/New_York
BEGIN:DAYLIGHT
TZOFFSETFROM:-0500
TZOFFSETTO:-0400
TZNAME:EDT
DTSTART:20250309T070000
END:DAYLIGHT
BEGIN:STANDARD
TZOFFSETFROM:-0400
TZOFFSETTO:-0500
TZNAME:EST
DTSTART:20251102T060000
END:STANDARD
END:VTIMEZONE
BEGIN:VEVENT
DTSTART;TZID=America/New_York:20251023T170000
DTEND;TZID=America/New_York:20251023T200000
DTSTAMP:20260425T202717
CREATED:20251021T072318Z
LAST-MODIFIED:20251023T152323Z
UID:10009122-1761238800-1761249600@mrvvillage.com
SUMMARY:American Flatbread Benefit Bake for Mad River Mentoring
DESCRIPTION:American Flatbread is generously hosting a Benefit Bake for Mad River Mentoring on Thursday\, October 23rd from 5-8 pm. For every flatbread purchased\, $5 is donated directly to our program! Not only will you enjoy a delicious meal\, but you’ll also be contributing to a great cause. Your support helps us continue our mission and make a positive impact in our community. Bring your family\, friends\, and appetite and Join us in making a difference! \n(Mad River Mentoring is a community-based mentoring program for young people\, 8-18\, in the Harwood Union School District. We carefully match adult volunteers with youth based on interests and hobbies. Mentoring pairs spend a few hours a month together hiking\, walking\, crafting\, playing games\, eating a creemee\, or other activities they’re interested in\, while also cultivating supportive relationships. For more information\, visit our website at www.madrivermentoring.org)
URL:https://mrvvillage.com/event/american-flatbread-benefit-bake-for-mad-river-mentoring-2/
LOCATION:American Flatbread\, 46 Lareau Rd\, Waitsfield\, 05673\, United States
CATEGORIES:Community,Food & Drink
ATTACH;FMTTYPE=image/png:https://mrvvillage.com/wp-content/uploads/2025/10/Su-Support-Mad-River-Mentoring4-MHd007.png
ORGANIZER;CN="Mad%20River%20Mentoring":MAILTO:info@madrivermentoring.org
GEO:44.173381;-72.835086
X-APPLE-STRUCTURED-LOCATION;VALUE=URI;X-ADDRESS=American Flatbread 46 Lareau Rd Waitsfield 05673 United States;X-APPLE-RADIUS=500;X-TITLE=46 Lareau Rd:geo:-72.835086,44.173381
END:VEVENT
END:VCALENDAR