BEGIN:VCALENDAR
VERSION:2.0
PRODID:-//The Mad River Valley Village - ECPv6.0.13//NONSGML v1.0//EN
CALSCALE:GREGORIAN
METHOD:PUBLISH
X-ORIGINAL-URL:https://mrvvillage.com
X-WR-CALDESC:Events for The Mad River Valley Village
REFRESH-INTERVAL;VALUE=DURATION:PT1H
X-Robots-Tag:noindex
X-PUBLISHED-TTL:PT1H
BEGIN:VTIMEZONE
TZID:America/New_York
BEGIN:DAYLIGHT
TZOFFSETFROM:-0500
TZOFFSETTO:-0400
TZNAME:EDT
DTSTART:20250309T070000
END:DAYLIGHT
BEGIN:STANDARD
TZOFFSETFROM:-0400
TZOFFSETTO:-0500
TZNAME:EST
DTSTART:20251102T060000
END:STANDARD
END:VTIMEZONE
BEGIN:VEVENT
DTSTART;TZID=America/New_York:20251027T183000
DTEND;TZID=America/New_York:20251027T200000
DTSTAMP:20260425T203215
CREATED:20251015T062409Z
LAST-MODIFIED:20251027T162318Z
UID:10009111-1761589800-1761595200@mrvvillage.com
SUMMARY:River Conservation in a Changing Climate: VT Reads event
DESCRIPTION:According to author John Seabrook\, whose article\, “The Floods Will Come\,” (July 28\,2025 New Yorker)\, Washington County ranked first in disaster declarations between 2011 and 2024 (mainly flood-related) and Vermont’s annual precipitation has increased six inches since the 1960s. Given this\, Seabrook foresees Vermont as a perfect laboratory for the study of intense rainfall on steep terrain and a proving ground for scientists\, policy makers\, regulators and land use planners who are on the front lines of a recurring catastrophe that traditional methods of flood prevention -dredging the river’s bottom\, armoring its sides\, berming its banks- have only made worse. \nPlease join Vermont river scientist\, Mike Kline\, for a conversation on how a deepening understanding of rivers that function well has led to a new era of river corridor and floodplain conservation to slow the flow of flood waters. When natural watersheds are functioning to store water\, there is less flood damage\, cleaner water and healthier aquatic ecosystems.
URL:https://mrvvillage.com/event/river-conservation-in-a-changing-climate-vt-reads-event/
LOCATION:Joslin Memorial Library\, 4391 Main Street\, Waitsfield\, 05673
CATEGORIES:Community
ATTACH;FMTTYPE=image/png:https://mrvvillage.com/wp-content/uploads/2025/10/2025-VT-Reads-LightPirate-Hike-Facebook-Post-Square-1X6SXf.png
GEO:44.1926386;-72.7798479
X-APPLE-STRUCTURED-LOCATION;VALUE=URI;X-ADDRESS=Joslin Memorial Library 4391 Main Street Waitsfield 05673;X-APPLE-RADIUS=500;X-TITLE=4391 Main Street:geo:-72.7798479,44.1926386
END:VEVENT
END:VCALENDAR