BEGIN:VCALENDAR
VERSION:2.0
PRODID:-//The Mad River Valley Village - ECPv6.0.13//NONSGML v1.0//EN
CALSCALE:GREGORIAN
METHOD:PUBLISH
X-WR-CALNAME:The Mad River Valley Village
X-ORIGINAL-URL:https://mrvvillage.com
X-WR-CALDESC:Events for The Mad River Valley Village
REFRESH-INTERVAL;VALUE=DURATION:PT1H
X-Robots-Tag:noindex
X-PUBLISHED-TTL:PT1H
BEGIN:VTIMEZONE
TZID:America/New_York
BEGIN:DAYLIGHT
TZOFFSETFROM:-0500
TZOFFSETTO:-0400
TZNAME:EDT
DTSTART:20250309T070000
END:DAYLIGHT
BEGIN:STANDARD
TZOFFSETFROM:-0400
TZOFFSETTO:-0500
TZNAME:EST
DTSTART:20251102T060000
END:STANDARD
END:VTIMEZONE
BEGIN:VEVENT
DTSTART;TZID=America/New_York:20251028T033000
DTEND;TZID=America/New_York:20251028T050000
DTSTAMP:20260425T170420
CREATED:20251022T073854Z
LAST-MODIFIED:20251028T163825Z
UID:10009151-1761622200-1761627600@mrvvillage.com
SUMMARY:After School Cafe
DESCRIPTION:We’re proud to partner with Hannah’s House for an after-school café—a safe\, welcoming space where high school students can unwind\, work on projects\, connect with peers\, and enjoy tea and snacks from Red Hen and other local establishments. \nSTARTING OCTOBER 14th\n3:30-5:30pm on Tuesdays and Wednesdays.
URL:https://mrvvillage.com/event/after-school-cafe-2/
LOCATION:Big Picture Theater\, 44 Carroll Road\, Waitsfield\, 05673
CATEGORIES:Community
ATTACH;FMTTYPE=image/png:https://mrvvillage.com/wp-content/uploads/2025/10/Screenshot-2025-10-21-at-3.23.01-PM-yYeZNU.png
ORGANIZER;CN="Big%20Picture%20Theater":MAILTO:beths@madriver.com
GEO:44.1874779;-72.8335286
X-APPLE-STRUCTURED-LOCATION;VALUE=URI;X-ADDRESS=Big Picture Theater 44 Carroll Road Waitsfield 05673;X-APPLE-RADIUS=500;X-TITLE=44 Carroll Road:geo:-72.8335286,44.1874779
END:VEVENT
BEGIN:VEVENT
DTSTART;TZID=America/New_York:20251028T173000
DTEND;TZID=America/New_York:20251028T190000
DTSTAMP:20260425T170420
CREATED:20251021T072351Z
LAST-MODIFIED:20251028T163825Z
UID:10009126-1761672600-1761678000@mrvvillage.com
SUMMARY:Women and Investing Seminar
DESCRIPTION:All are welcome to join Financial Planner Kasandra Reid from Greenhill Financial Partners for an inclusive conversation about the strengths and challenges that shape the dynamic landscape for women investors. \nWalk away with actionable steps to move forward – whether you’re just getting started or already on your journey we want to help empower you. \nThis free seminar is hosted by the Warren Public Library. Refreshments will be served.
URL:https://mrvvillage.com/event/women-and-investing-seminar/
LOCATION:Warren Public Library\, 413 Main Street\, Warren\, 05674
CATEGORIES:Community
ATTACH;FMTTYPE=image/png:https://mrvvillage.com/wp-content/uploads/2025/10/2025-Women-Investing-3-LC0ud8.png
ORGANIZER;CN="Warren%20Public%20Library":MAILTO:director@warrenlibrary.com
GEO:44.118347;-72.8576681
X-APPLE-STRUCTURED-LOCATION;VALUE=URI;X-ADDRESS=Warren Public Library 413 Main Street Warren 05674;X-APPLE-RADIUS=500;X-TITLE=413 Main Street:geo:-72.8576681,44.118347
END:VEVENT
END:VCALENDAR