BEGIN:VCALENDAR
VERSION:2.0
PRODID:-//The Mad River Valley Village - ECPv6.0.13//NONSGML v1.0//EN
CALSCALE:GREGORIAN
METHOD:PUBLISH
X-ORIGINAL-URL:https://mrvvillage.com
X-WR-CALDESC:Events for The Mad River Valley Village
REFRESH-INTERVAL;VALUE=DURATION:PT1H
X-Robots-Tag:noindex
X-PUBLISHED-TTL:PT1H
BEGIN:VTIMEZONE
TZID:America/New_York
BEGIN:DAYLIGHT
TZOFFSETFROM:-0500
TZOFFSETTO:-0400
TZNAME:EDT
DTSTART:20250309T070000
END:DAYLIGHT
BEGIN:STANDARD
TZOFFSETFROM:-0400
TZOFFSETTO:-0500
TZNAME:EST
DTSTART:20251102T060000
END:STANDARD
END:VTIMEZONE
BEGIN:VEVENT
DTSTART;TZID=America/New_York:20251103T183000
DTEND;TZID=America/New_York:20251103T183000
DTSTAMP:20260425T185024
CREATED:20251030T165335Z
LAST-MODIFIED:20251103T173824Z
UID:10009193-1762194600-1762194600@mrvvillage.com
SUMMARY:Get Answers to How Social Security Fits Into Your Retirement Income Plans
DESCRIPTION:Have questions about how Social Security fits into your retirement plans? \nBefore you retire\, it’s important to understand your options and the impact your decisions have on your retirement. Nick Hart\, Edward Jones Financial Advisor\, will discuss how one’s Social Security benefits fit into retirement income plans\, when one should begin taking benefits and what the implications are in terms of taxes. We encourage you to come prepared with your questions. \nRefreshments will be provided.
URL:https://mrvvillage.com/event/get-answers-to-how-social-security-fits-into-your-retirement-income-plans/
LOCATION:Joslin Memorial Library\, 4391 Main Street\, Waitsfield\, 05673
CATEGORIES:Community
ATTACH;FMTTYPE=image/png:https://mrvvillage.com/wp-content/uploads/2025/10/social-security-poster-Facebook-Post-Square-mZg35K.png
ORGANIZER;CN="Joslin%20Memorial%20Library":MAILTO:programs@joslinmemoriallibrary.com
GEO:44.1926386;-72.7798479
X-APPLE-STRUCTURED-LOCATION;VALUE=URI;X-ADDRESS=Joslin Memorial Library 4391 Main Street Waitsfield 05673;X-APPLE-RADIUS=500;X-TITLE=4391 Main Street:geo:-72.7798479,44.1926386
END:VEVENT
END:VCALENDAR