BEGIN:VCALENDAR
VERSION:2.0
PRODID:-//The Mad River Valley Village - ECPv6.0.13//NONSGML v1.0//EN
CALSCALE:GREGORIAN
METHOD:PUBLISH
X-ORIGINAL-URL:https://mrvvillage.com
X-WR-CALDESC:Events for The Mad River Valley Village
REFRESH-INTERVAL;VALUE=DURATION:PT1H
X-Robots-Tag:noindex
X-PUBLISHED-TTL:PT1H
BEGIN:VTIMEZONE
TZID:America/New_York
BEGIN:DAYLIGHT
TZOFFSETFROM:-0500
TZOFFSETTO:-0400
TZNAME:EDT
DTSTART:20250309T070000
END:DAYLIGHT
BEGIN:STANDARD
TZOFFSETFROM:-0400
TZOFFSETTO:-0500
TZNAME:EST
DTSTART:20251102T060000
END:STANDARD
END:VTIMEZONE
BEGIN:VEVENT
DTSTART;TZID=America/New_York:20251116T160000
DTEND;TZID=America/New_York:20251116T170000
DTSTAMP:20260425T203213
CREATED:20251105T093903Z
LAST-MODIFIED:20251116T195321Z
UID:10009216-1763308800-1763312400@mrvvillage.com
SUMMARY:Meeting of the Fayston Historical  Society
DESCRIPTION:Do you live in Fayston? Are interested in the history of our beautiful little mountainside town? \nWe want to rejuvenate the Fayston Historical Society\, and we invite any interested persons young and old to attend our organizational meeting\, to be held at the Fayston Town Hall from 4:00- 5:00 on Sunday\, November 16. \nCome Join us! We would love your participation! If you cannot make it but wish to be involved please RSVP to this announcement.
URL:https://mrvvillage.com/event/meeting-of-the-fayston-historical-society/
LOCATION:Fayston Town Hall\, 866 North Fayston Road\, Fayston\, VT\, 05673
CATEGORIES:Community
ATTACH;FMTTYPE=image/jpeg:https://mrvvillage.com/wp-content/uploads/2025/11/Fayston-image-WtVX3k.jpg
ORGANIZER;CN="fayston%20historical%20society":MAILTO:faystonhistoricalsociety@gmail.com
GEO:44.2199386;-72.8479762
X-APPLE-STRUCTURED-LOCATION;VALUE=URI;X-ADDRESS=Fayston Town Hall 866 North Fayston Road Fayston VT 05673;X-APPLE-RADIUS=500;X-TITLE=866 North Fayston Road:geo:-72.8479762,44.2199386
END:VEVENT
END:VCALENDAR