BEGIN:VCALENDAR
VERSION:2.0
PRODID:-//The Mad River Valley Village - ECPv6.0.13//NONSGML v1.0//EN
CALSCALE:GREGORIAN
METHOD:PUBLISH
X-WR-CALNAME:The Mad River Valley Village
X-ORIGINAL-URL:https://mrvvillage.com
X-WR-CALDESC:Events for The Mad River Valley Village
REFRESH-INTERVAL;VALUE=DURATION:PT1H
X-Robots-Tag:noindex
X-PUBLISHED-TTL:PT1H
BEGIN:VTIMEZONE
TZID:America/New_York
BEGIN:DAYLIGHT
TZOFFSETFROM:-0500
TZOFFSETTO:-0400
TZNAME:EDT
DTSTART:20250309T070000
END:DAYLIGHT
BEGIN:STANDARD
TZOFFSETFROM:-0400
TZOFFSETTO:-0500
TZNAME:EST
DTSTART:20251102T060000
END:STANDARD
END:VTIMEZONE
BEGIN:VEVENT
DTSTART;TZID=America/New_York:20251214T150000
DTEND;TZID=America/New_York:20251214T163000
DTSTAMP:20260425T102720
CREATED:20251205T145502Z
LAST-MODIFIED:20251214T235331Z
UID:10009383-1765724400-1765729800@mrvvillage.com
SUMMARY:Fayston Historical Society  Meeting
DESCRIPTION:The Fayston Historical Society is again up and running! \nPlease join us at our next meeting on Sunday\, Dec 14 from 3:00- 4:30 at the Fayston Town Hall. \nWe have lots of energy and a treasure trove of archival materials and we invite anyone who is interested to attend!
URL:https://mrvvillage.com/event/fayston-historical-society-meeting/
LOCATION:Fayston Town Hall\, 866 North Fayston Road\, Fayston\, VT\, 05673
CATEGORIES:Community
ORGANIZER;CN="fayston%20historical%20society":MAILTO:faystonhistoricalsociety@gmail.com
GEO:44.2199386;-72.8479762
X-APPLE-STRUCTURED-LOCATION;VALUE=URI;X-ADDRESS=Fayston Town Hall 866 North Fayston Road Fayston VT 05673;X-APPLE-RADIUS=500;X-TITLE=866 North Fayston Road:geo:-72.8479762,44.2199386
END:VEVENT
BEGIN:VEVENT
DTSTART;TZID=America/New_York:20251214T160000
DTEND;TZID=America/New_York:20251214T180000
DTSTAMP:20260425T102720
CREATED:20251210T230909Z
LAST-MODIFIED:20251214T235331Z
UID:10009403-1765728000-1765735200@mrvvillage.com
SUMMARY:Sacred Circle
DESCRIPTION:Once a month\, something sacred happens.\nA group of women gathers\, women who are longing for deeper connection\, softness\, strength\, truth-telling\, creativity\, and presence.\nWe come together not to perform\, but to arrive.\nTo remember who we are beneath the noise.\nTo be witnessed\, held\, and inspired by the collective energy of women who show up fully.\nOur Sacred Women’s Circle meets again this Sunday December 14th at 4:00 p.m.\nIf your heart is craving community…\nIf your body is asking for stillness and nourishment…\nIf your spirit knows it’s time to reconnect with intention…\nYou are warmly invited.\nWhether you’ve joined us before or are feeling the pull for the very first time\, there is a place waiting just for you.\nReserve your spot\, or simply reach go to the link here to sign up\nWe would love to welcome you into this beautiful container.\nWith love\,\nJennifer and Angie
URL:https://mrvvillage.com/event/sacred-circle/
LOCATION:Mountain Rose Integrated Wellness center\, 5274 Main Street\, Ste 2\, Waitsfield\, 05673
CATEGORIES:Community
ATTACH;FMTTYPE=image/jpeg:https://mrvvillage.com/wp-content/uploads/2025/12/Sacred-Circle-3-05RxEp.jpg
ORGANIZER;CN="Jennifer%20Degen":MAILTO:jennifer@bsca-vt.com
GEO:44.1926386;-72.7798479
X-APPLE-STRUCTURED-LOCATION;VALUE=URI;X-ADDRESS=Mountain Rose Integrated Wellness center 5274 Main Street Ste 2 Waitsfield 05673;X-APPLE-RADIUS=500;X-TITLE=5274 Main Street\, Ste 2:geo:-72.7798479,44.1926386
END:VEVENT
BEGIN:VEVENT
DTSTART;TZID=America/New_York:20251214T193000
DTEND;TZID=America/New_York:20251214T220000
DTSTAMP:20260425T102720
CREATED:20251205T222502Z
LAST-MODIFIED:20251214T235332Z
UID:10009388-1765740600-1765749600@mrvvillage.com
SUMMARY:Mad River Chorale Holiday Concert
DESCRIPTION:Mad River ChoraleHoliday Concert \nHope Lights The Way\nMary jane Austin\, conductor \nAlison Cerutti\, pianist \nMucis of Charpentier\, Lauridsen\, Gjeilo\, Sweelinck & Victoria \nString Quintet\, Flutes & Piano \nSing Along- Holiday Charoles & The hallelujah Choras
URL:https://mrvvillage.com/event/mad-river-chorale-holiday-concert-2/
LOCATION:United Church of Christ/Waterbury Congregational Church\, 8 North Main Street 8 North Main Street\, Waterbury\, Vermont\, 05676\, United States
CATEGORIES:Community,Family Friendly,Live Music
ATTACH;FMTTYPE=image/jpeg:https://mrvvillage.com/wp-content/uploads/2025/12/MRVChoraleHoliday2025-zr8Qhz.jpg
GEO:44.337528;-72.756371
X-APPLE-STRUCTURED-LOCATION;VALUE=URI;X-ADDRESS=United Church of Christ/Waterbury Congregational Church 8 North Main Street 8 North Main Street Waterbury Vermont 05676 United States;X-APPLE-RADIUS=500;X-TITLE=8 North Main Street 8 North Main Street:geo:-72.756371,44.337528
END:VEVENT
END:VCALENDAR