BEGIN:VCALENDAR
VERSION:2.0
PRODID:-//The Mad River Valley Village - ECPv6.0.13//NONSGML v1.0//EN
CALSCALE:GREGORIAN
METHOD:PUBLISH
X-WR-CALNAME:The Mad River Valley Village
X-ORIGINAL-URL:https://mrvvillage.com
X-WR-CALDESC:Events for The Mad River Valley Village
REFRESH-INTERVAL;VALUE=DURATION:PT1H
X-Robots-Tag:noindex
X-PUBLISHED-TTL:PT1H
BEGIN:VTIMEZONE
TZID:America/New_York
BEGIN:DAYLIGHT
TZOFFSETFROM:-0500
TZOFFSETTO:-0400
TZNAME:EDT
DTSTART:20260308T070000
END:DAYLIGHT
BEGIN:STANDARD
TZOFFSETFROM:-0400
TZOFFSETTO:-0500
TZNAME:EST
DTSTART:20261101T060000
END:STANDARD
END:VTIMEZONE
BEGIN:VEVENT
DTSTART;TZID=America/New_York:20260401T183000
DTEND;TZID=America/New_York:20260401T200000
DTSTAMP:20260422T201518
CREATED:20260309T134156Z
LAST-MODIFIED:20260401T192327Z
UID:10009986-1775068200-1775073600@mrvvillage.com
SUMMARY:Community Preservation Projects (Yestermorrow Spring Speaker Series)
DESCRIPTION:Yestermorrow Spring 2026 Speaker Series\nHistoric Preservation: Meaning\, Memory\, and Stewardship \nCommunity Preservation Projects with Ben Doyle\, Preservation Trust of VT \nPreserving a community’s historic buildings is a way to preserve its future. The Preservation Trust of Vermont is a nonprofit organization that\, for nearly 50 years\, has helped Vermonters save the historically and culturally significant buildings they love — whether that’s a general store\, a jewel-box theater\, or a humble barn. We do this work through technical assistance\, grant funding\, and steady encouragement. This presentation will provide an overview of our work and highlight some of the key considerations when undertaking community-based historic preservation projects. \nThis talk is presented as part of our Spring 2026 Speaker Series. All talks are free and open to the public\, and take place Wednesday evenings from 6:30 – 8 pm. No registration required\, just drop by. Join us in person or online via livestream on our YouTube channel.
URL:https://mrvvillage.com/event/community-preservation-projects-yestermorrow-spring-speaker-series/
LOCATION:Yestermorrow Design/Build School\, 7865 Main Street\, Waitsfield\, 05673
CATEGORIES:Community
ATTACH;FMTTYPE=image/jpeg:https://mrvvillage.com/wp-content/uploads/2026/03/round-barn-RwTQGj.jpg
ORGANIZER;CN="Yestermorrow%20Design%2FBuild%20School":MAILTO:info@yestermorrow.org
GEO:44.1490529;-72.8380281
X-APPLE-STRUCTURED-LOCATION;VALUE=URI;X-ADDRESS=Yestermorrow Design/Build School 7865 Main Street Waitsfield 05673;X-APPLE-RADIUS=500;X-TITLE=7865 Main Street:geo:-72.8380281,44.1490529
END:VEVENT
END:VCALENDAR