BEGIN:VCALENDAR
VERSION:2.0
PRODID:-//The Mad River Valley Village - ECPv6.0.13//NONSGML v1.0//EN
CALSCALE:GREGORIAN
METHOD:PUBLISH
X-WR-CALNAME:The Mad River Valley Village
X-ORIGINAL-URL:https://mrvvillage.com
X-WR-CALDESC:Events for The Mad River Valley Village
REFRESH-INTERVAL;VALUE=DURATION:PT1H
X-Robots-Tag:noindex
X-PUBLISHED-TTL:PT1H
BEGIN:VTIMEZONE
TZID:America/New_York
BEGIN:DAYLIGHT
TZOFFSETFROM:-0500
TZOFFSETTO:-0400
TZNAME:EDT
DTSTART:20250309T070000
END:DAYLIGHT
BEGIN:STANDARD
TZOFFSETFROM:-0400
TZOFFSETTO:-0500
TZNAME:EST
DTSTART:20251102T060000
END:STANDARD
END:VTIMEZONE
BEGIN:VEVENT
DTSTART;TZID=America/New_York:20251202T033000
DTEND;TZID=America/New_York:20251202T050000
DTSTAMP:20260425T102746
CREATED:20251022T074033Z
LAST-MODIFIED:20251125T205344Z
UID:10009162-1764646200-1764651600@mrvvillage.com
SUMMARY:After School Cafe
DESCRIPTION:We’re proud to partner with Hannah’s House for an after-school café—a safe\, welcoming space where high school students can unwind\, work on projects\, connect with peers\, and enjoy tea and snacks from Red Hen and other local establishments. \nSTARTING OCTOBER 14th\n3:30-5:30pm on Tuesdays and Wednesdays.
URL:https://mrvvillage.com/event/after-school-cafe-12/
LOCATION:Big Picture Theater\, 44 Carroll Road\, Waitsfield\, 05673
CATEGORIES:Community
ATTACH;FMTTYPE=image/png:https://mrvvillage.com/wp-content/uploads/2025/10/Screenshot-2025-10-21-at-3.23.01-PM-yYeZNU.png
ORGANIZER;CN="Big%20Picture%20Theater":MAILTO:beths@madriver.com
GEO:44.1874779;-72.8335286
X-APPLE-STRUCTURED-LOCATION;VALUE=URI;X-ADDRESS=Big Picture Theater 44 Carroll Road Waitsfield 05673;X-APPLE-RADIUS=500;X-TITLE=44 Carroll Road:geo:-72.8335286,44.1874779
END:VEVENT
BEGIN:VEVENT
DTSTART;TZID=America/New_York:20251203T033000
DTEND;TZID=America/New_York:20251203T050000
DTSTAMP:20260425T102746
CREATED:20251022T074033Z
LAST-MODIFIED:20251125T205357Z
UID:10009163-1764732600-1764738000@mrvvillage.com
SUMMARY:After School Cafe
DESCRIPTION:We’re proud to partner with Hannah’s House for an after-school café—a safe\, welcoming space where high school students can unwind\, work on projects\, connect with peers\, and enjoy tea and snacks from Red Hen and other local establishments. \nSTARTING OCTOBER 14th\n3:30-5:30pm on Tuesdays and Wednesdays.
URL:https://mrvvillage.com/event/after-school-cafe-13/
LOCATION:Big Picture Theater\, 44 Carroll Road\, Waitsfield\, 05673
CATEGORIES:Community
ATTACH;FMTTYPE=image/png:https://mrvvillage.com/wp-content/uploads/2025/10/Screenshot-2025-10-21-at-3.23.01-PM-yYeZNU.png
ORGANIZER;CN="Big%20Picture%20Theater":MAILTO:beths@madriver.com
GEO:44.1874779;-72.8335286
X-APPLE-STRUCTURED-LOCATION;VALUE=URI;X-ADDRESS=Big Picture Theater 44 Carroll Road Waitsfield 05673;X-APPLE-RADIUS=500;X-TITLE=44 Carroll Road:geo:-72.8335286,44.1874779
END:VEVENT
BEGIN:VEVENT
DTSTART;TZID=America/New_York:20251205T173000
DTEND;TZID=America/New_York:20251205T203000
DTSTAMP:20260425T102746
CREATED:20251125T133855Z
LAST-MODIFIED:20251205T222326Z
UID:10009339-1764955800-1764966600@mrvvillage.com
SUMMARY:VT North Ladies Night
DESCRIPTION:Welcoming ALL  ladies to the annual Ladies Night at VT North Ski Shop\nThis annual event is a great way to get together\, re-connect with your ski people and check out some great deals too!\nDoor prizes\, bubbles and nibbles\, and enter to win a pair of Hestra heated mittens.
URL:https://mrvvillage.com/event/vermont-north-ladies-night/
LOCATION:Vermont North Ski Shop\, 48 Sugarbush Access Rd\, Warren\, VT
CATEGORIES:Community,Freeski,Special Events,Sports & Recreation,Sugarbush
ATTACH;FMTTYPE=image/png:https://mrvvillage.com/wp-content/uploads/2025/11/Screenshot-2025-11-24-at-8.48.59-PM-BWSZ5Q.png
GEO:44.1378317;-72.8468019
X-APPLE-STRUCTURED-LOCATION;VALUE=URI;X-ADDRESS=Vermont North Ski Shop 48 Sugarbush Access Rd Warren VT;X-APPLE-RADIUS=500;X-TITLE=48 Sugarbush Access Rd:geo:-72.8468019,44.1378317
END:VEVENT
END:VCALENDAR