BEGIN:VCALENDAR
VERSION:2.0
PRODID:-//The Mad River Valley Village - ECPv6.0.13//NONSGML v1.0//EN
CALSCALE:GREGORIAN
METHOD:PUBLISH
X-WR-CALNAME:The Mad River Valley Village
X-ORIGINAL-URL:https://mrvvillage.com
X-WR-CALDESC:Events for The Mad River Valley Village
REFRESH-INTERVAL;VALUE=DURATION:PT1H
X-Robots-Tag:noindex
X-PUBLISHED-TTL:PT1H
BEGIN:VTIMEZONE
TZID:America/New_York
BEGIN:DAYLIGHT
TZOFFSETFROM:-0500
TZOFFSETTO:-0400
TZNAME:EDT
DTSTART:20260308T070000
END:DAYLIGHT
BEGIN:STANDARD
TZOFFSETFROM:-0400
TZOFFSETTO:-0500
TZNAME:EST
DTSTART:20261101T060000
END:STANDARD
END:VTIMEZONE
BEGIN:VEVENT
DTSTART;TZID=America/New_York:20260211T160000
DTEND;TZID=America/New_York:20260211T173000
DTSTAMP:20260422T201524
CREATED:20251222T134131Z
LAST-MODIFIED:20260211T140835Z
UID:10009528-1770825600-1770831000@mrvvillage.com
SUMMARY:Fayston Historical Society Meetings: Second Wednesday of Every Month
DESCRIPTION:The Fayston Historical Society has established regular monthly meetings one the second Wednesday of every month from 4- 5:30 at the Fayston Town Hall . Everyone is welcome! \nOur next meeting is Wed\, Jan 14 from 4- 5:30 pm \nFor more information and/or to join the FHS contact faystonhistoricalsociety@gmail.com\nLots of exciting things are happening!
URL:https://mrvvillage.com/event/fayston-historical-society-meetings-second-wednesday-of-every-month-2/
LOCATION:Fayston Town Hall\, 866 North Fayston Road\, Fayston\, VT\, 05673
CATEGORIES:Community
ATTACH;FMTTYPE=image/png:https://mrvvillage.com/wp-content/uploads/2025/12/Screenshot-2025-12-21-at-9.29.41-PM-Nco9ze.png
ORGANIZER;CN="fayston%20historical%20society":MAILTO:faystonhistoricalsociety@gmail.com
GEO:44.2199386;-72.8479762
X-APPLE-STRUCTURED-LOCATION;VALUE=URI;X-ADDRESS=Fayston Town Hall 866 North Fayston Road Fayston VT 05673;X-APPLE-RADIUS=500;X-TITLE=866 North Fayston Road:geo:-72.8479762,44.2199386
END:VEVENT
BEGIN:VEVENT
DTSTART;TZID=America/New_York:20260212T150000
DTEND;TZID=America/New_York:20260212T160000
DTSTAMP:20260422T201524
CREATED:20260127T224041Z
LAST-MODIFIED:20260127T224041Z
UID:10009802-1770908400-1770912000@mrvvillage.com
SUMMARY:COSA Volunteer Info Session
DESCRIPTION:The Barre Community Justice Center seeks volunteers for Circles of Support & Accountability (COSA). \nVolunteers meet weekly in small teams\, offering kindness\, listening\, and consistent support to people returning from incarceration within a structured\, supervised program.
URL:https://mrvvillage.com/event/cosa-volunteer-info-session/
LOCATION:Barre Community Justice Center\, 30 Keith Ave.\, Suite 1\, Barre\, Vermont\, 05641\, United States
CATEGORIES:Community
ATTACH;FMTTYPE=image/png:https://mrvvillage.com/wp-content/uploads/2026/01/Kindness-is-Magic-6ExMpX.png
ORGANIZER;CN="Barre%20Community%20Justice%20Center":MAILTO:cossa@barrecjc.org
GEO:44.1990891;-72.5013133
X-APPLE-STRUCTURED-LOCATION;VALUE=URI;X-ADDRESS=Barre Community Justice Center 30 Keith Ave. Suite 1 Barre Vermont 05641 United States;X-APPLE-RADIUS=500;X-TITLE=30 Keith Ave.\, Suite 1:geo:-72.5013133,44.1990891
END:VEVENT
BEGIN:VEVENT
DTSTART;TZID=America/New_York:20260212T150000
DTEND;TZID=America/New_York:20260212T160000
DTSTAMP:20260422T201524
CREATED:20260128T034035Z
LAST-MODIFIED:20260212T142334Z
UID:10009817-1770908400-1770912000@mrvvillage.com
SUMMARY:COSA Volunteer Info Session
DESCRIPTION:The Barre Community Justice Center seeks volunteers for Circles of Support & Accountability (COSA). \nVolunteers meet weekly in small teams\, offering kindness\, listening\, and consistent support to people returning from incarceration within a structured\, supervised program.
URL:https://mrvvillage.com/event/cosa-volunteer-info-session-2/
LOCATION:Barre Community Justice Center\, 30 Keith Ave.\, Suite 1\, Barre\, Vermont\, 05641\, United States
CATEGORIES:Community
ATTACH;FMTTYPE=image/png:https://mrvvillage.com/wp-content/uploads/2026/01/Kindness-is-Magic-6ExMpX.png
ORGANIZER;CN="Barre%20Community%20Justice%20Center":MAILTO:cossa@barrecjc.org
GEO:44.1990891;-72.5013133
X-APPLE-STRUCTURED-LOCATION;VALUE=URI;X-ADDRESS=Barre Community Justice Center 30 Keith Ave. Suite 1 Barre Vermont 05641 United States;X-APPLE-RADIUS=500;X-TITLE=30 Keith Ave.\, Suite 1:geo:-72.5013133,44.1990891
END:VEVENT
BEGIN:VEVENT
DTSTART;TZID=America/New_York:20260214T190000
DTEND;TZID=America/New_York:20260214T203000
DTSTAMP:20260422T201524
CREATED:20251116T112619Z
LAST-MODIFIED:20260214T145328Z
UID:10009282-1771095600-1771101000@mrvvillage.com
SUMMARY:Presidents Day Weekend Fireworks & Torchlight Parade
DESCRIPTION:Make sure to find your favorite spot to view our spectacular torchlight parade on Spring Fling followed by a fireworks show! Celebrate Presidents Day weekend with an awesome light show up on the mountain. Remember please leave all pets at home.
URL:https://mrvvillage.com/event/presidents-day-weekend-fireworks-torchlight-parade/
LOCATION:Lincoln Peak\, 102 Forest Drive\, Warren\, VT 05674\, USA
CATEGORIES:Arts & Entertainment,Community,Family Friendly,Food & Drink,Special Events,Sports & Recreation,Sugarbush
ATTACH;FMTTYPE=image/jpeg:https://mrvvillage.com/wp-content/uploads/2025/11/presidents-fireworks-3aNlIr.jpg
GEO:44.1359019;-72.8944139
X-APPLE-STRUCTURED-LOCATION;VALUE=URI;X-ADDRESS=Lincoln Peak 102 Forest Drive Warren VT 05674 USA;X-APPLE-RADIUS=500;X-TITLE=102 Forest Drive\, Warren\, VT 05674\, USA:geo:-72.8944139,44.1359019
END:VEVENT
END:VCALENDAR