BEGIN:VCALENDAR
VERSION:2.0
PRODID:-//The Mad River Valley Village - ECPv6.0.13//NONSGML v1.0//EN
CALSCALE:GREGORIAN
METHOD:PUBLISH
X-ORIGINAL-URL:https://mrvvillage.com
X-WR-CALDESC:Events for The Mad River Valley Village
REFRESH-INTERVAL;VALUE=DURATION:PT1H
X-Robots-Tag:noindex
X-PUBLISHED-TTL:PT1H
BEGIN:VTIMEZONE
TZID:America/New_York
BEGIN:DAYLIGHT
TZOFFSETFROM:-0500
TZOFFSETTO:-0400
TZNAME:EDT
DTSTART:20260308T070000
END:DAYLIGHT
BEGIN:STANDARD
TZOFFSETFROM:-0400
TZOFFSETTO:-0500
TZNAME:EST
DTSTART:20261101T060000
END:STANDARD
END:VTIMEZONE
BEGIN:VEVENT
DTSTART;TZID=America/New_York:20260507T183000
DTEND;TZID=America/New_York:20260507T203000
DTSTAMP:20260422T222124
CREATED:20260415T212440Z
LAST-MODIFIED:20260422T223922Z
UID:10010109-1778178600-1778185800@mrvvillage.com
SUMMARY:Called To Duty
DESCRIPTION:Thursday\, May 7th @ 6:30pm Please join us for this amazing documentary honoring the lives of Terry Brown and Dana Fuller\, two firefighters who made the ultimate sacrifice in the line of duty. Followed by a discussion and Q&A with your local fire department.\nAbout the film\nPlease join us for this amazing documentary to honor the lives of Terry Brown and Dana Fuller. This film will leave you with a deep appreciation for their ultimate sacrifice\, but also for the potential sacrifice that all firefighters are willing to accept in their duties. To protect life and property is a Firefighter’s duty. On December 29\, 1981\, at 6:12 pm\, Terry Brown and Dana Fuller were called to duty when a fire erupted at the Star Hotel in Bellows Falls\, Vermont. Using never before seen archival photos\, the producers Mike Smith\, Sue Smith\, Marty Gallagher\, and Alex Stradling tell the stories of the night of the Star Hotel Fire; the rescues of the occupants trapped by the fire\, the bravery of the firefighters\, the leadership challenge of the new Fire Chief\, and the tragic loss of two young men. \nAdditional Information\nAll entry donations will be given to Memorial Park in Bellows Falls\, VT\, to aid in the maintenance and desired improvements. The park was constructed to honor the lives of the fallen firefighters.\nThere will be local fire department representatives and members from the film available to discuss the film\, answer questions\, and reflect.\nThis film is sponsored by YOUR local fire department members\, and all entry fees will be on a “pay as you can ” basis.
URL:https://mrvvillage.com/event/called-to-duty/
LOCATION:Big Picture Theater\, 44 Carroll Road\, Waitsfield\, 05673
CATEGORIES:Arts & Entertainment,Community
ATTACH;FMTTYPE=image/png:https://mrvvillage.com/wp-content/uploads/2026/04/Screenshot-2026-04-13-at-10.01.03-AM-Z1harn.png
ORGANIZER;CN="Big%20Picture%20Theater":MAILTO:beths@madriver.com
GEO:44.1874779;-72.8335286
X-APPLE-STRUCTURED-LOCATION;VALUE=URI;X-ADDRESS=Big Picture Theater 44 Carroll Road Waitsfield 05673;X-APPLE-RADIUS=500;X-TITLE=44 Carroll Road:geo:-72.8335286,44.1874779
END:VEVENT
BEGIN:VEVENT
DTSTART;TZID=America/New_York:20260509T103000
DTEND;TZID=America/New_York:20260509T123000
DTSTAMP:20260422T222124
CREATED:20260328T182642Z
LAST-MODIFIED:20260422T223922Z
UID:10010052-1778322600-1778329800@mrvvillage.com
SUMMARY:National Civics Bee-Regional Competition
DESCRIPTION:Join the Addison County Chamber of Commerce for Addison County’s Regional Civics Bee Live Competition\, a celebration of middle school student achievement and civic knowledge. \nThis inspiring event brings our community together to support students as they showcase their understanding of government\, public policy\, and the responsibilities of citizens. Join us to cheer our communities best and brightest as they compete to move on to State and National Championships. \n📅 May 9th at 10:30am\n📍 Vergennes Opera House\n🎉 Open to the public\, RSVP required at https://forms.gle/v8Kcf3djR4V7e5Ke7 \nSpecial thanks to our wonderful sponsors:\nNational Bank of Middlebury\nCounseling Service of Addison County\, Inc.\nVermont Public\nMaple Broadband\nAddison County Independent
URL:https://mrvvillage.com/event/national-civics-bee-regional-competition/
LOCATION:Vergennes Opera House\, 120 Main Street\, Vergennes\, Vermont\, 05491\, United States
CATEGORIES:Community
ATTACH;FMTTYPE=image/png:https://mrvvillage.com/wp-content/uploads/2026/03/Civics-Bee-Regional-Live-Event1200-x-1200-px-sHYVRM.png
ORGANIZER;CN="Addison%20County%20Chamber%20of%20Commerce":MAILTO:maria@addisoncounty.com
GEO:44.1686384;-73.2509262
X-APPLE-STRUCTURED-LOCATION;VALUE=URI;X-ADDRESS=Vergennes Opera House 120 Main Street Vergennes Vermont 05491 United States;X-APPLE-RADIUS=500;X-TITLE=120 Main Street:geo:-73.2509262,44.1686384
END:VEVENT
END:VCALENDAR