BEGIN:VCALENDAR
VERSION:2.0
PRODID:-//The Mad River Valley Village - ECPv6.0.13//NONSGML v1.0//EN
CALSCALE:GREGORIAN
METHOD:PUBLISH
X-ORIGINAL-URL:https://mrvvillage.com
X-WR-CALDESC:Events for The Mad River Valley Village
REFRESH-INTERVAL;VALUE=DURATION:PT1H
X-Robots-Tag:noindex
X-PUBLISHED-TTL:PT1H
BEGIN:VTIMEZONE
TZID:America/New_York
BEGIN:DAYLIGHT
TZOFFSETFROM:-0500
TZOFFSETTO:-0400
TZNAME:EDT
DTSTART:20250309T070000
END:DAYLIGHT
BEGIN:STANDARD
TZOFFSETFROM:-0400
TZOFFSETTO:-0500
TZNAME:EST
DTSTART:20251102T060000
END:STANDARD
END:VTIMEZONE
BEGIN:VEVENT
DTSTART;TZID=America/New_York:20250402T173000
DTEND;TZID=America/New_York:20250402T203000
DTSTAMP:20260424T012214
CREATED:20250304T112521Z
LAST-MODIFIED:20250402T165323Z
UID:10007726-1743615000-1743625800@mrvvillage.com
SUMMARY:LIVE MUSIC & PUB NIGHT Featuring Red River North!
DESCRIPTION:Join us in the pub for all your favorite Mad River Barn menu items with live music from Red River North! Open 5pm – 9pm.
URL:https://mrvvillage.com/event/live-music-pub-night-featuring-red-river-north/
LOCATION:Mad River Barn
CATEGORIES:Dining,Family Friendly,Live Music,Public Welcome
ATTACH;FMTTYPE=image/png:https://mrvvillage.com/wp-content/uploads/2025/03/Music-Concert-Instagram-Post-copy-DzWWe6.tmp_-YSp4kv.tmp_.png
GEO:44.195472;-72.8915611
END:VEVENT
BEGIN:VEVENT
DTSTART;TZID=America/New_York:20250406T173000
DTEND;TZID=America/New_York:20250406T203000
DTSTAMP:20260424T012214
CREATED:20250308T121035Z
LAST-MODIFIED:20250406T175319Z
UID:10007740-1743960600-1743971400@mrvvillage.com
SUMMARY:SUNDAY LIVE MUSIC & PUB NIGHT Featuring Al’s Pals!
DESCRIPTION:Join us in the pub for all your favorite Mad River Barn menu items with live music from Al’s Pals. Open 5pm – 9pm.
URL:https://mrvvillage.com/event/sunday-live-music-pub-night-featuring-als-pals/
LOCATION:Mad River Barn
CATEGORIES:Dining,Family Friendly,Live Music,Public Welcome
ATTACH;FMTTYPE=image/png:https://mrvvillage.com/wp-content/uploads/2025/03/AlsPalsSunday-ziDM62.tmp_-KKb5Ye.tmp_.png
GEO:44.195472;-72.8915611
END:VEVENT
BEGIN:VEVENT
DTSTART;TZID=America/New_York:20250420T100000
DTEND;TZID=America/New_York:20250420T140000
DTSTAMP:20260424T012214
CREATED:20250414T160846Z
LAST-MODIFIED:20250420T195313Z
UID:10007981-1745143200-1745157600@mrvvillage.com
SUMMARY:Spring Brunch
DESCRIPTION:Join us Easter Sunday for a bountiful spring brunch buffet. \nOur brunch buffet has something for everyone: French toast\, blintzes\, scrambled eggs\, leg of lamb and smoked ham from 5th Quarter Butcher\, roasted chicken from Misty Knoll Farm\, baked cod\, smoked salmon\, fresh breads\, salads\, assorted tarts\, coconut macaroons and more…. Coffee\, tea and juice included. \n$65/adult\n$30/child (12and under)\nfull bar available at additional cost \nReservations required.\nCall or text us at 802-496-7555 for reservations
URL:https://mrvvillage.com/event/spring-brunch-2/
LOCATION:1824 House\, 2150 Main St.\, Waitsfield\, VT\, 05673
CATEGORIES:Dining,Food & Drink
ATTACH;FMTTYPE=image/png:https://mrvvillage.com/wp-content/uploads/2025/04/spring-brunch-png-uuOTvK.tmp_.png
ORGANIZER;CN="1824%20House":MAILTO:stay@1824house.com
GEO:44.1926386;-72.7798479
X-APPLE-STRUCTURED-LOCATION;VALUE=URI;X-ADDRESS=1824 House 2150 Main St. Waitsfield VT 05673;X-APPLE-RADIUS=500;X-TITLE=2150 Main St.:geo:-72.7798479,44.1926386
END:VEVENT
END:VCALENDAR