BEGIN:VCALENDAR
VERSION:2.0
PRODID:-//The Mad River Valley Village - ECPv6.0.13//NONSGML v1.0//EN
CALSCALE:GREGORIAN
METHOD:PUBLISH
X-WR-CALNAME:The Mad River Valley Village
X-ORIGINAL-URL:https://mrvvillage.com
X-WR-CALDESC:Events for The Mad River Valley Village
REFRESH-INTERVAL;VALUE=DURATION:PT1H
X-Robots-Tag:noindex
X-PUBLISHED-TTL:PT1H
BEGIN:VTIMEZONE
TZID:America/New_York
BEGIN:DAYLIGHT
TZOFFSETFROM:-0500
TZOFFSETTO:-0400
TZNAME:EDT
DTSTART:20250309T070000
END:DAYLIGHT
BEGIN:STANDARD
TZOFFSETFROM:-0400
TZOFFSETTO:-0500
TZNAME:EST
DTSTART:20251102T060000
END:STANDARD
END:VTIMEZONE
BEGIN:VEVENT
DTSTART;TZID=America/New_York:20250508T173000
DTEND;TZID=America/New_York:20250508T203000
DTSTAMP:20260423T233810
CREATED:20250409T151042Z
LAST-MODIFIED:20250508T222311Z
UID:10007964-1746725400-1746736200@mrvvillage.com
SUMMARY:LIVE MUSIC & PUB NIGHT Featuring Jaded Ravins!
DESCRIPTION:Join us in the pub for all your favorite Mad River Barn menu items with live music from Jaded Ravins! Open 5 pm – 9 pm. Live music every Thursday in the summer!
URL:https://mrvvillage.com/event/live-music-pub-night-featuring-jaded-ravins/
LOCATION:Mad River Barn
CATEGORIES:Dining,Family Friendly,Live Music,Public Welcome
ATTACH;FMTTYPE=image/png:https://mrvvillage.com/wp-content/uploads/2025/04/Music-Concert-Instagram-Post-copy-rBMTvT.tmp_-BnX1Xt.tmp_.png
GEO:44.195472;-72.8915611
END:VEVENT
BEGIN:VEVENT
DTSTART;TZID=America/New_York:20250510T123000
DTEND;TZID=America/New_York:20250510T163000
DTSTAMP:20260423T233810
CREATED:20250418T163936Z
LAST-MODIFIED:20250510T222312Z
UID:10008004-1746880200-1746894600@mrvvillage.com
SUMMARY:Mother’s Day Tea
DESCRIPTION:Treat Mom to a Very Vermon-Tea Afternoon! Saturday May 10th or Sunday May 11th\, 12:30-4:30pm. \nThe very best of a proper British Tea with a Vermont twist. You’ll be presented with savories\, scones\, and sweets\, all made in-house with an endless pot of tea of British and Vermont Artisan teas to choose from. \nHonor the mothers in your life with this delightful experience. \n$49pp/ kids $19 advance tickets\, multiple seatings
URL:https://mrvvillage.com/event/mothers-day-tea/
LOCATION:The Inn at Round Barn Farm\, 1661 East Warren Road\, Waitsfield\, VT\, 05673\, United States
CATEGORIES:Dining,Food & Drink,Special Events
ATTACH;FMTTYPE=image/png:https://mrvvillage.com/wp-content/uploads/2025/04/Teapot-Graphic-Basic-Copy-Gvv9l4.png
ORGANIZER;CN="Inn%20at%20the%20Round%20Barn%20Farm":MAILTO:alexandra@theroundbarn.com
GEO:44.1676984;-72.8112143
X-APPLE-STRUCTURED-LOCATION;VALUE=URI;X-ADDRESS=The Inn at Round Barn Farm 1661 East Warren Road Waitsfield VT 05673 United States;X-APPLE-RADIUS=500;X-TITLE=1661 East Warren Road:geo:-72.8112143,44.1676984
END:VEVENT
BEGIN:VEVENT
DTSTART;TZID=America/New_York:20250511T123000
DTEND;TZID=America/New_York:20250511T163000
DTSTAMP:20260423T233810
CREATED:20250418T163951Z
LAST-MODIFIED:20250511T222314Z
UID:10008005-1746966600-1746981000@mrvvillage.com
SUMMARY:Mother’s Day Tea
DESCRIPTION:Treat Mom to a Very Vermon-Tea Afternoon! Saturday May 10th or Sunday May 11th\, 12:30-4:30pm. \nThe very best of a proper British Tea with a Vermont twist. You’ll be presented with savories\, scones\, and sweets\, all made in-house with an endless pot of tea of British and Vermont Artisan teas to choose from. \nHonor the mothers in your life with this delightful experience. \n$49pp/ kids $19 advance tickets\, multiple seatings
URL:https://mrvvillage.com/event/mothers-day-tea-2/
LOCATION:The Inn at Round Barn Farm\, 1661 East Warren Road\, Waitsfield\, VT\, 05673\, United States
CATEGORIES:Dining,Food & Drink,Special Events
ATTACH;FMTTYPE=image/png:https://mrvvillage.com/wp-content/uploads/2025/04/Teapot-Graphic-Basic-Copy-Gvv9l4.png
ORGANIZER;CN="Inn%20at%20the%20Round%20Barn%20Farm":MAILTO:alexandra@theroundbarn.com
GEO:44.1676984;-72.8112143
X-APPLE-STRUCTURED-LOCATION;VALUE=URI;X-ADDRESS=The Inn at Round Barn Farm 1661 East Warren Road Waitsfield VT 05673 United States;X-APPLE-RADIUS=500;X-TITLE=1661 East Warren Road:geo:-72.8112143,44.1676984
END:VEVENT
BEGIN:VEVENT
DTSTART;TZID=America/New_York:20250515T173000
DTEND;TZID=America/New_York:20250515T203000
DTSTAMP:20260423T233810
CREATED:20250416T160946Z
LAST-MODIFIED:20250515T225315Z
UID:10007987-1747330200-1747341000@mrvvillage.com
SUMMARY:LIVE MUSIC & PUB NIGHT Featuring Al’s Pals!
DESCRIPTION:Join us in the pub for all your favorite Mad River Barn menu items with live music from Al’s Pals! Open 5 pm – 9 pm. Live music every Thursday in the summer!
URL:https://mrvvillage.com/event/live-music-pub-night-featuring-als-pals-10/
LOCATION:Mad River Barn
CATEGORIES:Dining,Family Friendly,Live Music,Public Welcome
ATTACH;FMTTYPE=image/png:https://mrvvillage.com/wp-content/uploads/2025/04/Music-Concert-Instagram-Post-w5m2El-dwhVun.png
GEO:44.195472;-72.8915611
END:VEVENT
BEGIN:VEVENT
DTSTART;TZID=America/New_York:20250522T173000
DTEND;TZID=America/New_York:20250522T203000
DTSTAMP:20260423T233810
CREATED:20250503T180928Z
LAST-MODIFIED:20250522T233814Z
UID:10008056-1747935000-1747945800@mrvvillage.com
SUMMARY:LIVE MUSIC & PUB NIGHT Featuring Ragged Company!
DESCRIPTION:Join us in the pub for all your favorite Mad River Barn menu items with live music from Ragged Company! Open 5 pm – 9 pm. Live music every Thursday in the summer!
URL:https://mrvvillage.com/event/live-music-pub-night-featuring-ragged-company-3/
LOCATION:Mad River Barn
CATEGORIES:Dining,Family Friendly,Live Music,Public Welcome
ATTACH;FMTTYPE=image/png:https://mrvvillage.com/wp-content/uploads/2025/05/Music-Concert-Instagram-Post-7vnWr7-PIWN0c.png
GEO:44.195472;-72.8915611
END:VEVENT
BEGIN:VEVENT
DTSTART;TZID=America/New_York:20250523T170000
DTEND;TZID=America/New_York:20250523T200000
DTSTAMP:20260423T233810
CREATED:20250520T193817Z
LAST-MODIFIED:20250523T235314Z
UID:10008129-1748019600-1748030400@mrvvillage.com
SUMMARY:Dinner is back at 1824 House
DESCRIPTION:🌿 Dinner is Back at 1824 House! 🍽️\nJoin us this weekend—Friday & Saturday from 5–8 PM—as we kick off dinner service in the heart of the Mad River Valley! \n✨ Enjoy a cozy\, flavorful evening featuring house specialties like:\n• Cioppino – a coastal classic with shrimp\, clams\, mussels & cod in aromatic broth\n• Misty Knoll Chicken – Vermont-raised\, paired with creamy corn risotto\n• 5th Qtr Pork Ribs – slow-cooked with KC BBQ sauce\, baked beans & coleslaw\n• Fried Mozzarella\, Smoked Pork Belly Burnt Ends\, & more tempting starters\n• Build your own Chimichurri Bowl with shrimp\, chicken\, skirt steak\, or smoked cauliflower \n💚 Dine with purpose: Purchase a Community Pantry Dinner for just $12 and we’ll match it—together supporting the Mad River Valley Community Pantry with two meals for every one purchased. \n📅 Limited seating—reservations highly recommended \nCome hungry. Leave happy.
URL:https://mrvvillage.com/event/dinner-is-back-at-1824-house/
LOCATION:1824 House\, 2150 Main St.\, Waitsfield\, VT\, 05673
CATEGORIES:Dining,Food & Drink
ATTACH;FMTTYPE=image/png:https://mrvvillage.com/wp-content/uploads/2025/05/1824-House_patch_green-mEMiMw.png
ORGANIZER;CN="1824%20House":MAILTO:stay@1824house.com
GEO:44.1926386;-72.7798479
X-APPLE-STRUCTURED-LOCATION;VALUE=URI;X-ADDRESS=1824 House 2150 Main St. Waitsfield VT 05673;X-APPLE-RADIUS=500;X-TITLE=2150 Main St.:geo:-72.7798479,44.1926386
END:VEVENT
BEGIN:VEVENT
DTSTART;TZID=America/New_York:20250524T170000
DTEND;TZID=America/New_York:20250524T200000
DTSTAMP:20260423T233810
CREATED:20250520T193833Z
LAST-MODIFIED:20250524T200815Z
UID:10008131-1748106000-1748116800@mrvvillage.com
SUMMARY:Dinner is back at 1824 House
DESCRIPTION:🌿 Dinner is Back at 1824 House! 🍽️\nJoin us this weekend—Friday & Saturday from 5–8 PM—as we kick off dinner service in the heart of the Mad River Valley! \n✨ Enjoy a cozy\, flavorful evening featuring house specialties like:\n• Cioppino – a coastal classic with shrimp\, clams\, mussels & cod in aromatic broth\n• Misty Knoll Chicken – Vermont-raised\, paired with creamy corn risotto\n• 5th Qtr Pork Ribs – slow-cooked with KC BBQ sauce\, baked beans & coleslaw\n• Fried Mozzarella\, Smoked Pork Belly Burnt Ends\, & more tempting starters\n• Build your own Chimichurri Bowl with shrimp\, chicken\, skirt steak\, or smoked cauliflower \n💚 Dine with purpose: Purchase a Community Pantry Dinner for just $12 and we’ll match it—together supporting the Mad River Valley Community Pantry with two meals for every one purchased. \n📅 Limited seating—reservations highly recommended \nCome hungry. Leave happy.
URL:https://mrvvillage.com/event/dinner-is-back-at-1824-house-2/
LOCATION:1824 House\, 2150 Main St.\, Waitsfield\, VT\, 05673
CATEGORIES:Dining,Food & Drink
ATTACH;FMTTYPE=image/png:https://mrvvillage.com/wp-content/uploads/2025/05/1824-House_patch_green-mEMiMw.png
ORGANIZER;CN="1824%20House":MAILTO:stay@1824house.com
GEO:44.1926386;-72.7798479
X-APPLE-STRUCTURED-LOCATION;VALUE=URI;X-ADDRESS=1824 House 2150 Main St. Waitsfield VT 05673;X-APPLE-RADIUS=500;X-TITLE=2150 Main St.:geo:-72.7798479,44.1926386
END:VEVENT
BEGIN:VEVENT
DTSTART;TZID=America/New_York:20250525T080000
DTEND;TZID=America/New_York:20250525T120000
DTSTAMP:20260423T233810
CREATED:20250518T192330Z
LAST-MODIFIED:20250525T202316Z
UID:10008121-1748160000-1748174400@mrvvillage.com
SUMMARY:Benedicts in the Barn
DESCRIPTION:Feast on Eggs Benedict (classic & creative!)\, fluffy pancakes\, house made corned beef hash\, custom omelettes\, smoked salmon toast\, and premium meats from 5th Quarter Butcher—all served in our cozy\, rustic barn setting.
URL:https://mrvvillage.com/event/benedicts-in-the-barn/
LOCATION:1824 House\, 2150 Main St.\, Waitsfield\, VT\, 05673
CATEGORIES:Dining,Food & Drink
ATTACH;FMTTYPE=image/png:https://mrvvillage.com/wp-content/uploads/2025/05/Benedicts-in-the-Barn-flyer-m5YLTr.png
ORGANIZER;CN="1824%20House":MAILTO:stay@1824house.com
GEO:44.1926386;-72.7798479
X-APPLE-STRUCTURED-LOCATION;VALUE=URI;X-ADDRESS=1824 House 2150 Main St. Waitsfield VT 05673;X-APPLE-RADIUS=500;X-TITLE=2150 Main St.:geo:-72.7798479,44.1926386
END:VEVENT
BEGIN:VEVENT
DTSTART;TZID=America/New_York:20250529T173000
DTEND;TZID=America/New_York:20250529T203000
DTSTAMP:20260423T233810
CREATED:20250430T173959Z
LAST-MODIFIED:20250529T202316Z
UID:10008044-1748539800-1748550600@mrvvillage.com
SUMMARY:LIVE MUSIC & PUB NIGHT Featuring Al’s Pals!
DESCRIPTION:Join us in the pub for all your favorite Mad River Barn menu items with live music from Al’s Pals! Open 5 pm – 9 pm. Live music every Thursday in the summer!
URL:https://mrvvillage.com/event/live-music-pub-night-featuring-als-pals-11/
LOCATION:Mad River Barn
CATEGORIES:Dining,Family Friendly,Live Music,Public Welcome
ATTACH;FMTTYPE=image/png:https://mrvvillage.com/wp-content/uploads/2025/04/Music-Concert-Instagram-Post-w5m2El-dwhVun.png
GEO:44.195472;-72.8915611
END:VEVENT
END:VCALENDAR