BEGIN:VCALENDAR
VERSION:2.0
PRODID:-//The Mad River Valley Village - ECPv6.0.13//NONSGML v1.0//EN
CALSCALE:GREGORIAN
METHOD:PUBLISH
X-WR-CALNAME:The Mad River Valley Village
X-ORIGINAL-URL:https://mrvvillage.com
X-WR-CALDESC:Events for The Mad River Valley Village
REFRESH-INTERVAL;VALUE=DURATION:PT1H
X-Robots-Tag:noindex
X-PUBLISHED-TTL:PT1H
BEGIN:VTIMEZONE
TZID:America/New_York
BEGIN:DAYLIGHT
TZOFFSETFROM:-0500
TZOFFSETTO:-0400
TZNAME:EDT
DTSTART:20250309T070000
END:DAYLIGHT
BEGIN:STANDARD
TZOFFSETFROM:-0400
TZOFFSETTO:-0500
TZNAME:EST
DTSTART:20251102T060000
END:STANDARD
END:VTIMEZONE
BEGIN:VEVENT
DTSTART;TZID=America/New_York:20250902T160000
DTEND;TZID=America/New_York:20250902T220000
DTSTAMP:20260423T171001
CREATED:20250703T091425Z
LAST-MODIFIED:20250802T121156Z
UID:10008558-1756828800-1756850400@mrvvillage.com
SUMMARY:Taco Tuesday
DESCRIPTION:Taco Tuesday. Great Specials on Food and Drink. $3 Tacos\, $6 Margaritas. \nEvery Tuesday\, in addition to our full menu.
URL:https://mrvvillage.com/event/taco-tuesday-16/
LOCATION:Hyde Away\, 1428 Mill Brook Rd\, Waitsfield\, 05673
CATEGORIES:Dining,Food & Drink
ATTACH;FMTTYPE=image/jpeg:https://mrvvillage.com/wp-content/uploads/2025/07/taco-tuesday-mJvDjK.jpg
ORGANIZER;CN="Hyde%20Away":MAILTO:hydeaway@madriver.com
GEO:44.1839313;-72.8706225
X-APPLE-STRUCTURED-LOCATION;VALUE=URI;X-ADDRESS=Hyde Away 1428 Mill Brook Rd Waitsfield 05673;X-APPLE-RADIUS=500;X-TITLE=1428 Mill Brook Rd:geo:-72.8706225,44.1839313
END:VEVENT
BEGIN:VEVENT
DTSTART;TZID=America/New_York:20250904T173000
DTEND;TZID=America/New_York:20250904T203000
DTSTAMP:20260423T171001
CREATED:20250807T132610Z
LAST-MODIFIED:20250904T195323Z
UID:10008809-1757007000-1757017800@mrvvillage.com
SUMMARY:LIVE MUSIC & PUB NIGHT Featuring Jay Burwick!
DESCRIPTION:Join us in the pub for all your favorite Mad River Barn menu items with live music from Jay Burwick! Open 5 pm – 9 pm. Live music every Thursday in the summer!
URL:https://mrvvillage.com/event/live-music-pub-night-featuring-jay-burwick/
LOCATION:Mad River Barn
CATEGORIES:Dining,Family Friendly,Live Music,Public Welcome
ATTACH;FMTTYPE=image/png:https://mrvvillage.com/wp-content/uploads/2025/09/Copy-of-Music-Concert-Instagram-Post-1-O2SdZl-F4KC9C.png
GEO:44.195472;-72.8915611
END:VEVENT
BEGIN:VEVENT
DTSTART;TZID=America/New_York:20250909T160000
DTEND;TZID=America/New_York:20250909T220000
DTSTAMP:20260423T171001
CREATED:20250703T091439Z
LAST-MODIFIED:20250802T121224Z
UID:10008560-1757433600-1757455200@mrvvillage.com
SUMMARY:Taco Tuesday
DESCRIPTION:Taco Tuesday. Great Specials on Food and Drink. $3 Tacos\, $6 Margaritas. \nEvery Tuesday\, in addition to our full menu.
URL:https://mrvvillage.com/event/taco-tuesday-17/
LOCATION:Hyde Away\, 1428 Mill Brook Rd\, Waitsfield\, 05673
CATEGORIES:Dining,Food & Drink
ATTACH;FMTTYPE=image/jpeg:https://mrvvillage.com/wp-content/uploads/2025/07/taco-tuesday-mJvDjK.jpg
ORGANIZER;CN="Hyde%20Away":MAILTO:hydeaway@madriver.com
GEO:44.1839313;-72.8706225
X-APPLE-STRUCTURED-LOCATION;VALUE=URI;X-ADDRESS=Hyde Away 1428 Mill Brook Rd Waitsfield 05673;X-APPLE-RADIUS=500;X-TITLE=1428 Mill Brook Rd:geo:-72.8706225,44.1839313
END:VEVENT
BEGIN:VEVENT
DTSTART;TZID=America/New_York:20250911T173000
DTEND;TZID=America/New_York:20250911T203000
DTSTAMP:20260423T171001
CREATED:20250814T151156Z
LAST-MODIFIED:20250911T210818Z
UID:10008870-1757611800-1757622600@mrvvillage.com
SUMMARY:LIVE MUSIC & PUB NIGHT Featuring Ragged Company!
DESCRIPTION:Join us in the pub for all your favorite Mad River Barn menu items with live music from Ragged Company! Open 5 pm – 9 pm. Live music every Thursday in the summer!
URL:https://mrvvillage.com/event/live-music-pub-night-featuring-ragged-company-6/
LOCATION:Mad River Barn
CATEGORIES:Dining,Family Friendly,Live Music,Public Welcome
ATTACH;FMTTYPE=image/png:https://mrvvillage.com/wp-content/uploads/2025/05/Music-Concert-Instagram-Post-7vnWr7-PIWN0c.png
GEO:44.195472;-72.8915611
END:VEVENT
BEGIN:VEVENT
DTSTART;TZID=America/New_York:20250916T160000
DTEND;TZID=America/New_York:20250916T220000
DTSTAMP:20260423T171001
CREATED:20250703T091452Z
LAST-MODIFIED:20250802T121237Z
UID:10008562-1758038400-1758060000@mrvvillage.com
SUMMARY:Taco Tuesday
DESCRIPTION:Taco Tuesday. Great Specials on Food and Drink. $3 Tacos\, $6 Margaritas. \nEvery Tuesday\, in addition to our full menu.
URL:https://mrvvillage.com/event/taco-tuesday-18/
LOCATION:Hyde Away\, 1428 Mill Brook Rd\, Waitsfield\, 05673
CATEGORIES:Dining,Food & Drink
ATTACH;FMTTYPE=image/jpeg:https://mrvvillage.com/wp-content/uploads/2025/07/taco-tuesday-mJvDjK.jpg
ORGANIZER;CN="Hyde%20Away":MAILTO:hydeaway@madriver.com
GEO:44.1839313;-72.8706225
X-APPLE-STRUCTURED-LOCATION;VALUE=URI;X-ADDRESS=Hyde Away 1428 Mill Brook Rd Waitsfield 05673;X-APPLE-RADIUS=500;X-TITLE=1428 Mill Brook Rd:geo:-72.8706225,44.1839313
END:VEVENT
BEGIN:VEVENT
DTSTART;TZID=America/New_York:20250918T173000
DTEND;TZID=America/New_York:20250918T203000
DTSTAMP:20260423T171001
CREATED:20250821T165637Z
LAST-MODIFIED:20250918T213823Z
UID:10008888-1758216600-1758227400@mrvvillage.com
SUMMARY:LIVE MUSIC & PUB NIGHT Featuring Jenny and the Bets!
DESCRIPTION:Join us in the pub for all your favorite Mad River Barn menu items with live music from Jenny and the Bets! Open 5 pm – 9 pm. Live music every Thursday in the summer!
URL:https://mrvvillage.com/event/live-music-pub-night-featuring-jenny-and-the-bets/
LOCATION:Mad River Barn
CATEGORIES:Dining,Family Friendly,Live Music,Public Welcome
ATTACH;FMTTYPE=image/png:https://mrvvillage.com/wp-content/uploads/2025/09/Music-Concert-Instagram-Post-BcblaU-YhPUVR.png
GEO:44.195472;-72.8915611
END:VEVENT
BEGIN:VEVENT
DTSTART;TZID=America/New_York:20250923T160000
DTEND;TZID=America/New_York:20250923T220000
DTSTAMP:20260423T171001
CREATED:20250703T091505Z
LAST-MODIFIED:20250802T121251Z
UID:10008564-1758643200-1758664800@mrvvillage.com
SUMMARY:Taco Tuesday
DESCRIPTION:Taco Tuesday. Great Specials on Food and Drink. $3 Tacos\, $6 Margaritas. \nEvery Tuesday\, in addition to our full menu.
URL:https://mrvvillage.com/event/taco-tuesday-19/
LOCATION:Hyde Away\, 1428 Mill Brook Rd\, Waitsfield\, 05673
CATEGORIES:Dining,Food & Drink
ATTACH;FMTTYPE=image/jpeg:https://mrvvillage.com/wp-content/uploads/2025/07/taco-tuesday-mJvDjK.jpg
ORGANIZER;CN="Hyde%20Away":MAILTO:hydeaway@madriver.com
GEO:44.1839313;-72.8706225
X-APPLE-STRUCTURED-LOCATION;VALUE=URI;X-ADDRESS=Hyde Away 1428 Mill Brook Rd Waitsfield 05673;X-APPLE-RADIUS=500;X-TITLE=1428 Mill Brook Rd:geo:-72.8706225,44.1839313
END:VEVENT
BEGIN:VEVENT
DTSTART;TZID=America/New_York:20250925T173000
DTEND;TZID=America/New_York:20250925T203000
DTSTAMP:20260423T171001
CREATED:20250827T224107Z
LAST-MODIFIED:20250925T223825Z
UID:10008923-1758821400-1758832200@mrvvillage.com
SUMMARY:LIVE MUSIC & PUB NIGHT Featuring Al’s Pals!
DESCRIPTION:Join us in the pub for all your favorite Mad River Barn menu items with live music from Al’s Pals! Open 5 pm – 9 pm. Live music every Thursday in the summer!
URL:https://mrvvillage.com/event/live-music-pub-night-featuring-als-pals-19/
LOCATION:Mad River Barn
CATEGORIES:Dining,Family Friendly,Live Music,Public Welcome
ATTACH;FMTTYPE=image/png:https://mrvvillage.com/wp-content/uploads/2025/04/Music-Concert-Instagram-Post-w5m2El-dwhVun.png
GEO:44.195472;-72.8915611
END:VEVENT
BEGIN:VEVENT
DTSTART;TZID=America/New_York:20250927T170000
DTEND;TZID=America/New_York:20250927T220000
DTSTAMP:20260423T171001
CREATED:20250812T185727Z
LAST-MODIFIED:20250911T014135Z
UID:10008838-1758992400-1759010400@mrvvillage.com
SUMMARY:The Mad River Table at Knoll Farm
DESCRIPTION:Knoll Farm’s in-house Chef Matthew Casatta prepares a culinary experience in the historic McLaughlin Barn. Featuring a menu curated around the Mad River Valley’s abundant offerings\, the Mad River Table is an intimate gathering designed to highlight the magic of Knoll Farm’s idyllic setting overlooking the valley. Farm and garden-fresh fruits and vegetables will complement a hyper-locally sourced four-course menu. \nGuests are invited to arrive early at 5 pm to explore the grounds and linger after dinner around a fire\, weather permitting. Guests are also invited to bring wine or beer\, as the farm does not serve alcohol. \nMaximum capacity: 30 attendees.
URL:https://mrvvillage.com/event/the-mad-river-table-at-knoll-farm/
LOCATION:Knoll Farm\, 700 Bragg Hill\, Fayston\, Vermont\, 05673
CATEGORIES:Dining,Food & Drink
ATTACH;FMTTYPE=image/png:https://mrvvillage.com/wp-content/uploads/2025/08/Screenshot-2025-08-12-at-11.47.46-AM-ctvlia.png
GEO:44.1892696;-72.8462829
X-APPLE-STRUCTURED-LOCATION;VALUE=URI;X-ADDRESS=Knoll Farm 700 Bragg Hill Fayston Vermont 05673;X-APPLE-RADIUS=500;X-TITLE=700 Bragg Hill:geo:-72.8462829,44.1892696
END:VEVENT
BEGIN:VEVENT
DTSTART;TZID=America/New_York:20250928T080000
DTEND;TZID=America/New_York:20250928T120000
DTSTAMP:20260423T171001
CREATED:20250630T082944Z
LAST-MODIFIED:20250722T214320Z
UID:10008525-1759046400-1759060800@mrvvillage.com
SUMMARY:Benedicts in the Barn
DESCRIPTION:Join us on the 4th Sunday of the month\, May through October\, as we celebrate breakfast in the heart of the Mad River Valley. \nFeast on Eggs Benedict (classic & creative!)\, fluffy pancakes\, house made corned beef hash\, custom omelettes\, smoked salmon toast\, and premium meats from 5th Quarter Butcher—all served in our cozy\, rustic barn setting. \n📅 2025 Dates:\nMay 25 • June 22 • July 27 • August 24 • September 28 • October 26 \n☕ Come hungry. Leave happy.
URL:https://mrvvillage.com/event/benedicts-in-the-barn-5/
LOCATION:1824 House\, 2150 Main St.\, Waitsfield\, VT\, 05673
CATEGORIES:Dining,Food & Drink
ATTACH;FMTTYPE=image/png:https://mrvvillage.com/wp-content/uploads/2025/06/Benedicts-in-the-Barn-flyer-p69vBq.png
ORGANIZER;CN="1824%20House":MAILTO:stay@1824house.com
GEO:44.1926386;-72.7798479
X-APPLE-STRUCTURED-LOCATION;VALUE=URI;X-ADDRESS=1824 House 2150 Main St. Waitsfield VT 05673;X-APPLE-RADIUS=500;X-TITLE=2150 Main St.:geo:-72.7798479,44.1926386
END:VEVENT
BEGIN:VEVENT
DTSTART;TZID=America/New_York:20250930T160000
DTEND;TZID=America/New_York:20250930T220000
DTSTAMP:20260423T171001
CREATED:20250703T091534Z
LAST-MODIFIED:20250802T121305Z
UID:10008566-1759248000-1759269600@mrvvillage.com
SUMMARY:Taco Tuesday
DESCRIPTION:Taco Tuesday. Great Specials on Food and Drink. $3 Tacos\, $6 Margaritas. \nEvery Tuesday\, in addition to our full menu.
URL:https://mrvvillage.com/event/taco-tuesday-20/
LOCATION:Hyde Away\, 1428 Mill Brook Rd\, Waitsfield\, 05673
CATEGORIES:Dining,Food & Drink
ATTACH;FMTTYPE=image/jpeg:https://mrvvillage.com/wp-content/uploads/2025/07/taco-tuesday-mJvDjK.jpg
ORGANIZER;CN="Hyde%20Away":MAILTO:hydeaway@madriver.com
GEO:44.1839313;-72.8706225
X-APPLE-STRUCTURED-LOCATION;VALUE=URI;X-ADDRESS=Hyde Away 1428 Mill Brook Rd Waitsfield 05673;X-APPLE-RADIUS=500;X-TITLE=1428 Mill Brook Rd:geo:-72.8706225,44.1839313
END:VEVENT
END:VCALENDAR