BEGIN:VCALENDAR
VERSION:2.0
PRODID:-//The Mad River Valley Village - ECPv6.0.13//NONSGML v1.0//EN
CALSCALE:GREGORIAN
METHOD:PUBLISH
X-WR-CALNAME:The Mad River Valley Village
X-ORIGINAL-URL:https://mrvvillage.com
X-WR-CALDESC:Events for The Mad River Valley Village
REFRESH-INTERVAL;VALUE=DURATION:PT1H
X-Robots-Tag:noindex
X-PUBLISHED-TTL:PT1H
BEGIN:VTIMEZONE
TZID:America/New_York
BEGIN:DAYLIGHT
TZOFFSETFROM:-0500
TZOFFSETTO:-0400
TZNAME:EDT
DTSTART:20250309T070000
END:DAYLIGHT
BEGIN:STANDARD
TZOFFSETFROM:-0400
TZOFFSETTO:-0500
TZNAME:EST
DTSTART:20251102T060000
END:STANDARD
END:VTIMEZONE
BEGIN:VEVENT
DTSTART;TZID=America/New_York:20250705T173000
DTEND;TZID=America/New_York:20250705T203000
DTSTAMP:20260423T234107
CREATED:20250606T222608Z
LAST-MODIFIED:20250705T172325Z
UID:10008290-1751736600-1751747400@mrvvillage.com
SUMMARY:LIVE MUSIC & PUB NIGHT Running In Circles!
DESCRIPTION:Happy 4th of July Weekend! Join us in the pub for all your favorite Mad River Barn menu items\, plus a special Saturday live music set from Running In Circles! Open 5 pm – 9 pm. Live music every Thursday in the summer!
URL:https://mrvvillage.com/event/live-music-pub-night-running-in-circles/
LOCATION:Mad River Barn
CATEGORIES:Dining,Family Friendly,Live Music,Public Welcome
ATTACH;FMTTYPE=image/png:https://mrvvillage.com/wp-content/uploads/2025/06/Music-Concert-Instagram-Post-copy-1-jUwaRe-HYqqrK.png
GEO:44.195472;-72.8915611
END:VEVENT
END:VCALENDAR