BEGIN:VCALENDAR
VERSION:2.0
PRODID:-//The Mad River Valley Village - ECPv6.0.13//NONSGML v1.0//EN
CALSCALE:GREGORIAN
METHOD:PUBLISH
X-ORIGINAL-URL:https://mrvvillage.com
X-WR-CALDESC:Events for The Mad River Valley Village
REFRESH-INTERVAL;VALUE=DURATION:PT1H
X-Robots-Tag:noindex
X-PUBLISHED-TTL:PT1H
BEGIN:VTIMEZONE
TZID:America/New_York
BEGIN:DAYLIGHT
TZOFFSETFROM:-0500
TZOFFSETTO:-0400
TZNAME:EDT
DTSTART:20250309T070000
END:DAYLIGHT
BEGIN:STANDARD
TZOFFSETFROM:-0400
TZOFFSETTO:-0500
TZNAME:EST
DTSTART:20251102T060000
END:STANDARD
END:VTIMEZONE
BEGIN:VEVENT
DTSTART;TZID=America/New_York:20250708T160000
DTEND;TZID=America/New_York:20250708T220000
DTSTAMP:20260424T030025
CREATED:20250703T090923Z
LAST-MODIFIED:20250708T180836Z
UID:10008538-1751990400-1752012000@mrvvillage.com
SUMMARY:Taco Tuesday
DESCRIPTION:Taco Tuesday. Great Specials on Food and Drink. $3 Tacos\, $6 Margaritas. \nEvery Tuesday\, in addition to our full menu.
URL:https://mrvvillage.com/event/taco-tuesday-8/
LOCATION:Hyde Away\, 1428 Mill Brook Rd\, Waitsfield\, 05673
CATEGORIES:Dining,Food & Drink
ATTACH;FMTTYPE=image/jpeg:https://mrvvillage.com/wp-content/uploads/2025/07/taco-tuesday-mJvDjK.jpg
ORGANIZER;CN="Hyde%20Away":MAILTO:hydeaway@madriver.com
GEO:44.1839313;-72.8706225
X-APPLE-STRUCTURED-LOCATION;VALUE=URI;X-ADDRESS=Hyde Away 1428 Mill Brook Rd Waitsfield 05673;X-APPLE-RADIUS=500;X-TITLE=1428 Mill Brook Rd:geo:-72.8706225,44.1839313
END:VEVENT
BEGIN:VEVENT
DTSTART;TZID=America/New_York:20250710T173000
DTEND;TZID=America/New_York:20250710T203000
DTSTAMP:20260424T030025
CREATED:20250611T234059Z
LAST-MODIFIED:20250710T183829Z
UID:10008313-1752168600-1752179400@mrvvillage.com
SUMMARY:LIVE MUSIC & PUB NIGHT Featuring Ragged Company!
DESCRIPTION:Join us in the pub for all your favorite Mad River Barn menu items with live music from Ragged Company! Open 5 pm – 9 pm. Live music every Thursday in the summer!
URL:https://mrvvillage.com/event/live-music-pub-night-featuring-ragged-company-5/
LOCATION:Mad River Barn
CATEGORIES:Dining,Family Friendly,Live Music,Public Welcome
ATTACH;FMTTYPE=image/png:https://mrvvillage.com/wp-content/uploads/2025/05/Music-Concert-Instagram-Post-7vnWr7-PIWN0c.png
GEO:44.195472;-72.8915611
END:VEVENT
BEGIN:VEVENT
DTSTART;TZID=America/New_York:20250712T173000
DTEND;TZID=America/New_York:20250712T193000
DTSTAMP:20260424T030025
CREATED:20250708T180933Z
LAST-MODIFIED:20250712T190838Z
UID:10008602-1752341400-1752348600@mrvvillage.com
SUMMARY:MAD CARBO DINNER a Mad Marathon Event Open to All
DESCRIPTION:PRE-RACE CARB DINNER\nSaturday\, July 12 | 5:30-7:30PM |\n$35 per guest pre-sell| $40 at the door\nHosted by Chuck Engle\, the Marathon Junkie\nGuest Speakers Bart Yasso and Aaron Burros\nDubbed the best pre-race carb load dinner! \nAll You Can Eat Buffet\nFeaturing healthy grains\, vegetables\, lean proteins\, pastas\, and more. A modern carb dinner for runners with options for everyone\, including runners with dietary considerations. \n$35 per person PRESELL\n$40 at the door\n$15 kids under 12\nplus VT State Meals Tax \nScroll Down to Buy Your Tickets \nPLEASE EMAIL WITH ANY QUESTIONS\nkim@theroundbarn.com\n802-496-2276
URL:https://mrvvillage.com/event/mad-carbo-dinner-a-mad-marathon-event-open-to-all/
LOCATION:Inn at the Round Barn\, 1661 East Warren Rd\, Waitsfield 1661 East Warren Rd\, Waitsfield\, Vermont\, 05673\, United States
CATEGORIES:Dining,Food & Drink
ATTACH;FMTTYPE=image/png:https://mrvvillage.com/wp-content/uploads/2025/07/MAD-CARBO-DINNER-1-98SBQ2.png
ORGANIZER;CN="Inn%20at%20the%20Round%20Barn%20Farm":MAILTO:alexandra@theroundbarn.com
GEO:44.1676648;-72.811235
X-APPLE-STRUCTURED-LOCATION;VALUE=URI;X-ADDRESS=Inn at the Round Barn 1661 East Warren Rd Waitsfield 1661 East Warren Rd Waitsfield Vermont 05673 United States;X-APPLE-RADIUS=500;X-TITLE=1661 East Warren Rd\, Waitsfield 1661 East Warren Rd:geo:-72.811235,44.1676648
END:VEVENT
END:VCALENDAR