BEGIN:VCALENDAR
VERSION:2.0
PRODID:-//The Mad River Valley Village - ECPv6.0.13//NONSGML v1.0//EN
CALSCALE:GREGORIAN
METHOD:PUBLISH
X-ORIGINAL-URL:https://mrvvillage.com
X-WR-CALDESC:Events for The Mad River Valley Village
REFRESH-INTERVAL;VALUE=DURATION:PT1H
X-Robots-Tag:noindex
X-PUBLISHED-TTL:PT1H
BEGIN:VTIMEZONE
TZID:America/New_York
BEGIN:DAYLIGHT
TZOFFSETFROM:-0500
TZOFFSETTO:-0400
TZNAME:EDT
DTSTART:20250309T070000
END:DAYLIGHT
BEGIN:STANDARD
TZOFFSETFROM:-0400
TZOFFSETTO:-0500
TZNAME:EST
DTSTART:20251102T060000
END:STANDARD
END:VTIMEZONE
BEGIN:VEVENT
DTSTART;TZID=America/New_York:20250819T160000
DTEND;TZID=America/New_York:20250819T220000
DTSTAMP:20260424T030036
CREATED:20250703T091332Z
LAST-MODIFIED:20250802T121017Z
UID:10008553-1755619200-1755640800@mrvvillage.com
SUMMARY:Taco Tuesday
DESCRIPTION:Taco Tuesday. Great Specials on Food and Drink. $3 Tacos\, $6 Margaritas. \nEvery Tuesday\, in addition to our full menu.
URL:https://mrvvillage.com/event/taco-tuesday-14/
LOCATION:Hyde Away\, 1428 Mill Brook Rd\, Waitsfield\, 05673
CATEGORIES:Dining,Food & Drink
ATTACH;FMTTYPE=image/jpeg:https://mrvvillage.com/wp-content/uploads/2025/07/taco-tuesday-mJvDjK.jpg
ORGANIZER;CN="Hyde%20Away":MAILTO:hydeaway@madriver.com
GEO:44.1839313;-72.8706225
X-APPLE-STRUCTURED-LOCATION;VALUE=URI;X-ADDRESS=Hyde Away 1428 Mill Brook Rd Waitsfield 05673;X-APPLE-RADIUS=500;X-TITLE=1428 Mill Brook Rd:geo:-72.8706225,44.1839313
END:VEVENT
BEGIN:VEVENT
DTSTART;TZID=America/New_York:20250821T173000
DTEND;TZID=America/New_York:20250821T203000
DTSTAMP:20260424T030036
CREATED:20250723T215606Z
LAST-MODIFIED:20250821T210825Z
UID:10008717-1755797400-1755808200@mrvvillage.com
SUMMARY:LIVE MUSIC & PUB NIGHT Featuring Jaded Ravins!
DESCRIPTION:Join us in the pub for all your favorite Mad River Barn menu items with live music from Jaded Ravins! Open 5 pm – 9 pm. Live music every Thursday in the summer!
URL:https://mrvvillage.com/event/live-music-pub-night-featuring-jaded-ravins-2/
LOCATION:Mad River Barn
CATEGORIES:Dining,Family Friendly,Live Music,Public Welcome
ATTACH;FMTTYPE=image/png:https://mrvvillage.com/wp-content/uploads/2025/04/Music-Concert-Instagram-Post-copy-rBMTvT.tmp_-BnX1Xt.tmp_.png
GEO:44.195472;-72.8915611
END:VEVENT
BEGIN:VEVENT
DTSTART;TZID=America/New_York:20250824T080000
DTEND;TZID=America/New_York:20250824T120000
DTSTAMP:20260424T030036
CREATED:20250619T054251Z
LAST-MODIFIED:20250722T214145Z
UID:10008359-1756022400-1756036800@mrvvillage.com
SUMMARY:Benedicts in the Barn
DESCRIPTION:Join us on the 4th Sunday of the month\, May through October\, as we celebrate breakfast in the heart of the Mad River Valley. \nFeast on Eggs Benedict (classic & creative!)\, fluffy pancakes\, house made corned beef hash\, custom omelettes\, smoked salmon toast\, and premium meats from 5th Quarter Butcher—all served in our cozy\, rustic barn setting. \n📅 2025 Dates:\nMay 25 • June 22 • July 27 • August 24 • September 28 • October 26 \n☕ Come hungry. Leave happy.
URL:https://mrvvillage.com/event/benedicts-in-the-barn-4/
LOCATION:1824 House\, 2150 Main St.\, Waitsfield\, VT\, 05673
CATEGORIES:Dining,Food & Drink
ATTACH;FMTTYPE=image/png:https://mrvvillage.com/wp-content/uploads/2025/06/Benedicts-in-the-Barn-flyer-p69vBq.png
ORGANIZER;CN="1824%20House":MAILTO:stay@1824house.com
GEO:44.1926386;-72.7798479
X-APPLE-STRUCTURED-LOCATION;VALUE=URI;X-ADDRESS=1824 House 2150 Main St. Waitsfield VT 05673;X-APPLE-RADIUS=500;X-TITLE=2150 Main St.:geo:-72.7798479,44.1926386
END:VEVENT
END:VCALENDAR