BEGIN:VCALENDAR
VERSION:2.0
PRODID:-//The Mad River Valley Village - ECPv6.0.13//NONSGML v1.0//EN
CALSCALE:GREGORIAN
METHOD:PUBLISH
X-ORIGINAL-URL:https://mrvvillage.com
X-WR-CALDESC:Events for The Mad River Valley Village
REFRESH-INTERVAL;VALUE=DURATION:PT1H
X-Robots-Tag:noindex
X-PUBLISHED-TTL:PT1H
BEGIN:VTIMEZONE
TZID:America/New_York
BEGIN:DAYLIGHT
TZOFFSETFROM:-0500
TZOFFSETTO:-0400
TZNAME:EDT
DTSTART:20250309T070000
END:DAYLIGHT
BEGIN:STANDARD
TZOFFSETFROM:-0400
TZOFFSETTO:-0500
TZNAME:EST
DTSTART:20251102T060000
END:STANDARD
END:VTIMEZONE
BEGIN:VEVENT
DTSTART;TZID=America/New_York:20251021T160000
DTEND;TZID=America/New_York:20251021T220000
DTSTAMP:20260423T183658
CREATED:20250723T141336Z
LAST-MODIFIED:20250802T121345Z
UID:10008716-1761062400-1761084000@mrvvillage.com
SUMMARY:Taco Tuesday
DESCRIPTION:Taco Tuesday. Great Specials on Food and Drink. $3 Tacos\, $6 Margaritas. \nEvery Tuesday\, in addition to our full menu.
URL:https://mrvvillage.com/event/taco-tuesday-23/
LOCATION:Hyde Away\, 1428 Mill Brook Rd\, Waitsfield\, 05673
CATEGORIES:Dining,Food & Drink
ATTACH;FMTTYPE=image/jpeg:https://mrvvillage.com/wp-content/uploads/2025/07/taco-tuesday-mJvDjK.jpg
ORGANIZER;CN="Hyde%20Away":MAILTO:hydeaway@madriver.com
GEO:44.1839313;-72.8706225
X-APPLE-STRUCTURED-LOCATION;VALUE=URI;X-ADDRESS=Hyde Away 1428 Mill Brook Rd Waitsfield 05673;X-APPLE-RADIUS=500;X-TITLE=1428 Mill Brook Rd:geo:-72.8706225,44.1839313
END:VEVENT
BEGIN:VEVENT
DTSTART;TZID=America/New_York:20251023T173000
DTEND;TZID=America/New_York:20251023T203000
DTSTAMP:20260423T183658
CREATED:20250925T031032Z
LAST-MODIFIED:20251023T152323Z
UID:10009037-1761240600-1761251400@mrvvillage.com
SUMMARY:LAST MRB PUB NIGHT Featuring The Loonz!
DESCRIPTION:Don’t Miss Our Final Pub Night of the Summer! Join us Thursday\, October 23rd in the pub for one last unforgettable evening of great food\, cold drinks\, and live music! We’re serving up all your favorite Mad River Barn menu items from 5 PM to 9 PM\, with The Loonz bringing the vibes to our summer space one more time!
URL:https://mrvvillage.com/event/last-mrb-pub-night-featuring-the-loonz/
LOCATION:Mad River Barn
CATEGORIES:Dining,Family Friendly,Live Music,Public Welcome
ATTACH;FMTTYPE=image/png:https://mrvvillage.com/wp-content/uploads/2025/07/Music-Concert-Instagram-Post-2-Zt23Gx-S6y9fM.png
GEO:44.195472;-72.8915611
END:VEVENT
END:VCALENDAR