BEGIN:VCALENDAR
VERSION:2.0
PRODID:-//The Mad River Valley Village - ECPv6.0.13//NONSGML v1.0//EN
CALSCALE:GREGORIAN
METHOD:PUBLISH
X-ORIGINAL-URL:https://mrvvillage.com
X-WR-CALDESC:Events for The Mad River Valley Village
REFRESH-INTERVAL;VALUE=DURATION:PT1H
X-Robots-Tag:noindex
X-PUBLISHED-TTL:PT1H
BEGIN:VTIMEZONE
TZID:America/New_York
BEGIN:DAYLIGHT
TZOFFSETFROM:-0500
TZOFFSETTO:-0400
TZNAME:EDT
DTSTART:20250309T070000
END:DAYLIGHT
BEGIN:STANDARD
TZOFFSETFROM:-0400
TZOFFSETTO:-0500
TZNAME:EST
DTSTART:20251102T060000
END:STANDARD
END:VTIMEZONE
BEGIN:VEVENT
DTSTART;TZID=America/New_York:20250904T173000
DTEND;TZID=America/New_York:20250904T203000
DTSTAMP:20260423T001354
CREATED:20250807T132610Z
LAST-MODIFIED:20250904T195323Z
UID:10008809-1757007000-1757017800@mrvvillage.com
SUMMARY:LIVE MUSIC & PUB NIGHT Featuring Jay Burwick!
DESCRIPTION:Join us in the pub for all your favorite Mad River Barn menu items with live music from Jay Burwick! Open 5 pm – 9 pm. Live music every Thursday in the summer!
URL:https://mrvvillage.com/event/live-music-pub-night-featuring-jay-burwick/
LOCATION:Mad River Barn
CATEGORIES:Dining,Family Friendly,Live Music,Public Welcome
ATTACH;FMTTYPE=image/png:https://mrvvillage.com/wp-content/uploads/2025/09/Copy-of-Music-Concert-Instagram-Post-1-O2SdZl-F4KC9C.png
GEO:44.195472;-72.8915611
END:VEVENT
BEGIN:VEVENT
DTSTART;TZID=America/New_York:20250906T090000
DTEND;TZID=America/New_York:20250906T130000
DTSTAMP:20260423T001354
CREATED:20250608T031256Z
LAST-MODIFIED:20250618T131244Z
UID:10008296-1757149200-1757163600@mrvvillage.com
SUMMARY:Waitsfield Farmer’s Market
DESCRIPTION:Rain or Shine\, May 17th to October 18th. 9AM to 1PM. \nEnjoy local food\, live music\, and support local Vermont small businesses. \nOur vendors consist of 57+ small family farms\, handmade artisans\, and unique culinary producers.
URL:https://mrvvillage.com/event/waitsfield-farmers-market-40/
LOCATION:Mad River Green Shops\, 107 M\, waitsfield\, VT\, 05673\, United States
CATEGORIES:Family Friendly,Food & Drink,Live Music,Public Welcome,Special Events
ATTACH;FMTTYPE=image/png:https://mrvvillage.com/wp-content/uploads/2025/05/Untitled-design-15-QqCNuT.png
ORGANIZER;CN="Waitsfield%20Farmers%20Market":MAILTO:waitsfieldmarketmanager@gmail.com
GEO:44.1926386;-72.7798479
X-APPLE-STRUCTURED-LOCATION;VALUE=URI;X-ADDRESS=Mad River Green Shops 107 M waitsfield VT 05673 United States;X-APPLE-RADIUS=500;X-TITLE=107 M:geo:-72.7798479,44.1926386
END:VEVENT
BEGIN:VEVENT
DTSTART;TZID=America/New_York:20250907T130000
DTEND;TZID=America/New_York:20250907T160000
DTSTAMP:20260423T001354
CREATED:20250808T134123Z
LAST-MODIFIED:20250907T202320Z
UID:10008816-1757250000-1757260800@mrvvillage.com
SUMMARY:Warren Public Library 125th Anniversary Ice Cream Social
DESCRIPTION:The Warren Public Library continues a year of 125th anniversary celebrations with an ice cream social for the whole family featuring special guests Elephant and Piggie from the Mo Willems book series. \nThe festivities kick off at 1:00 pm with an Elephant and Piggie storytime and photo opportunities. \nAfterwards\, guests of all ages are invited to board The Arts Bus to contribute to a community art installation. Ice cream sundaes will be served to all.
URL:https://mrvvillage.com/event/warren-public-library-125th-anniversary-ice-cream-social/
LOCATION:Warren Public Library\, 413 Main Street\, Warren\, 05674
CATEGORIES:Family Friendly,Special Events
ATTACH;FMTTYPE=image/jpeg:https://mrvvillage.com/wp-content/uploads/2025/08/Ice-Cream-Social-Warren-Library-ddctVs.jpg
ORGANIZER;CN="Warren%20Public%20Library":MAILTO:director@warrenlibrary.com
GEO:44.118347;-72.8576681
X-APPLE-STRUCTURED-LOCATION;VALUE=URI;X-ADDRESS=Warren Public Library 413 Main Street Warren 05674;X-APPLE-RADIUS=500;X-TITLE=413 Main Street:geo:-72.8576681,44.118347
END:VEVENT
BEGIN:VEVENT
DTSTART;TZID=America/New_York:20250911T173000
DTEND;TZID=America/New_York:20250911T203000
DTSTAMP:20260423T001354
CREATED:20250814T151156Z
LAST-MODIFIED:20250911T210818Z
UID:10008870-1757611800-1757622600@mrvvillage.com
SUMMARY:LIVE MUSIC & PUB NIGHT Featuring Ragged Company!
DESCRIPTION:Join us in the pub for all your favorite Mad River Barn menu items with live music from Ragged Company! Open 5 pm – 9 pm. Live music every Thursday in the summer!
URL:https://mrvvillage.com/event/live-music-pub-night-featuring-ragged-company-6/
LOCATION:Mad River Barn
CATEGORIES:Dining,Family Friendly,Live Music,Public Welcome
ATTACH;FMTTYPE=image/png:https://mrvvillage.com/wp-content/uploads/2025/05/Music-Concert-Instagram-Post-7vnWr7-PIWN0c.png
GEO:44.195472;-72.8915611
END:VEVENT
BEGIN:VEVENT
DTSTART;TZID=America/New_York:20250913T090000
DTEND;TZID=America/New_York:20250913T130000
DTSTAMP:20260423T001354
CREATED:20250615T044256Z
LAST-MODIFIED:20250618T131257Z
UID:10008328-1757754000-1757768400@mrvvillage.com
SUMMARY:Waitsfield Farmer’s Market
DESCRIPTION:Rain or Shine\, May 17th to October 18th. 9AM to 1PM. \nEnjoy local food\, live music\, and support local Vermont small businesses. \nOur vendors consist of 57+ small family farms\, handmade artisans\, and unique culinary producers.
URL:https://mrvvillage.com/event/waitsfield-farmers-market-41/
LOCATION:Mad River Green Shops\, 107 M\, waitsfield\, VT\, 05673\, United States
CATEGORIES:Family Friendly,Food & Drink,Live Music,Public Welcome,Special Events
ATTACH;FMTTYPE=image/png:https://mrvvillage.com/wp-content/uploads/2025/05/Untitled-design-15-QqCNuT.png
ORGANIZER;CN="Waitsfield%20Farmers%20Market":MAILTO:waitsfieldmarketmanager@gmail.com
GEO:44.1926386;-72.7798479
X-APPLE-STRUCTURED-LOCATION;VALUE=URI;X-ADDRESS=Mad River Green Shops 107 M waitsfield VT 05673 United States;X-APPLE-RADIUS=500;X-TITLE=107 M:geo:-72.7798479,44.1926386
END:VEVENT
BEGIN:VEVENT
DTSTART;TZID=America/New_York:20250913T103000
DTEND;TZID=America/New_York:20250913T113000
DTSTAMP:20260423T001354
CREATED:20250726T145746Z
LAST-MODIFIED:20250912T210838Z
UID:10008729-1757759400-1757763000@mrvvillage.com
SUMMARY:Mystery Guest Reader at Inklings!
DESCRIPTION:There are so many people in Vermont doing really interesting work! We thought it would be fun to invite some of them to be guest readers for storyime this autumn. \nOur first Mystery Reader is joining us September 13th. Stay tuned for clues\, on our Insta\, to see if you can figure out who’ll be joining us and what they do!! \nFREE and OPEN to ALL
URL:https://mrvvillage.com/event/mystery-guest-reader-at-inklings/
LOCATION:Inklings Children’s Books\, 106 Mad River Greeen\, Waitsfield\, VT\, 05673\, United States
CATEGORIES:Family Friendly
ATTACH;FMTTYPE=image/jpeg:https://mrvvillage.com/wp-content/uploads/2025/07/MysteryReaderCalendarPic-MRV-YKzpsO.jpg
ORGANIZER;CN="Inklings%20Children%26%238217%3Bs%20Books":MAILTO:inklingschildrensbooks@gmail.com
GEO:44.1844899;-72.839037
X-APPLE-STRUCTURED-LOCATION;VALUE=URI;X-ADDRESS=Inklings Children’s Books 106 Mad River Greeen Waitsfield VT 05673 United States;X-APPLE-RADIUS=500;X-TITLE=106 Mad River Greeen:geo:-72.839037,44.1844899
END:VEVENT
BEGIN:VEVENT
DTSTART;TZID=America/New_York:20250916T170000
DTEND;TZID=America/New_York:20250916T213000
DTSTAMP:20260423T001354
CREATED:20250618T052758Z
LAST-MODIFIED:20250718T125740Z
UID:10008343-1758042000-1758058200@mrvvillage.com
SUMMARY:Back Porch Music Series
DESCRIPTION:Live Music\, Food and Beverage at Lareau Farm June 17\, July 15\, August 19 and September 16th. \nLawn games\, families welcome! Come one come all! Fun Times!! \n5-9:30pm.
URL:https://mrvvillage.com/event/back-porch-music-series-4/
LOCATION:Lareau Farm Inn\, 46 Lareau Rd.\, Waitsfield\, 05673
CATEGORIES:Family Friendly,Food & Drink,Live Music
ORGANIZER;CN="Lareau%20Farm%20Inn":MAILTO:stay@lareaufarminn.com
GEO:44.172559;-72.833919
X-APPLE-STRUCTURED-LOCATION;VALUE=URI;X-ADDRESS=Lareau Farm Inn 46 Lareau Rd. Waitsfield 05673;X-APPLE-RADIUS=500;X-TITLE=46 Lareau Rd.:geo:-72.833919,44.172559
END:VEVENT
BEGIN:VEVENT
DTSTART;TZID=America/New_York:20250918T173000
DTEND;TZID=America/New_York:20250918T203000
DTSTAMP:20260423T001354
CREATED:20250821T165637Z
LAST-MODIFIED:20250918T213823Z
UID:10008888-1758216600-1758227400@mrvvillage.com
SUMMARY:LIVE MUSIC & PUB NIGHT Featuring Jenny and the Bets!
DESCRIPTION:Join us in the pub for all your favorite Mad River Barn menu items with live music from Jenny and the Bets! Open 5 pm – 9 pm. Live music every Thursday in the summer!
URL:https://mrvvillage.com/event/live-music-pub-night-featuring-jenny-and-the-bets/
LOCATION:Mad River Barn
CATEGORIES:Dining,Family Friendly,Live Music,Public Welcome
ATTACH;FMTTYPE=image/png:https://mrvvillage.com/wp-content/uploads/2025/09/Music-Concert-Instagram-Post-BcblaU-YhPUVR.png
GEO:44.195472;-72.8915611
END:VEVENT
BEGIN:VEVENT
DTSTART;TZID=America/New_York:20250919T170000
DTEND;TZID=America/New_York:20250919T210000
DTSTAMP:20260423T001354
CREATED:20250726T145748Z
LAST-MODIFIED:20250919T215324Z
UID:10008730-1758301200-1758315600@mrvvillage.com
SUMMARY:Back Porch Music Series
DESCRIPTION:Free Entry! Live Music\, Food and Alcohol for purchase. \n5pm-9pm @ Lareau Farm and Forest. \nNo outside food or beverage and no pets. Thank you!
URL:https://mrvvillage.com/event/back-porch-music-series-5/
LOCATION:Lareau Farm Inn\, 46 Lareau Rd.\, Waitsfield\, 05673
CATEGORIES:Family Friendly,Food & Drink,Live Music
ATTACH;FMTTYPE=image/png:https://mrvvillage.com/wp-content/uploads/2025/07/Back-Porch-oQBtV6.png
ORGANIZER;CN="Lareau%20Farm%20Inn":MAILTO:stay@lareaufarminn.com
GEO:44.172559;-72.833919
X-APPLE-STRUCTURED-LOCATION;VALUE=URI;X-ADDRESS=Lareau Farm Inn 46 Lareau Rd. Waitsfield 05673;X-APPLE-RADIUS=500;X-TITLE=46 Lareau Rd.:geo:-72.833919,44.172559
END:VEVENT
BEGIN:VEVENT
DTSTART;TZID=America/New_York:20250921T120000
DTEND;TZID=America/New_York:20250921T150000
DTSTAMP:20260423T001354
CREATED:20250902T192517Z
LAST-MODIFIED:20250921T215317Z
UID:10008947-1758456000-1758466800@mrvvillage.com
SUMMARY:We Are MRV – Community Connection Fair
DESCRIPTION:The Community Connectioin Fair will celebrate and showcase local clubs and organizations eager to engage volunteers and members. Neighbors will be able to explore booths from local nonprofit organizations and clubs\, meet the volunteers and leaders who keep the Valley vibrant\, and discover ways to get involved. There will be a BBQ lunch\, local music to keep the day lively\, and hands-on activities to give residents of all ages a way to jump right in. Bee will be there to help residents download the app\, connect with upcoming opportunities\, and even post their own.
URL:https://mrvvillage.com/event/we-are-mrv-community-connection-fair/
LOCATION:Inn at the Round Barn\, 1661 East Warren Rd\, Waitsfield 1661 East Warren Rd\, Waitsfield\, Vermont\, 05673\, United States
CATEGORIES:Community,Family Friendly,Food & Drink,Special Events
ATTACH;FMTTYPE=image/png:https://mrvvillage.com/wp-content/uploads/2025/09/Fair-Graphic-z1IEwm.png
GEO:44.1676648;-72.811235
X-APPLE-STRUCTURED-LOCATION;VALUE=URI;X-ADDRESS=Inn at the Round Barn 1661 East Warren Rd Waitsfield 1661 East Warren Rd Waitsfield Vermont 05673 United States;X-APPLE-RADIUS=500;X-TITLE=1661 East Warren Rd\, Waitsfield 1661 East Warren Rd:geo:-72.811235,44.1676648
END:VEVENT
BEGIN:VEVENT
DTSTART;TZID=America/New_York:20250925T173000
DTEND;TZID=America/New_York:20250925T203000
DTSTAMP:20260423T001354
CREATED:20250827T224107Z
LAST-MODIFIED:20250925T223825Z
UID:10008923-1758821400-1758832200@mrvvillage.com
SUMMARY:LIVE MUSIC & PUB NIGHT Featuring Al’s Pals!
DESCRIPTION:Join us in the pub for all your favorite Mad River Barn menu items with live music from Al’s Pals! Open 5 pm – 9 pm. Live music every Thursday in the summer!
URL:https://mrvvillage.com/event/live-music-pub-night-featuring-als-pals-19/
LOCATION:Mad River Barn
CATEGORIES:Dining,Family Friendly,Live Music,Public Welcome
ATTACH;FMTTYPE=image/png:https://mrvvillage.com/wp-content/uploads/2025/04/Music-Concert-Instagram-Post-w5m2El-dwhVun.png
GEO:44.195472;-72.8915611
END:VEVENT
BEGIN:VEVENT
DTSTART;TZID=America/New_York:20250927T100000
DTEND;TZID=America/New_York:20250927T150000
DTSTAMP:20260423T001354
CREATED:20250629T081457Z
LAST-MODIFIED:20250927T230820Z
UID:10008518-1758967200-1758985200@mrvvillage.com
SUMMARY:Bristol Harvest Festival
DESCRIPTION:Join the 26th annual Bristol Harvest Festival presented by the Addison County Chamber of Commerce with support by the Bristol Recreation Department. \nThe event features more than 70 vendors displaying local crafts and terrific food options on the green. All day live music at the bandstand with kids’ activities\, an ADA-compliant children’s playground and a horse and wagon ride. \nAfter visiting the festival\, continue strolling through the charming downtown and shop the local businesses.
URL:https://mrvvillage.com/event/bristol-harvest-festival-4/
LOCATION:Bristol Town Green\, Bristol Town Green\, Bristol\, Vermont\, 05443\, United States
CATEGORIES:Arts & Entertainment,Family Friendly,Live Music,Special Events
ATTACH;FMTTYPE=image/png:https://mrvvillage.com/wp-content/uploads/2025/06/2025-BHF-eFXnqP.png
ORGANIZER;CN="Addison%20County%20Chamber%20of%20Commerce":MAILTO:maria@addisoncounty.com
GEO:44.134076;-73.079881
X-APPLE-STRUCTURED-LOCATION;VALUE=URI;X-ADDRESS=Bristol Town Green Bristol Town Green Bristol Vermont 05443 United States;X-APPLE-RADIUS=500;X-TITLE=Bristol Town Green:geo:-73.079881,44.134076
END:VEVENT
BEGIN:VEVENT
DTSTART;TZID=America/New_York:20250927T110000
DTEND;TZID=America/New_York:20250927T120000
DTSTAMP:20260423T001354
CREATED:20250902T192546Z
LAST-MODIFIED:20250927T230821Z
UID:10008948-1758970800-1758974400@mrvvillage.com
SUMMARY:Author Leda Schubert Visits Inklings Children’s Books!
DESCRIPTION:Inklings is excited to welcome author Leda Schubert on Saturday\, September 27th at 11am for a reading of her book\, FIRSTS & LASTS\, THE CHANGING SEASONS. \nIn this jubilant ode to seasonal rituals\, Leda Schubert evokes the familiar\, enchanting rhythm of the four seasons; each captured with evocative words and glorious cut-paper collages. \nFollowing the reading\, there will be a very special craft! \nLEDA SCHUBERT was the school library consultant for the Vermont Department of Education\, and she has an MFA in Writing for Children and Young Adults from Vermont College!
URL:https://mrvvillage.com/event/author-leda-schubert-visits-inklings-childrens-books/
LOCATION:Inklings Children’s Books\, 106 Mad River Greeen\, Waitsfield\, VT\, 05673\, United States
CATEGORIES:Arts & Entertainment,Family Friendly
ATTACH;FMTTYPE=image/jpeg:https://mrvvillage.com/wp-content/uploads/2025/09/LedaSchubertVisit-Mrv-25xN3w.jpg
ORGANIZER;CN="Inklings%20Children%26%238217%3Bs%20Books":MAILTO:inklingschildrensbooks@gmail.com
GEO:44.1844899;-72.839037
X-APPLE-STRUCTURED-LOCATION;VALUE=URI;X-ADDRESS=Inklings Children’s Books 106 Mad River Greeen Waitsfield VT 05673 United States;X-APPLE-RADIUS=500;X-TITLE=106 Mad River Greeen:geo:-72.839037,44.1844899
END:VEVENT
BEGIN:VEVENT
DTSTART;TZID=America/New_York:20250927T140000
DTEND;TZID=America/New_York:20250927T160000
DTSTAMP:20260423T001354
CREATED:20250629T081458Z
LAST-MODIFIED:20250701T084429Z
UID:10008519-1758981600-1758988800@mrvvillage.com
SUMMARY:Explore the Seasons with Naturalist-Led Hikes at Stark Mountain
DESCRIPTION:Waitsfield\, VT — The Stark Mountain Foundation is excited to announce a new series of free\, family-friendly naturalist hikes on Stark Mountain\, led by Vermont Master Naturalist Gene O. Desideraggio. These guided hikes offer a unique opportunity to explore the mountain’s diverse ecosystems throughout the changing seasons. \nFrom vibrant spring wildflowers to the brilliant colors of fall foliage\, participants will immerse themselves in the natural beauty of the Green Mountains. Along the way\, Gene will help hikers discover signs of wildlife\, listen for bird calls echoing through the forest\, spot animal tracks on the trail\, or even find a well-worn bear tree. \nThe hikes will take place from 2:00 PM to 4:00 PM on the last Saturday of every month:\nMay 31\, June 28\, July 26\, August 30\, September 27\, and October 25 \nAfter each hike\, participants are invited to unwind at the Mad River Glen Stark’s Pub\, where they can grab a bite or a drink and enjoy the stunning mountain views. \nThe hikes are free\, but registration is required and space is limited. \nTo register or learn more\, visit:\nbit.ly/NatureHikes2025
URL:https://mrvvillage.com/event/explore-the-seasons-with-naturalist-led-hikes-at-stark-mountain-5/
LOCATION:Mad River Glen\, 57 Schuss Pass Road\, Waitsfield\, 05673
CATEGORIES:Family Friendly,Mad River Glen,Special Events,Stark Mountain Foundation
ORGANIZER;CN="Stark%20Mountain%20Foundation":MAILTO:contact@starkmountain.org
GEO:44.2023162;-72.9182617
X-APPLE-STRUCTURED-LOCATION;VALUE=URI;X-ADDRESS=Mad River Glen 57 Schuss Pass Road Waitsfield 05673;X-APPLE-RADIUS=500;X-TITLE=57 Schuss Pass Road:geo:-72.9182617,44.2023162
END:VEVENT
END:VCALENDAR