BEGIN:VCALENDAR
VERSION:2.0
PRODID:-//The Mad River Valley Village - ECPv6.0.13//NONSGML v1.0//EN
CALSCALE:GREGORIAN
METHOD:PUBLISH
X-ORIGINAL-URL:https://mrvvillage.com
X-WR-CALDESC:Events for The Mad River Valley Village
REFRESH-INTERVAL;VALUE=DURATION:PT1H
X-Robots-Tag:noindex
X-PUBLISHED-TTL:PT1H
BEGIN:VTIMEZONE
TZID:America/New_York
BEGIN:DAYLIGHT
TZOFFSETFROM:-0500
TZOFFSETTO:-0400
TZNAME:EDT
DTSTART:20230312T070000
END:DAYLIGHT
BEGIN:STANDARD
TZOFFSETFROM:-0400
TZOFFSETTO:-0500
TZNAME:EST
DTSTART:20231105T060000
END:STANDARD
END:VTIMEZONE
BEGIN:VEVENT
DTSTART;TZID=America/New_York:20230616T130000
DTEND;TZID=America/New_York:20230616T170000
DTSTAMP:20260422T053133
CREATED:20230318T081500Z
LAST-MODIFIED:20230422T205909Z
UID:10003373-1686920400-1686934800@mrvvillage.com
SUMMARY:Reflections by ‘f7’ Photo Group
DESCRIPTION:March 22- April 27: Reflections by‘f7’ Photo Group \nReception: March 23\, 5-7pm \nArtist talk: March 23 \nOpen Tuesday-Saturday 1-5 pm
URL:https://mrvvillage.com/event/reflections-by-f7-photo-group-19/
LOCATION:Festival Gallery at Valley Arts\, 5031 Main Street\,\, Waitsfield\, 05673
CATEGORIES:Arts & Entertainment,Community,Family Friendly
ATTACH;FMTTYPE=image/jpeg:https://mrvvillage.com/wp-content/uploads/2023/01/PhotoShow-for-MRV-1-uybmQv.tmp_.jpg
ORGANIZER;CN="Mad%20River%20Valley%20Arts":MAILTO:director@madrivervalleyarts.org
GEO:44.1926386;-72.7798479
X-APPLE-STRUCTURED-LOCATION;VALUE=URI;X-ADDRESS=Festival Gallery at Valley Arts 5031 Main Street Waitsfield 05673;X-APPLE-RADIUS=500;X-TITLE=5031 Main Street\,:geo:-72.7798479,44.1926386
END:VEVENT
BEGIN:VEVENT
DTSTART;TZID=America/New_York:20230616T170000
DTEND;TZID=America/New_York:20230616T185500
DTSTAMP:20260422T053133
CREATED:20230520T204122Z
LAST-MODIFIED:20230616T135337Z
UID:10003985-1686934800-1686941700@mrvvillage.com
SUMMARY:Karl Lucas open the night at our Free Concert on the Green!
DESCRIPTION:Join us as we welcome Karl Lucas to the Green! Are you ready to listen to some incredible songs performed with heart before we begin our Camp Comedy hour? Karl will not let you down. Doors at 5pm\, music starts at 5:30pm
URL:https://mrvvillage.com/event/karl-lucas-open-the-night-at-our-free-concert-on-the-green/
LOCATION:Camp Meade\, 961 ROUTE 2\, middlesex\, 05602
CATEGORIES:Arts & Entertainment,Community,Family Friendly,Food & Drink
ATTACH;FMTTYPE=image/jpeg:https://mrvvillage.com/wp-content/uploads/2023/05/Karl-Lucas-y6zZS8.tmp_.jpg
ORGANIZER;CN="Camp%20Meade":MAILTO:info@campmeade.today
GEO:44.2412437;-72.5366148
X-APPLE-STRUCTURED-LOCATION;VALUE=URI;X-ADDRESS=Camp Meade 961 ROUTE 2 middlesex 05602;X-APPLE-RADIUS=500;X-TITLE=961 ROUTE 2:geo:-72.5366148,44.2412437
END:VEVENT
BEGIN:VEVENT
DTSTART;TZID=America/New_York:20230616T170000
DTEND;TZID=America/New_York:20230616T200000
DTSTAMP:20260422T053133
CREATED:20230520T204120Z
LAST-MODIFIED:20230616T135337Z
UID:10003984-1686934800-1686945600@mrvvillage.com
SUMMARY:Camp Comedy at the Free Concert on the Green!
DESCRIPTION:Calling all campers! Put down your s’mores and join us for a comedy hour hosted by your favorite camp counselor Max Higgins. Show from 7pm to 8pm.
URL:https://mrvvillage.com/event/camp-comedy-at-the-free-concert-on-the-green/
LOCATION:Camp Meade\, 961 ROUTE 2\, middlesex\, 05602
CATEGORIES:Arts & Entertainment,Community,Family Friendly
ATTACH;FMTTYPE=image/jpeg:https://mrvvillage.com/wp-content/uploads/2023/05/Comedy-zb1ZVK.tmp_.jpg
ORGANIZER;CN="Camp%20Meade":MAILTO:info@campmeade.today
GEO:44.2412437;-72.5366148
X-APPLE-STRUCTURED-LOCATION;VALUE=URI;X-ADDRESS=Camp Meade 961 ROUTE 2 middlesex 05602;X-APPLE-RADIUS=500;X-TITLE=961 ROUTE 2:geo:-72.5366148,44.2412437
END:VEVENT
END:VCALENDAR