BEGIN:VCALENDAR
VERSION:2.0
PRODID:-//The Mad River Valley Village - ECPv6.0.13//NONSGML v1.0//EN
CALSCALE:GREGORIAN
METHOD:PUBLISH
X-ORIGINAL-URL:https://mrvvillage.com
X-WR-CALDESC:Events for The Mad River Valley Village
REFRESH-INTERVAL;VALUE=DURATION:PT1H
X-Robots-Tag:noindex
X-PUBLISHED-TTL:PT1H
BEGIN:VTIMEZONE
TZID:America/New_York
BEGIN:DAYLIGHT
TZOFFSETFROM:-0500
TZOFFSETTO:-0400
TZNAME:EDT
DTSTART:20230312T070000
END:DAYLIGHT
BEGIN:STANDARD
TZOFFSETFROM:-0400
TZOFFSETTO:-0500
TZNAME:EST
DTSTART:20231105T060000
END:STANDARD
END:VTIMEZONE
BEGIN:VEVENT
DTSTART;TZID=America/New_York:20230709T140000
DTEND;TZID=America/New_York:20230709T160000
DTSTAMP:20260422T053106
CREATED:20230620T095505Z
LAST-MODIFIED:20230709T213819Z
UID:10004144-1688911200-1688918400@mrvvillage.com
SUMMARY:Willy Wonka at the Valley Players – Sensory Friendly Show
DESCRIPTION:Roald Dahl’s Willy Wonka follows enigmatic candy manufacturer Willy Wonka as he stages a contest by hiding golden tickets in five of his scrumptious candy bars. Whomever comes up with these tickets will win a free tour of the Wonka factory\, as well as a lifetime supply of candy. Four of the five winning children are insufferable brats: the fifth is a likeable young lad named Charlie Bucket\, who takes the tour in the company of his equally amiable grandfather. The children must learn to follow Mr. Wonka’s rules in the factory… or suffer the consequences. Featuring the enchanting songs from the 1971 film starring Gene Wilder and new songs by Leslie Bricusse (Jekyll & Hyde\, Doctor Dolittle) and Anthony Newley\, Roald Dahl’s Willy Wonka is a musical guaranteed to delight everyone’s sweet tooth. \nMusic and lyrics by Leslie Bricusse and Anthony Newly\nAdapted for the stage by Leslie Bricusse and Timothy Allen McDonaldBased on the book “Charlie and the Chocolate Factory” by Roald Dahl \n​\nCAST:Willy Wonka – Wes Olds (Graniteville)Charlie Bucket – Zane Demarais (Websterville)The Candy Man/Phineous Trout\, reporter – Ashley Hall (Warren)Augustus Gloop – Jane Schaefer (Waitsfield)Mrs. Gloop – Carrie Phillips (Waterbury)Veruca Salt – Camille Edgcomb (Warren)Mr. Salt – Jordan Streeter (Montpelier)Violet Beauregarde – Naomi Niewiadomski (Waitsfield)Mrs. Beauregarde – Charlotte Robinson (Warren)Mike Teavee – Tarin Askew (Warren) andMrs. Teavee – Stefanie Seng (Waterbury)Grandpa Joe – Clem Turmel (Milton)Mr. Bucket – Matt Bellew (St. Albans)Mrs. Bucket – Cassandra Demarais (Websterville)Grandma Josephine – Joanne Puente (Worcester)Grandma Georgina – Marci Robinson (Warren)Grandpa George – Joe Robinson (Warren)Oompa Loompas – Tommy O’Grady (Waitsfield)\, Sunny Randall (Moretown)\, Ava Robinson (Warren)\, and Elizabeth Treacy (Fayston) \n​ \nNEW! Buy a Shout-Out to a members of the cast or crew!\nYour message of up to 20 words will appear in the playbill insert for each show.\nDonation of $10 goes to support the show and more famnily friendly theater at the Valley Players!
URL:https://mrvvillage.com/event/willy-wonka-at-the-valley-players-sensory-friendly-show/
LOCATION:Valley Players Theater\, 4254 Main Street\, Route 100\, Waitsfield\, VT\, 05673\, United States
CATEGORIES:Arts & Entertainment,Community,Family Friendly
ATTACH;FMTTYPE=image/png:https://mrvvillage.com/wp-content/uploads/2023/06/Screen-Shot-2023-06-19-at-10.29.13-AM-3uGrzS.tmp_.png
GEO:44.2017815;-72.8121321
X-APPLE-STRUCTURED-LOCATION;VALUE=URI;X-ADDRESS=Valley Players Theater 4254 Main Street Route 100 Waitsfield VT 05673 United States;X-APPLE-RADIUS=500;X-TITLE=4254 Main Street\, Route 100:geo:-72.8121321,44.2017815
END:VEVENT
END:VCALENDAR