BEGIN:VCALENDAR
VERSION:2.0
PRODID:-//The Mad River Valley Village - ECPv6.0.13//NONSGML v1.0//EN
CALSCALE:GREGORIAN
METHOD:PUBLISH
X-ORIGINAL-URL:https://mrvvillage.com
X-WR-CALDESC:Events for The Mad River Valley Village
REFRESH-INTERVAL;VALUE=DURATION:PT1H
X-Robots-Tag:noindex
X-PUBLISHED-TTL:PT1H
BEGIN:VTIMEZONE
TZID:America/New_York
BEGIN:DAYLIGHT
TZOFFSETFROM:-0500
TZOFFSETTO:-0400
TZNAME:EDT
DTSTART:20230312T070000
END:DAYLIGHT
BEGIN:STANDARD
TZOFFSETFROM:-0400
TZOFFSETTO:-0500
TZNAME:EST
DTSTART:20231105T060000
END:STANDARD
END:VTIMEZONE
BEGIN:VEVENT
DTSTART;TZID=America/New_York:20230710T000000
DTEND;TZID=America/New_York:20230721T235959
DTSTAMP:20260422T053132
CREATED:20230630T192418Z
LAST-MODIFIED:20230710T215338Z
UID:10004228-1688947200-1689983999@mrvvillage.com
SUMMARY:Summer Art Camps at Camp Meade
DESCRIPTION:Looking for creative inspiration for a young artist? Announcing summer art & music camps at Camp Meade! \nThis July and August\, kids can try their hand at glass blowing and fusing with glass artist Sam Lightner of Lightner Glass\, create a fairy house or explore the flora and fauna of the rainforest with artist-educator Heather O’Hare\, or have a rock star experience at Rise Up Rock Camp with music educator Dov Michael Schiller. Several camp weeks are available – visit our website to learn more and sign up.
URL:https://mrvvillage.com/event/summer-art-camps-at-camp-meade/
LOCATION:Camp Meade\, 961 ROUTE 2\, middlesex\, 05602
CATEGORIES:Arts & Entertainment,Family Friendly
ATTACH;FMTTYPE=image/png:https://mrvvillage.com/wp-content/uploads/2023/07/Screen-Shot-2023-07-03-at-6.13.09-PM-CtMSDW.tmp_.png
ORGANIZER;CN="Camp%20Meade":MAILTO:info@campmeade.today
GEO:44.2412437;-72.5366148
X-APPLE-STRUCTURED-LOCATION;VALUE=URI;X-ADDRESS=Camp Meade 961 ROUTE 2 middlesex 05602;X-APPLE-RADIUS=500;X-TITLE=961 ROUTE 2:geo:-72.5366148,44.2412437
END:VEVENT
BEGIN:VEVENT
DTSTART;TZID=America/New_York:20230710T090000
DTEND;TZID=America/New_York:20230714T150000
DTSTAMP:20260422T053132
CREATED:20230616T092523Z
LAST-MODIFIED:20230710T215339Z
UID:10004120-1688979600-1689346800@mrvvillage.com
SUMMARY:Farm and River Camp
DESCRIPTION:Living Tree Alliance’s camps immerse children in the life of our homestead\, rivers and forests through farming\, cooking\, nature crafts\, swimming\, and forest and field games\, Every morning we rotate through stations of cooking\, crafts and farming putting our hands together to grow food for the food bank and enjoy play in our natural playground and tree house. \nIn the afternoon\, we explore the forest through play\, fort building and of course spend ample time splashing in the Mad River and Dowsville Creek. Our property has a private swimming beach on the river and wonderful clay deposits for endless body painting\, building and exploration. Join us for some old fashioned fun offered for three weeks this summer. Please inquire about paying per diem if your child can not attend for the week.
URL:https://mrvvillage.com/event/farm-and-river-camp/
LOCATION:Living Tree Alliance\, 96 Living Tree Ln\, Moretown\, VT\, 05660\, United States
CATEGORIES:Community,Family Friendly
ATTACH;FMTTYPE=image/jpeg:https://mrvvillage.com/wp-content/uploads/2023/06/campcard-Xiq8zz.tmp_.jpg
ORGANIZER;CN="Living%20Tree%20Alliance":MAILTO:info@livingtreealliance.com
GEO:44.2472902;-72.7762636
X-APPLE-STRUCTURED-LOCATION;VALUE=URI;X-ADDRESS=Living Tree Alliance 96 Living Tree Ln Moretown VT 05660 United States;X-APPLE-RADIUS=500;X-TITLE=96 Living Tree Ln:geo:-72.7762636,44.2472902
END:VEVENT
BEGIN:VEVENT
DTSTART;TZID=America/New_York:20230710T130000
DTEND;TZID=America/New_York:20230714T160000
DTSTAMP:20260422T053132
CREATED:20230523T212703Z
LAST-MODIFIED:20230710T215339Z
UID:10003996-1688994000-1689350400@mrvvillage.com
SUMMARY:Comics and Cartoons Summer Camp
DESCRIPTION:Instructor: Visiting cartoonists throughout the week with artist/art educator Sam Talbot-Kelly \nComics and Cartoon summer camp will allow participants to share a story. Discover the character’s voice\, attitude\, conflicts and what they look like. Channel your own emotional world through characters and plot step by step. At the conclusion of this camp\, the participants will have completed a short cartoon to be featured in our August gallery show.\nScholarships are available on a sliding scale basis. \nArtist: Dan Abdo
URL:https://mrvvillage.com/event/comics-and-cartoons-summer-camp/
LOCATION:Mad River Valley Arts\, 5031 Main Street #2 Village Square\, Waitsfield\, 05673
CATEGORIES:Arts & Entertainment,Community,Family Friendly
ATTACH;FMTTYPE=image/png:https://mrvvillage.com/wp-content/uploads/2023/05/Abdo-tcFGbg.tmp_.png
ORGANIZER;CN="Mad%20River%20Valley%20Arts":MAILTO:director@madrivervalleyarts.org
GEO:44.1926386;-72.7798479
X-APPLE-STRUCTURED-LOCATION;VALUE=URI;X-ADDRESS=Mad River Valley Arts 5031 Main Street #2 Village Square Waitsfield 05673;X-APPLE-RADIUS=500;X-TITLE=5031 Main Street #2 Village Square:geo:-72.7798479,44.1926386
END:VEVENT
BEGIN:VEVENT
DTSTART;TZID=America/New_York:20230710T163000
DTEND;TZID=America/New_York:20230710T173000
DTSTAMP:20260422T053132
CREATED:20230510T011514Z
LAST-MODIFIED:20230710T215339Z
UID:10003917-1689006600-1689010200@mrvvillage.com
SUMMARY:Clowning Around – Structured Silliness for 3.5-4 Year olds
DESCRIPTION:Structured silliness! Led by Kolleen & Bobby Kintz\, this class  for kids ages 3.5-4 years old will explore creative movement\, comedic expression and ensemble creation. Campers will play games\, move their bodies\, make music and find their funny. Students will share some of what they’ve learned at a showing for parents during the final class. This class will be a drop-off class; however\, there is a shared room in our space where parents can be close by and in sight\, if that is more comfortable for your child.\n\nPlease complete one form for each child who will be attending class.  We will send additional information about class procedures as we get closer to June 19th. Don’t hesitate to call Kolleen at 802-377-1742 or email kolleenkintz@gmail.com with any questions.\n\n\nKolleen Kintz attended Dell’Arte International School of Physical Theatre in 2010. Starting in 2011\, she and Bobby began training with Dody Disanto at The Center for Movement Theatre in Washington DC. They have performed with the DC Fringe Festival\, Zip Zap Circus and regularly at Clown Cabaret. In 2014\, the duo traveled to Haiti to volunteer with Clowns Without Borders and performed for over 5000 children. Kolleen later became a hospital clown for Healthy Humor and made rounds as Dr. Pickle at Johns Hopkins for 6 years.\n\nKolleen & Bobby Kintz have been teaching artists since 2013. Beginning their journey with the instruction of 3 & 4 year olds\, in Del Ray\, VA. Later developing their own circus camp for ages 5-13\, which ran in Baltimore at Morgan State University for 5 years. More recently\, the journey has been parenthood! It is very exciting to be offering this class to the community\, in our new hometown of Waitsfield.
URL:https://mrvvillage.com/event/clowning-around-structured-silliness-for-3-5-4-year-olds-3/
LOCATION:Waitsfield United Church of Christ Village Meeting House\, 4335 Main St\, Waitsfield\, VT\, 05673\, United States
CATEGORIES:Arts & Entertainment,Community,Family Friendly
ATTACH;FMTTYPE=image/png:https://mrvvillage.com/wp-content/uploads/2023/05/Screen-Shot-2023-05-09-at-2.15.53-PM-peOUJx.tmp_.png
ORGANIZER;CN="Kolleen%20and%20Bobby%20Kintz":MAILTO:photosbykintz@gmail.com
GEO:44.1904984;-72.8233656
X-APPLE-STRUCTURED-LOCATION;VALUE=URI;X-ADDRESS=Waitsfield United Church of Christ Village Meeting House 4335 Main St Waitsfield VT 05673 United States;X-APPLE-RADIUS=500;X-TITLE=4335 Main St:geo:-72.8233656,44.1904984
END:VEVENT
END:VCALENDAR