BEGIN:VCALENDAR
VERSION:2.0
PRODID:-//The Mad River Valley Village - ECPv6.0.13//NONSGML v1.0//EN
CALSCALE:GREGORIAN
METHOD:PUBLISH
X-ORIGINAL-URL:https://mrvvillage.com
X-WR-CALDESC:Events for The Mad River Valley Village
REFRESH-INTERVAL;VALUE=DURATION:PT1H
X-Robots-Tag:noindex
X-PUBLISHED-TTL:PT1H
BEGIN:VTIMEZONE
TZID:America/New_York
BEGIN:DAYLIGHT
TZOFFSETFROM:-0500
TZOFFSETTO:-0400
TZNAME:EDT
DTSTART:20230312T070000
END:DAYLIGHT
BEGIN:STANDARD
TZOFFSETFROM:-0400
TZOFFSETTO:-0500
TZNAME:EST
DTSTART:20231105T060000
END:STANDARD
END:VTIMEZONE
BEGIN:VEVENT
DTSTART;TZID=America/New_York:20230710T000000
DTEND;TZID=America/New_York:20230721T235959
DTSTAMP:20260422T053114
CREATED:20230630T192418Z
LAST-MODIFIED:20230710T215338Z
UID:10004228-1688947200-1689983999@mrvvillage.com
SUMMARY:Summer Art Camps at Camp Meade
DESCRIPTION:Looking for creative inspiration for a young artist? Announcing summer art & music camps at Camp Meade! \nThis July and August\, kids can try their hand at glass blowing and fusing with glass artist Sam Lightner of Lightner Glass\, create a fairy house or explore the flora and fauna of the rainforest with artist-educator Heather O’Hare\, or have a rock star experience at Rise Up Rock Camp with music educator Dov Michael Schiller. Several camp weeks are available – visit our website to learn more and sign up.
URL:https://mrvvillage.com/event/summer-art-camps-at-camp-meade/
LOCATION:Camp Meade\, 961 ROUTE 2\, middlesex\, 05602
CATEGORIES:Arts & Entertainment,Family Friendly
ATTACH;FMTTYPE=image/png:https://mrvvillage.com/wp-content/uploads/2023/07/Screen-Shot-2023-07-03-at-6.13.09-PM-CtMSDW.tmp_.png
ORGANIZER;CN="Camp%20Meade":MAILTO:info@campmeade.today
GEO:44.2412437;-72.5366148
X-APPLE-STRUCTURED-LOCATION;VALUE=URI;X-ADDRESS=Camp Meade 961 ROUTE 2 middlesex 05602;X-APPLE-RADIUS=500;X-TITLE=961 ROUTE 2:geo:-72.5366148,44.2412437
END:VEVENT
BEGIN:VEVENT
DTSTART;TZID=America/New_York:20230715T090000
DTEND;TZID=America/New_York:20230715T130000
DTSTAMP:20260422T053114
CREATED:20230425T214511Z
LAST-MODIFIED:20230614T132555Z
UID:10003716-1689411600-1689426000@mrvvillage.com
SUMMARY:Waitsfield Farmers Market
DESCRIPTION:Welcome to the Waitsfield Farmer’s Market.  We’re a unique collective of Vermont farmers\, makers\, bakers\, and shakers in the heart of the Mad River Valley. \nLocal produce\, plant starts\, fruit trees\, bushes\, maple\, honey\, flowers\, seedlings\, eggs\, meats\, cheeses\, fish\, crafts\, art\, clothes\, bread\, baked goods\, liquors\, and prepared foods all by Vermonters. \nEstablished in 1993\, the Waitsfield Farmer’s Market for decades has been a meeting place for those who appreciate Vermont farmers and artisans. Our market vendors are a carefully curated group of local Vermont businesses who provide the highest quality products to market. Every Saturday\, rain or shine\, May-October\, you’ll find us on the green! \nEvery Saturday\, Rain or Shine from 9 am to 1 pm\nMay 13th – October 14th\, 2023 \nOur market can be found on the Mad River Green in Waitsfield\, Vermont.
URL:https://mrvvillage.com/event/waitsfield-farmers-market-10/
LOCATION:Mad River Green\, 105 Mad River Green\, Waitsfield\, VT\, 05673\, United States
CATEGORIES:Arts & Entertainment,Community,Family Friendly,Food & Drink
ATTACH;FMTTYPE=image/png:https://mrvvillage.com/wp-content/uploads/2023/04/WFM_Brand_Logos-02-DmdRr1.tmp_.png
ORGANIZER;CN="Waitsfield%20Farmer%26%238217%3Bs%20Market":MAILTO:waitsfieldmarketmanager@gmail.com
GEO:44.183836;-72.8388576
X-APPLE-STRUCTURED-LOCATION;VALUE=URI;X-ADDRESS=Mad River Green 105 Mad River Green Waitsfield VT 05673 United States;X-APPLE-RADIUS=500;X-TITLE=105 Mad River Green:geo:-72.8388576,44.183836
END:VEVENT
BEGIN:VEVENT
DTSTART;TZID=America/New_York:20230715T130000
DTEND;TZID=America/New_York:20230715T170000
DTSTAMP:20260422T053114
CREATED:20230416T121657Z
LAST-MODIFIED:20230422T210125Z
UID:10003656-1689426000-1689440400@mrvvillage.com
SUMMARY:Reflections by ‘f7’ Photo Group
DESCRIPTION:March 22- April 27: Reflections by‘f7’ Photo Group \nReception: March 23\, 5-7pm \nArtist talk: March 23 \nOpen Tuesday-Saturday 1-5 pm
URL:https://mrvvillage.com/event/reflections-by-f7-photo-group-40/
LOCATION:Festival Gallery at Valley Arts\, 5031 Main Street\,\, Waitsfield\, 05673
CATEGORIES:Arts & Entertainment,Community,Family Friendly
ATTACH;FMTTYPE=image/jpeg:https://mrvvillage.com/wp-content/uploads/2023/01/PhotoShow-for-MRV-1-uybmQv.tmp_.jpg
ORGANIZER;CN="Mad%20River%20Valley%20Arts":MAILTO:director@madrivervalleyarts.org
GEO:44.1926386;-72.7798479
X-APPLE-STRUCTURED-LOCATION;VALUE=URI;X-ADDRESS=Festival Gallery at Valley Arts 5031 Main Street Waitsfield 05673;X-APPLE-RADIUS=500;X-TITLE=5031 Main Street\,:geo:-72.7798479,44.1926386
END:VEVENT
BEGIN:VEVENT
DTSTART;TZID=America/New_York:20230715T140000
DTEND;TZID=America/New_York:20230715T170000
DTSTAMP:20260422T053114
CREATED:20230622T102626Z
LAST-MODIFIED:20230715T230820Z
UID:10004166-1689429600-1689440400@mrvvillage.com
SUMMARY:Lawn Games
DESCRIPTION:Stop by to play lawn games\, have fun with bubbles\, and cool off with a popsicle. These outdoor activities are suitable for all ages. Part of the MRV Libraries “All Together Now” summer learning program.
URL:https://mrvvillage.com/event/lawn-games/
LOCATION:Warren Public Library\, 413 Main Street\, Warren\, 05674
CATEGORIES:Community,Family Friendly
ATTACH;FMTTYPE=image/png:https://mrvvillage.com/wp-content/uploads/2023/06/Lawn-Games-D3KNHm.tmp_.png
ORGANIZER;CN="Mad%20River%20Libraries":MAILTO:programs@warrenlibrary.com
GEO:44.118347;-72.8576681
X-APPLE-STRUCTURED-LOCATION;VALUE=URI;X-ADDRESS=Warren Public Library 413 Main Street Warren 05674;X-APPLE-RADIUS=500;X-TITLE=413 Main Street:geo:-72.8576681,44.118347
END:VEVENT
BEGIN:VEVENT
DTSTART;TZID=America/New_York:20230715T193000
DTEND;TZID=America/New_York:20230715T213000
DTSTAMP:20260422T053114
CREATED:20230620T095535Z
LAST-MODIFIED:20230715T230821Z
UID:10004147-1689449400-1689456600@mrvvillage.com
SUMMARY:Willy Wonka at the Valley Players
DESCRIPTION:Roald Dahl’s Willy Wonka follows enigmatic candy manufacturer Willy Wonka as he stages a contest by hiding golden tickets in five of his scrumptious candy bars. Whomever comes up with these tickets will win a free tour of the Wonka factory\, as well as a lifetime supply of candy. Four of the five winning children are insufferable brats: the fifth is a likeable young lad named Charlie Bucket\, who takes the tour in the company of his equally amiable grandfather. The children must learn to follow Mr. Wonka’s rules in the factory… or suffer the consequences. Featuring the enchanting songs from the 1971 film starring Gene Wilder and new songs by Leslie Bricusse (Jekyll & Hyde\, Doctor Dolittle) and Anthony Newley\, Roald Dahl’s Willy Wonka is a musical guaranteed to delight everyone’s sweet tooth. \nMusic and lyrics by Leslie Bricusse and Anthony Newly\nAdapted for the stage by Leslie Bricusse and Timothy Allen McDonaldBased on the book “Charlie and the Chocolate Factory” by Roald Dahl \n​\nCAST:Willy Wonka – Wes Olds (Graniteville)Charlie Bucket – Zane Demarais (Websterville)The Candy Man/Phineous Trout\, reporter – Ashley Hall (Warren)Augustus Gloop – Jane Schaefer (Waitsfield)Mrs. Gloop – Carrie Phillips (Waterbury)Veruca Salt – Camille Edgcomb (Warren)Mr. Salt – Jordan Streeter (Montpelier)Violet Beauregarde – Naomi Niewiadomski (Waitsfield)Mrs. Beauregarde – Charlotte Robinson (Warren)Mike Teavee – Tarin Askew (Warren) andMrs. Teavee – Stefanie Seng (Waterbury)Grandpa Joe – Clem Turmel (Milton)Mr. Bucket – Matt Bellew (St. Albans)Mrs. Bucket – Cassandra Demarais (Websterville)Grandma Josephine – Joanne Puente (Worcester)Grandma Georgina – Marci Robinson (Warren)Grandpa George – Joe Robinson (Warren)Oompa Loompas – Tommy O’Grady (Waitsfield)\, Sunny Randall (Moretown)\, Ava Robinson (Warren)\, and Elizabeth Treacy (Fayston) \n​ \nNEW! Buy a Shout-Out to a members of the cast or crew!\nYour message of up to 20 words will appear in the playbill insert for each show.\nDonation of $10 goes to support the show and more famnily friendly theater at the Valley Players!
URL:https://mrvvillage.com/event/willy-wonka-at-the-valley-players-10/
LOCATION:Valley Players Theater\, 4254 Main Street\, Route 100\, Waitsfield\, VT\, 05673\, United States
CATEGORIES:Arts & Entertainment,Community,Family Friendly
ATTACH;FMTTYPE=image/png:https://mrvvillage.com/wp-content/uploads/2023/06/Screen-Shot-2023-06-19-at-10.29.13-AM-3uGrzS.tmp_.png
GEO:44.2017815;-72.8121321
X-APPLE-STRUCTURED-LOCATION;VALUE=URI;X-ADDRESS=Valley Players Theater 4254 Main Street Route 100 Waitsfield VT 05673 United States;X-APPLE-RADIUS=500;X-TITLE=4254 Main Street\, Route 100:geo:-72.8121321,44.2017815
END:VEVENT
END:VCALENDAR