BEGIN:VCALENDAR
VERSION:2.0
PRODID:-//The Mad River Valley Village - ECPv6.0.13//NONSGML v1.0//EN
CALSCALE:GREGORIAN
METHOD:PUBLISH
X-ORIGINAL-URL:https://mrvvillage.com
X-WR-CALDESC:Events for The Mad River Valley Village
REFRESH-INTERVAL;VALUE=DURATION:PT1H
X-Robots-Tag:noindex
X-PUBLISHED-TTL:PT1H
BEGIN:VTIMEZONE
TZID:America/New_York
BEGIN:DAYLIGHT
TZOFFSETFROM:-0500
TZOFFSETTO:-0400
TZNAME:EDT
DTSTART:20230312T070000
END:DAYLIGHT
BEGIN:STANDARD
TZOFFSETFROM:-0400
TZOFFSETTO:-0500
TZNAME:EST
DTSTART:20231105T060000
END:STANDARD
TZID:UTC
BEGIN:STANDARD
TZOFFSETFROM:+0000
TZOFFSETTO:+0000
TZNAME:UTC
DTSTART:20230101T000000
END:STANDARD
END:VTIMEZONE
BEGIN:VEVENT
DTSTART;TZID=America/New_York:20230724T090000
DTEND;TZID=America/New_York:20230728T150000
DTSTAMP:20260422T053124
CREATED:20230523T212735Z
LAST-MODIFIED:20230724T005318Z
UID:10003998-1690189200-1690556400@mrvvillage.com
SUMMARY:Farm and River Camps (Preschool too!)
DESCRIPTION:Living Tree Alliance’s camps immerse children in the life of our homestead\, rivers and forests through farming\, cooking\, nature crafts\, swimming\, and forest and field games.In the afternoon\, we explore the forest through play\, fort building and of course spend ample time splashing in the Mad River and Dowsville Creek. We will be welcoming preschoolers this week! Please inquire about paying per diem if your child can not attend for the week.
URL:https://mrvvillage.com/event/farm-and-river-camps-preschool-too/
LOCATION:Living Tree Alliance\, 96 Living Tree Ln\, Moretown\, VT\, 05660\, United States
CATEGORIES:Community,Family Friendly
ATTACH;FMTTYPE=image/jpeg:https://mrvvillage.com/wp-content/uploads/2023/05/campcard2-dXfKum.tmp_.jpg
ORGANIZER;CN="Living%20Tree%20Alliance":MAILTO:info@livingtreealliance.com
GEO:44.2472902;-72.7762636
X-APPLE-STRUCTURED-LOCATION;VALUE=URI;X-ADDRESS=Living Tree Alliance 96 Living Tree Ln Moretown VT 05660 United States;X-APPLE-RADIUS=500;X-TITLE=96 Living Tree Ln:geo:-72.7762636,44.2472902
END:VEVENT
BEGIN:VEVENT
DTSTART;TZID=America/New_York:20230724T130000
DTEND;TZID=America/New_York:20230728T160000
DTSTAMP:20260422T053124
CREATED:20230523T212739Z
LAST-MODIFIED:20230724T005319Z
UID:10003999-1690203600-1690560000@mrvvillage.com
SUMMARY:Mixed-Media Photography Summer Camp (Ages 8-14)
DESCRIPTION:Instructor: Barrie Fisher\, artist\, teacher\, professional photographer \nBuild a personal work- story\, landscape or portrait starting with your own photography adventures and merge visual elements with mixed-media techniques. This is an opportunity to employ collage with photos\, drawings\, found imagery\, video and/or text. \nScholarships are available on a sliding scale basis.
URL:https://mrvvillage.com/event/mixed-media-photography-summer-camp-ages-8-14/
LOCATION:Mad River Valley Arts\, 5031 Main Street #2 Village Square\, Waitsfield\, 05673
CATEGORIES:Community,Family Friendly
ATTACH;FMTTYPE=image/png:https://mrvvillage.com/wp-content/uploads/2023/05/photocamp-w2LcmN.tmp_.png
ORGANIZER;CN="Mad%20River%20Valley%20Arts":MAILTO:director@madrivervalleyarts.org
GEO:44.1926386;-72.7798479
X-APPLE-STRUCTURED-LOCATION;VALUE=URI;X-ADDRESS=Mad River Valley Arts 5031 Main Street #2 Village Square Waitsfield 05673;X-APPLE-RADIUS=500;X-TITLE=5031 Main Street #2 Village Square:geo:-72.7798479,44.1926386
END:VEVENT
BEGIN:VEVENT
DTSTART;TZID=UTC:20230727T170000
DTEND;TZID=UTC:20230727T210000
DTSTAMP:20260422T053124
CREATED:20230627T184107Z
LAST-MODIFIED:20230727T010823Z
UID:10004219-1690477200-1690491600@mrvvillage.com
SUMMARY:MRB Pub Music Series: Jaded Ravins
DESCRIPTION:Join us for live music\, food & drinks from 5:00-9:00pm. Music featuring Jaded Ravins
URL:https://mrvvillage.com/event/pub-music-series-jaded-ravins-2/
CATEGORIES:Dining,Family Friendly,Live Music,Public Welcome
END:VEVENT
BEGIN:VEVENT
DTSTART;TZID=UTC:20230727T170000
DTEND;TZID=UTC:20230727T210000
DTSTAMP:20260422T053124
CREATED:20230627T184107Z
LAST-MODIFIED:20230727T010823Z
UID:10004220-1690477200-1690491600@mrvvillage.com
SUMMARY:Pub Music Series: Jaded Ravins
DESCRIPTION:Join us for live music\, food & drinks from 5:00-9:00pm. Music featuring Jaded Ravins
URL:https://mrvvillage.com/event/pub-music-series-jaded-ravins-3/
CATEGORIES:Dining,Family Friendly,Live Music,Public Welcome
END:VEVENT
END:VCALENDAR