BEGIN:VCALENDAR
VERSION:2.0
PRODID:-//The Mad River Valley Village - ECPv6.0.13//NONSGML v1.0//EN
CALSCALE:GREGORIAN
METHOD:PUBLISH
X-WR-CALNAME:The Mad River Valley Village
X-ORIGINAL-URL:https://mrvvillage.com
X-WR-CALDESC:Events for The Mad River Valley Village
REFRESH-INTERVAL;VALUE=DURATION:PT1H
X-Robots-Tag:noindex
X-PUBLISHED-TTL:PT1H
BEGIN:VTIMEZONE
TZID:America/New_York
BEGIN:DAYLIGHT
TZOFFSETFROM:-0500
TZOFFSETTO:-0400
TZNAME:EDT
DTSTART:20230312T070000
END:DAYLIGHT
BEGIN:STANDARD
TZOFFSETFROM:-0400
TZOFFSETTO:-0500
TZNAME:EST
DTSTART:20231105T060000
END:STANDARD
END:VTIMEZONE
BEGIN:VEVENT
DTSTART;TZID=America/New_York:20230823T180000
DTEND;TZID=America/New_York:20230823T203000
DTSTAMP:20260422T102135
CREATED:20230706T172819Z
LAST-MODIFIED:20230813T043953Z
UID:10004285-1692813600-1692822600@mrvvillage.com
SUMMARY:Mad River Glen Wednesday Night Live Music Series
DESCRIPTION:Come on up to Mad River Glen every Wednesday for live music and tasty vitals and libations at general Stark’s Pub!\nCheck out the line up! \n\n7/12 Medicine Tribe Trio\n7/19 Evan Jennison\n7/26 TBD\n8/2 TBD\n8/9 TBD\n8/16 Ragged Company\n8/23 Atom and the Orbits\n8/30 Danielle Keegan and friends\n9/6 Jaded Ravins\n9/13 Alex Budney and Friends\n9/20 Easy Street Duo\n9/27 She Was Right\n10/4 TBD
URL:https://mrvvillage.com/event/mad-river-glen-wednesday-night-live-music-series-7/
LOCATION:Mad River Glen\, 57 Schuss Pass Road\, Waitsfield\, 05673
CATEGORIES:Arts & Entertainment,Community,Family Friendly,Food & Drink
ATTACH;FMTTYPE=image/png:https://mrvvillage.com/wp-content/uploads/2022/12/mad-river-glen-ZDw5Dq.tmp_.png
ORGANIZER;CN="Mad%20River%20Glen":MAILTO:ski@madriverglen.com
GEO:44.2023162;-72.9182617
X-APPLE-STRUCTURED-LOCATION;VALUE=URI;X-ADDRESS=Mad River Glen 57 Schuss Pass Road Waitsfield 05673;X-APPLE-RADIUS=500;X-TITLE=57 Schuss Pass Road:geo:-72.9182617,44.2023162
END:VEVENT
BEGIN:VEVENT
DTSTART;TZID=America/New_York:20230823T190000
DTEND;TZID=America/New_York:20230823T200000
DTSTAMP:20260422T102135
CREATED:20230810T152449Z
LAST-MODIFIED:20230823T183827Z
UID:10004571-1692817200-1692820800@mrvvillage.com
SUMMARY:Starrs Above Circus at Lareau Farm
DESCRIPTION:Embark on a mesmerizing journey with Stars Above\, a captivating outdoor circus show that brings together the enchantment of classical circus and the thrill of contemporary performance. This family-friendly spectacle\, created by the innovative minds of Hideaway Circus founders Josh and Lyndsay Aviner\, is perfect for audiences of all ages.\nGet your tickets now! \n? A Talented All-Star Cast: Be prepared to be dazzled by our world-class performers who will take your breath away with their gravity-defying feats\, jaw-dropping acrobatics\, and mesmerizing displays of skill and artistry. \n? Timeless Storytelling: Travel back in time with our heartwarming story that revolves around a day in the life of a traveling family troupe\, evoking the charm of small touring circuses from centuries past. \n? Enchanting Original Music: Allow the captivating tunes to transport you to another world\, as our musicians perform a spellbinding score that is sure to leave you humming long after the show. \n? Stunning Outdoor Setting: Experience the awe-inspiring beauty of the great outdoors as our custom-built circular stage and aerial rig provide the perfect backdrop under the vast canopy of the sky and stars.
URL:https://mrvvillage.com/event/starrs-above-circus-at-lareau-farm-2/
LOCATION:Lareau Farm\, 48 Lareau Road\, Waitsfield\, VT\, 05673\, United States
CATEGORIES:Arts & Entertainment,Family Friendly
ATTACH;FMTTYPE=image/png:https://mrvvillage.com/wp-content/uploads/2023/08/Screen-Shot-2023-08-10-at-7.00.24-AM-O5eszM.tmp_.png
ORGANIZER;CN="Lareau%20Farm%20Inn":MAILTO:stay@lareaufarminn.com
GEO:44.172559;-72.833919
X-APPLE-STRUCTURED-LOCATION;VALUE=URI;X-ADDRESS=Lareau Farm 48 Lareau Road Waitsfield VT 05673 United States;X-APPLE-RADIUS=500;X-TITLE=48 Lareau Road:geo:-72.833919,44.172559
END:VEVENT
END:VCALENDAR