BEGIN:VCALENDAR
VERSION:2.0
PRODID:-//The Mad River Valley Village - ECPv6.0.13//NONSGML v1.0//EN
CALSCALE:GREGORIAN
METHOD:PUBLISH
X-ORIGINAL-URL:https://mrvvillage.com
X-WR-CALDESC:Events for The Mad River Valley Village
REFRESH-INTERVAL;VALUE=DURATION:PT1H
X-Robots-Tag:noindex
X-PUBLISHED-TTL:PT1H
BEGIN:VTIMEZONE
TZID:America/New_York
BEGIN:DAYLIGHT
TZOFFSETFROM:-0500
TZOFFSETTO:-0400
TZNAME:EDT
DTSTART:20230312T070000
END:DAYLIGHT
BEGIN:STANDARD
TZOFFSETFROM:-0400
TZOFFSETTO:-0500
TZNAME:EST
DTSTART:20231105T060000
END:STANDARD
END:VTIMEZONE
BEGIN:VEVENT
DTSTART;TZID=America/New_York:20230826T090000
DTEND;TZID=America/New_York:20230826T130000
DTSTAMP:20260422T102419
CREATED:20230528T054255Z
LAST-MODIFIED:20230614T132726Z
UID:10004013-1693040400-1693054800@mrvvillage.com
SUMMARY:Waitsfield Farmers Market
DESCRIPTION:Welcome to the Waitsfield Farmer’s Market.  We’re a unique collective of Vermont farmers\, makers\, bakers\, and shakers in the heart of the Mad River Valley. \nLocal produce\, plant starts\, fruit trees\, bushes\, maple\, honey\, flowers\, seedlings\, eggs\, meats\, cheeses\, fish\, crafts\, art\, clothes\, bread\, baked goods\, liquors\, and prepared foods all by Vermonters. \nEstablished in 1993\, the Waitsfield Farmer’s Market for decades has been a meeting place for those who appreciate Vermont farmers and artisans. Our market vendors are a carefully curated group of local Vermont businesses who provide the highest quality products to market. Every Saturday\, rain or shine\, May-October\, you’ll find us on the green! \nEvery Saturday\, Rain or Shine from 9 am to 1 pm\nMay 13th – October 14th\, 2023 \nOur market can be found on the Mad River Green in Waitsfield\, Vermont.
URL:https://mrvvillage.com/event/waitsfield-farmers-market-16/
LOCATION:Mad River Green\, 105 Mad River Green\, Waitsfield\, VT\, 05673\, United States
CATEGORIES:Arts & Entertainment,Community,Family Friendly,Food & Drink
ATTACH;FMTTYPE=image/png:https://mrvvillage.com/wp-content/uploads/2023/04/WFM_Brand_Logos-02-DmdRr1.tmp_.png
ORGANIZER;CN="Waitsfield%20Farmer%26%238217%3Bs%20Market":MAILTO:waitsfieldmarketmanager@gmail.com
GEO:44.183836;-72.8388576
X-APPLE-STRUCTURED-LOCATION;VALUE=URI;X-ADDRESS=Mad River Green 105 Mad River Green Waitsfield VT 05673 United States;X-APPLE-RADIUS=500;X-TITLE=105 Mad River Green:geo:-72.8388576,44.183836
END:VEVENT
BEGIN:VEVENT
DTSTART;TZID=America/New_York:20230826T103000
DTEND;TZID=America/New_York:20230826T110000
DTSTAMP:20260422T102419
CREATED:20230807T144047Z
LAST-MODIFIED:20230826T192328Z
UID:10004564-1693045800-1693047600@mrvvillage.com
SUMMARY:Sun and Shadow Storytime
DESCRIPTION:To close out the month of Solar Science Saturdays\, we’ll be having a special “Sun and Shadow” storytime for families with children in grades PK-2. Caregivers and siblings of all ages are invited to join. Afterwards\, children and grownups alike can safely view the sun using our sunspotter\, eclipse glasses and sunoculars. Information about the upcoming solar eclipses in October 2023 and April 2024 will be available.
URL:https://mrvvillage.com/event/sun-and-shadow-storytime/
LOCATION:Warren Public Library\, 413 Main Street\, Warren\, 05674
CATEGORIES:Family Friendly
ATTACH;FMTTYPE=image/png:https://mrvvillage.com/wp-content/uploads/2023/08/Sun-and-Shadow-Storytime-Mvq6F3.tmp_.png
ORGANIZER;CN="Warren%20Public%20Library":MAILTO:director@warrenlibrary.com
GEO:44.118347;-72.8576681
X-APPLE-STRUCTURED-LOCATION;VALUE=URI;X-ADDRESS=Warren Public Library 413 Main Street Warren 05674;X-APPLE-RADIUS=500;X-TITLE=413 Main Street:geo:-72.8576681,44.118347
END:VEVENT
END:VCALENDAR