BEGIN:VCALENDAR
VERSION:2.0
PRODID:-//The Mad River Valley Village - ECPv6.0.13//NONSGML v1.0//EN
CALSCALE:GREGORIAN
METHOD:PUBLISH
X-ORIGINAL-URL:https://mrvvillage.com
X-WR-CALDESC:Events for The Mad River Valley Village
REFRESH-INTERVAL;VALUE=DURATION:PT1H
X-Robots-Tag:noindex
X-PUBLISHED-TTL:PT1H
BEGIN:VTIMEZONE
TZID:America/New_York
BEGIN:DAYLIGHT
TZOFFSETFROM:-0500
TZOFFSETTO:-0400
TZNAME:EDT
DTSTART:20230312T070000
END:DAYLIGHT
BEGIN:STANDARD
TZOFFSETFROM:-0400
TZOFFSETTO:-0500
TZNAME:EST
DTSTART:20231105T060000
END:STANDARD
END:VTIMEZONE
BEGIN:VEVENT
DTSTART;TZID=America/New_York:20231005T160000
DTEND;TZID=America/New_York:20231116T170000
DTSTAMP:20260422T133432
CREATED:20230920T144010Z
LAST-MODIFIED:20231005T172319Z
UID:10005242-1696521600-1700154000@mrvvillage.com
SUMMARY:Clown Class for Ages 4 & 5
DESCRIPTION:Ages 4 & 5\nOctober 5th – November 16th (6 week session; no class Nov 2nd)\nThursday’s 4:00-5:00pm\nWaitsfield United Church of Christ – 4355 Main Street \nStructured silliness! Led by Kolleen & Bobby Kintz\, this class will explore creative movement\, comedic expression and ensemble creation. Students will play games\, move their bodies\, make soundtracks and find their funny. Students will share some of what they’ve learned at a showing for parents during the final class. \nThis is a drop-off class: we will help create a comfortable transition for your child when they arrive each week.
URL:https://mrvvillage.com/event/clown-class-for-ages-4-5/
LOCATION:Waitsfield United Church Village Meeting House\, 4355 Main St\, Waitsfield\, 05673
CATEGORIES:Arts & Entertainment,Community,Family Friendly
ATTACH;FMTTYPE=image/jpeg:https://mrvvillage.com/wp-content/uploads/2023/09/0I9A2219-1-2ZH0V7.tmp_.jpg
ORGANIZER;CN="Kolleen%20%26amp%3B%20Bobby%20Kintz":MAILTO:kolleenkintz@gmail.com
GEO:44.1905725;-72.8237868
X-APPLE-STRUCTURED-LOCATION;VALUE=URI;X-ADDRESS=Waitsfield United Church Village Meeting House 4355 Main St Waitsfield 05673;X-APPLE-RADIUS=500;X-TITLE=4355 Main St:geo:-72.8237868,44.1905725
END:VEVENT
BEGIN:VEVENT
DTSTART;TZID=America/New_York:20231005T160000
DTEND;TZID=America/New_York:20231116T170000
DTSTAMP:20260422T133432
CREATED:20230920T144011Z
LAST-MODIFIED:20231005T172319Z
UID:10005243-1696521600-1700154000@mrvvillage.com
SUMMARY:Parent & Child Clown Class for Ages 2 & 3
DESCRIPTION:Kolleen & Bobby Kintz are Offering a New Class! \nIn addition to our ongoing preschool age clown class\, we are excited to announce our newest class: Parent & Child Clown for Ages 2 & 3!\nStudents and their parents will play games\, move their bodies\, explore soundtracks and find their funny. We will use tools like songs\, puppets\, parachutes and more\, to help us teach the basic fundamentals of circus and performance through play. The journey starts here! \nParent & Child Clown\nAges 2 & 3\nOct 5th – Nov 16th (6 week session; no class Nov 2nd)\nThursday’s 10:00-11:00am\nWaitsfield United Church of Christ – 4355 Main Street\nCopy/paste the following link to learn more and register your little clown: https://forms.gle/Dm35UyGBHQE3oDCp8
URL:https://mrvvillage.com/event/parent-child-clown-class-for-ages-2-3/
LOCATION:Waitsfield United Church Village Meeting House\, 4355 Main St\, Waitsfield\, 05673
CATEGORIES:Arts & Entertainment,Community,Family Friendly
ATTACH;FMTTYPE=image/jpeg:https://mrvvillage.com/wp-content/uploads/2023/09/0I9A2159-1-kvpM6Y.tmp_.jpg
GEO:44.1905725;-72.8237868
X-APPLE-STRUCTURED-LOCATION;VALUE=URI;X-ADDRESS=Waitsfield United Church Village Meeting House 4355 Main St Waitsfield 05673;X-APPLE-RADIUS=500;X-TITLE=4355 Main St:geo:-72.8237868,44.1905725
END:VEVENT
BEGIN:VEVENT
DTSTART;TZID=America/New_York:20231014T000000
DTEND;TZID=America/New_York:20231014T235959
DTSTAMP:20260422T133432
CREATED:20231010T155352Z
LAST-MODIFIED:20231014T193815Z
UID:10005362-1697241600-1697327999@mrvvillage.com
SUMMARY:Grand Opening – Inklings Children’s Books
DESCRIPTION:All are welcome to Inklings’ Grand Opening party on October 14. Doors open at 9:30am for a day filled with singalongs\, stories\, and crafts. Snacks throughout the day. \nMusical Munchkins with Miss Andrea at 10am\, followed by Storytime under the cherry blossom at 11:30. The onsite craft area will be open all day long! \n 
URL:https://mrvvillage.com/event/grand-opening-inklings-childrens-books/
LOCATION:Unnamed Venue\, United States
CATEGORIES:Community,Family Friendly
ATTACH;FMTTYPE=image/jpeg:https://mrvvillage.com/wp-content/uploads/2023/10/ReadingPic-Df0y8h.tmp_.jpg
GEO:37.09024;-95.712891
END:VEVENT
BEGIN:VEVENT
DTSTART;TZID=America/New_York:20231014T090000
DTEND;TZID=America/New_York:20231014T130000
DTSTAMP:20260422T133432
CREATED:20230922T125532Z
LAST-MODIFIED:20231014T193815Z
UID:10005249-1697274000-1697288400@mrvvillage.com
SUMMARY:Waitsfield Farmer’s Market
DESCRIPTION:Local produce\, plant starts\, fruit trees\, bushes\, maple\, honey\, flowers\, seedlings\, eggs\, meats\, cheeses\, fish\, crafts\, art\, clothes\, bread\, baked goods\, liquors\, and prepared foods all by Vermonters. \nSaturdays from 9:00 AM to 1:00 PM\nMay 13th – October 14th\, 2023\n* Note: There is a smaller\, unofficial market on October 21st that is optional for vendors.
URL:https://mrvvillage.com/event/waitsfield-farmers-market-22/
CATEGORIES:Arts & Entertainment,Community,Family Friendly,Food & Drink,Live Music
ATTACH;FMTTYPE=image/png:https://mrvvillage.com/wp-content/uploads/2023/09/WFM_Brand_Logos-02-2-pq3lqG.tmp_.png
END:VEVENT
BEGIN:VEVENT
DTSTART;TZID=America/New_York:20231014T123000
DTEND;TZID=America/New_York:20231014T140000
DTSTAMP:20260422T133432
CREATED:20230926T161029Z
LAST-MODIFIED:20231014T193816Z
UID:10005265-1697286600-1697292000@mrvvillage.com
SUMMARY:Solar Eclipse Activities & Viewing
DESCRIPTION:Eclipse-themed experiments and crafts for the whole family. Use eclipse glasses to catch a glimpse of the partial solar eclipse at 1:20. Learn about the total solar eclipse coming in April 2024. Free and open to all.
URL:https://mrvvillage.com/event/solar-eclipse-activities-viewing/
LOCATION:Warren Public Library\, 413 Main Street\, Warren\, 05674
CATEGORIES:Community,Family Friendly
ATTACH;FMTTYPE=image/png:https://mrvvillage.com/wp-content/uploads/2023/09/Solar-Eclipse-Activities-October-2023-Pu6RR5.tmp_.png
ORGANIZER;CN="Warren%20Public%20Library":MAILTO:director@warrenlibrary.com
GEO:44.118347;-72.8576681
X-APPLE-STRUCTURED-LOCATION;VALUE=URI;X-ADDRESS=Warren Public Library 413 Main Street Warren 05674;X-APPLE-RADIUS=500;X-TITLE=413 Main Street:geo:-72.8576681,44.118347
END:VEVENT
END:VCALENDAR