BEGIN:VCALENDAR
VERSION:2.0
PRODID:-//The Mad River Valley Village - ECPv6.0.13//NONSGML v1.0//EN
CALSCALE:GREGORIAN
METHOD:PUBLISH
X-ORIGINAL-URL:https://mrvvillage.com
X-WR-CALDESC:Events for The Mad River Valley Village
REFRESH-INTERVAL;VALUE=DURATION:PT1H
X-Robots-Tag:noindex
X-PUBLISHED-TTL:PT1H
BEGIN:VTIMEZONE
TZID:America/New_York
BEGIN:DAYLIGHT
TZOFFSETFROM:-0500
TZOFFSETTO:-0400
TZNAME:EDT
DTSTART:20230312T070000
END:DAYLIGHT
BEGIN:STANDARD
TZOFFSETFROM:-0400
TZOFFSETTO:-0500
TZNAME:EST
DTSTART:20231105T060000
END:STANDARD
BEGIN:DAYLIGHT
TZOFFSETFROM:-0500
TZOFFSETTO:-0400
TZNAME:EDT
DTSTART:20240310T070000
END:DAYLIGHT
BEGIN:STANDARD
TZOFFSETFROM:-0400
TZOFFSETTO:-0500
TZNAME:EST
DTSTART:20241103T060000
END:STANDARD
END:VTIMEZONE
BEGIN:VEVENT
DTSTART;TZID=America/New_York:20231129T090000
DTEND;TZID=America/New_York:20240124T094500
DTSTAMP:20260423T014128
CREATED:20231111T210926Z
LAST-MODIFIED:20231129T153834Z
UID:10005520-1701248400-1706089500@mrvvillage.com
SUMMARY:Holiday Winter Baby music classes for 4mos- 14 mos (non walkers)
DESCRIPTION:Musical Munchkins Baby music class. Babies are musical in the womb\, so it’s never too early to begin your musical education with your baby. You will learn delightful musical ways to play with your baby\, make friends\, and nurture your baby’s sensory development and natural musicianship. Babies love the gentle bouncing\, instrument plays with shakers\, drums\, bells\, glockenspiels\, prop play\, peek-a-boo games\, tickling rhymes\, baby massages\, and dancing included in our specialized 45-minute class. Please bring a small blanket for your baby to lie down on.\nincludes uploaded digital music of songs we will be singing in class.\nFor information\, fees & registration go to \, www.musicalmunchkins.net
URL:https://mrvvillage.com/event/holiday-winter-baby-music-classes-for-4mos-14-mos-non-walkers/
LOCATION:Inklings Children’s Books\, 106 Mad River Greeen\, Waitsfield\, VT\, 05673\, United States
CATEGORIES:Arts & Entertainment,Community,Family Friendly
ATTACH;FMTTYPE=image/jpeg:https://mrvvillage.com/wp-content/uploads/2023/11/292615646_457756686356599_8227499784858362724_n-mKKh9w.tmp_.jpg
ORGANIZER;CN="Musical%20Munchkins%20with%20Andrea":MAILTO:musicalmunchkinswithandrea@gmail.com
GEO:44.1844899;-72.839037
X-APPLE-STRUCTURED-LOCATION;VALUE=URI;X-ADDRESS=Inklings Children’s Books 106 Mad River Greeen Waitsfield VT 05673 United States;X-APPLE-RADIUS=500;X-TITLE=106 Mad River Greeen:geo:-72.839037,44.1844899
END:VEVENT
BEGIN:VEVENT
DTSTART;TZID=America/New_York:20231129T100000
DTEND;TZID=America/New_York:20240124T104500
DTSTAMP:20260423T014128
CREATED:20231111T210926Z
LAST-MODIFIED:20231129T153834Z
UID:10005521-1701252000-1706093100@mrvvillage.com
SUMMARY:Musical Munchkins Holiday winter classes for Toddlers & Preschoolers
DESCRIPTION:Our winter session weaves a tapestry of Holiday and winter songs movement games\, puppets\, flannel board stories\, songbooks\, instruments: Jingle Bells\, glockenspiels\, xylophones\, Triangles\, Woods\, lollipop drums\, and of course our Gathering drums that will keep your little ones singing\, playing\, dancing and having a great time while learning so much. After music class\, you can enjoy art activities and browse Inklings Children’s Book Store’s beautiful selection of books for toddlers and preschoolers.
URL:https://mrvvillage.com/event/musical-munchkins-holiday-winter-classes-for-toddlers-preschoolers/
LOCATION:Inklings Children’s Books\, 106 Mad River Greeen\, Waitsfield\, VT\, 05673\, United States
CATEGORIES:Arts & Entertainment,Community,Family Friendly
ATTACH;FMTTYPE=image/jpeg:https://mrvvillage.com/wp-content/uploads/2023/11/292615646_457756686356599_8227499784858362724_n-mKKh9w.tmp_.jpg
ORGANIZER;CN="Musical%20Munchkins%20with%20Andrea":MAILTO:musicalmunchkinswithandrea@gmail.com
GEO:44.1844899;-72.839037
X-APPLE-STRUCTURED-LOCATION;VALUE=URI;X-ADDRESS=Inklings Children’s Books 106 Mad River Greeen Waitsfield VT 05673 United States;X-APPLE-RADIUS=500;X-TITLE=106 Mad River Greeen:geo:-72.839037,44.1844899
END:VEVENT
BEGIN:VEVENT
DTSTART;TZID=America/New_York:20231227T100000
DTEND;TZID=America/New_York:20231227T160000
DTSTAMP:20260423T014128
CREATED:20231202T160914Z
LAST-MODIFIED:20231227T213821Z
UID:10005652-1703671200-1703692800@mrvvillage.com
SUMMARY:Ice Carving Demonstration
DESCRIPTION:Join us and Wicked Good Ice for a ice carving demonstration in the Lincoln Peak Courtyard.
URL:https://mrvvillage.com/event/ice-carving-demonstration-3/
LOCATION:Lincoln Peak Courtyard\, Warren\, 05674\, United States
CATEGORIES:Family Friendly,Sugarbush
ATTACH;FMTTYPE=image/webp:https://mrvvillage.com/wp-content/uploads/2023/11/ice-carving-scaled-iIYJSo.tmp_.webp
GEO:44.1359019;-72.8944139
END:VEVENT
BEGIN:VEVENT
DTSTART;TZID=America/New_York:20231227T160000
DTEND;TZID=America/New_York:20231227T160000
DTSTAMP:20260423T014128
CREATED:20231123T145428Z
LAST-MODIFIED:20231227T213822Z
UID:10005570-1703692800-1703692800@mrvvillage.com
SUMMARY:Vermont Institute of Natural Science Meet and Greet
DESCRIPTION:Stop by and learn defining characteristics that make a bird a raptor and their adaptations for life as a predator on the wing. Touchable artifacts and educational\, informational materials round out this experience.
URL:https://mrvvillage.com/event/vermont-institute-of-natural-science-meet-and-greet/
LOCATION:Gate House Lodge\, Lincoln Peak
CATEGORIES:Family Friendly,Sugarbush
ATTACH;FMTTYPE=image/png:https://mrvvillage.com/wp-content/uploads/2023/11/vins-logo-Z0Rb7h.tmp_.png
GEO:44.1272818;-72.9284492
X-APPLE-STRUCTURED-LOCATION;VALUE=URI;X-ADDRESS=Gate House Lodge Lincoln Peak;X-APPLE-RADIUS=500;X-TITLE=Lincoln Peak:geo:-72.9284492,44.1272818
END:VEVENT
BEGIN:VEVENT
DTSTART;TZID=America/New_York:20231227T180000
DTEND;TZID=America/New_York:20231227T190000
DTSTAMP:20260423T014128
CREATED:20231123T145430Z
LAST-MODIFIED:20231227T213822Z
UID:10005571-1703700000-1703703600@mrvvillage.com
SUMMARY:Family Stargazing Night with Vaughn
DESCRIPTION:Join us to explore the night sky and learn about the constellations’ folk lore.Weather permitting. Limited amounts of binoculars are available. We encourage you to bring your own binoculars or telescope if you have them! For more information contact Vaughn Keenholdvkeenhold@sugarbush.com
URL:https://mrvvillage.com/event/family-stargazing-night-with-vaughn/
LOCATION:Sugarbush Resort\, 102 Forest Drive Warren\, VT 05674\, Warren\, 05674
CATEGORIES:Family Friendly,Sugarbush
ATTACH;FMTTYPE=image/webp:https://mrvvillage.com/wp-content/uploads/2023/11/stargazing-adobestock_252269112-1176x785-59b1133e-f81a-4087-ba0d-66b7b640b35e-5jDX7d.tmp_.webp
GEO:44.1272818;-72.9284492
X-APPLE-STRUCTURED-LOCATION;VALUE=URI;X-ADDRESS=Sugarbush Resort 102 Forest Drive Warren VT 05674 Warren 05674;X-APPLE-RADIUS=500;X-TITLE=102 Forest Drive Warren\, VT 05674:geo:-72.9284492,44.1272818
END:VEVENT
END:VCALENDAR