BEGIN:VCALENDAR
VERSION:2.0
PRODID:-//The Mad River Valley Village - ECPv6.0.13//NONSGML v1.0//EN
CALSCALE:GREGORIAN
METHOD:PUBLISH
X-ORIGINAL-URL:https://mrvvillage.com
X-WR-CALDESC:Events for The Mad River Valley Village
REFRESH-INTERVAL;VALUE=DURATION:PT1H
X-Robots-Tag:noindex
X-PUBLISHED-TTL:PT1H
BEGIN:VTIMEZONE
TZID:America/New_York
BEGIN:DAYLIGHT
TZOFFSETFROM:-0500
TZOFFSETTO:-0400
TZNAME:EDT
DTSTART:20230312T070000
END:DAYLIGHT
BEGIN:STANDARD
TZOFFSETFROM:-0400
TZOFFSETTO:-0500
TZNAME:EST
DTSTART:20231105T060000
END:STANDARD
BEGIN:DAYLIGHT
TZOFFSETFROM:-0500
TZOFFSETTO:-0400
TZNAME:EDT
DTSTART:20240310T070000
END:DAYLIGHT
BEGIN:STANDARD
TZOFFSETFROM:-0400
TZOFFSETTO:-0500
TZNAME:EST
DTSTART:20241103T060000
END:STANDARD
END:VTIMEZONE
BEGIN:VEVENT
DTSTART;TZID=America/New_York:20231129T090000
DTEND;TZID=America/New_York:20240124T094500
DTSTAMP:20260423T014136
CREATED:20231111T210926Z
LAST-MODIFIED:20231129T153834Z
UID:10005520-1701248400-1706089500@mrvvillage.com
SUMMARY:Holiday Winter Baby music classes for 4mos- 14 mos (non walkers)
DESCRIPTION:Musical Munchkins Baby music class. Babies are musical in the womb\, so it’s never too early to begin your musical education with your baby. You will learn delightful musical ways to play with your baby\, make friends\, and nurture your baby’s sensory development and natural musicianship. Babies love the gentle bouncing\, instrument plays with shakers\, drums\, bells\, glockenspiels\, prop play\, peek-a-boo games\, tickling rhymes\, baby massages\, and dancing included in our specialized 45-minute class. Please bring a small blanket for your baby to lie down on.\nincludes uploaded digital music of songs we will be singing in class.\nFor information\, fees & registration go to \, www.musicalmunchkins.net
URL:https://mrvvillage.com/event/holiday-winter-baby-music-classes-for-4mos-14-mos-non-walkers/
LOCATION:Inklings Children’s Books\, 106 Mad River Greeen\, Waitsfield\, VT\, 05673\, United States
CATEGORIES:Arts & Entertainment,Community,Family Friendly
ATTACH;FMTTYPE=image/jpeg:https://mrvvillage.com/wp-content/uploads/2023/11/292615646_457756686356599_8227499784858362724_n-mKKh9w.tmp_.jpg
ORGANIZER;CN="Musical%20Munchkins%20with%20Andrea":MAILTO:musicalmunchkinswithandrea@gmail.com
GEO:44.1844899;-72.839037
X-APPLE-STRUCTURED-LOCATION;VALUE=URI;X-ADDRESS=Inklings Children’s Books 106 Mad River Greeen Waitsfield VT 05673 United States;X-APPLE-RADIUS=500;X-TITLE=106 Mad River Greeen:geo:-72.839037,44.1844899
END:VEVENT
BEGIN:VEVENT
DTSTART;TZID=America/New_York:20231129T100000
DTEND;TZID=America/New_York:20240124T104500
DTSTAMP:20260423T014136
CREATED:20231111T210926Z
LAST-MODIFIED:20231129T153834Z
UID:10005521-1701252000-1706093100@mrvvillage.com
SUMMARY:Musical Munchkins Holiday winter classes for Toddlers & Preschoolers
DESCRIPTION:Our winter session weaves a tapestry of Holiday and winter songs movement games\, puppets\, flannel board stories\, songbooks\, instruments: Jingle Bells\, glockenspiels\, xylophones\, Triangles\, Woods\, lollipop drums\, and of course our Gathering drums that will keep your little ones singing\, playing\, dancing and having a great time while learning so much. After music class\, you can enjoy art activities and browse Inklings Children’s Book Store’s beautiful selection of books for toddlers and preschoolers.
URL:https://mrvvillage.com/event/musical-munchkins-holiday-winter-classes-for-toddlers-preschoolers/
LOCATION:Inklings Children’s Books\, 106 Mad River Greeen\, Waitsfield\, VT\, 05673\, United States
CATEGORIES:Arts & Entertainment,Community,Family Friendly
ATTACH;FMTTYPE=image/jpeg:https://mrvvillage.com/wp-content/uploads/2023/11/292615646_457756686356599_8227499784858362724_n-mKKh9w.tmp_.jpg
ORGANIZER;CN="Musical%20Munchkins%20with%20Andrea":MAILTO:musicalmunchkinswithandrea@gmail.com
GEO:44.1844899;-72.839037
X-APPLE-STRUCTURED-LOCATION;VALUE=URI;X-ADDRESS=Inklings Children’s Books 106 Mad River Greeen Waitsfield VT 05673 United States;X-APPLE-RADIUS=500;X-TITLE=106 Mad River Greeen:geo:-72.839037,44.1844899
END:VEVENT
BEGIN:VEVENT
DTSTART;TZID=America/New_York:20231229T100000
DTEND;TZID=America/New_York:20231229T150000
DTSTAMP:20260423T014136
CREATED:20231123T145448Z
LAST-MODIFIED:20231229T220819Z
UID:10005575-1703844000-1703862000@mrvvillage.com
SUMMARY:Mini Golf
DESCRIPTION:Play some free mini golf in the Gate House Lodge! Located in the Sleeper Room\, all are welcome to participate at our indoor mini golf course.
URL:https://mrvvillage.com/event/mini-golf-2/
LOCATION:Gate House Lodge\, Lincoln Peak
CATEGORIES:Family Friendly,Sugarbush
ATTACH;FMTTYPE=image/jpeg:https://mrvvillage.com/wp-content/uploads/2023/11/mini-golf-QLELOf.tmp_.jpg
GEO:44.1272818;-72.9284492
X-APPLE-STRUCTURED-LOCATION;VALUE=URI;X-ADDRESS=Gate House Lodge Lincoln Peak;X-APPLE-RADIUS=500;X-TITLE=Lincoln Peak:geo:-72.9284492,44.1272818
END:VEVENT
BEGIN:VEVENT
DTSTART;TZID=America/New_York:20231229T120000
DTEND;TZID=America/New_York:20231229T130000
DTSTAMP:20260423T014136
CREATED:20231123T145449Z
LAST-MODIFIED:20231229T220819Z
UID:10005576-1703851200-1703854800@mrvvillage.com
SUMMARY:Marko the Magician
DESCRIPTION:Marko’s shows are designed for fun; no one is ever embarrassed or compromised. Marko believes the participants in his shows are the stars\, he makes them shine.
URL:https://mrvvillage.com/event/marko-the-magician-2/
LOCATION:Gate House Lodge\, Lincoln Peak
CATEGORIES:Family Friendly,Sugarbush
ATTACH;FMTTYPE=image/jpeg:https://mrvvillage.com/wp-content/uploads/2023/11/marko-the-magician-UwFzBN.tmp_.jpg
GEO:44.1272818;-72.9284492
X-APPLE-STRUCTURED-LOCATION;VALUE=URI;X-ADDRESS=Gate House Lodge Lincoln Peak;X-APPLE-RADIUS=500;X-TITLE=Lincoln Peak:geo:-72.9284492,44.1272818
END:VEVENT
BEGIN:VEVENT
DTSTART;TZID=America/New_York:20231229T150000
DTEND;TZID=America/New_York:20231229T150000
DTSTAMP:20260423T014136
CREATED:20231123T145449Z
LAST-MODIFIED:20231229T220820Z
UID:10005577-1703862000-1703862000@mrvvillage.com
SUMMARY:High Energy Juggling with Jason Tardy
DESCRIPTION:You may have seen juggling\, but you haven’t truly experienced it until you’ve seen the explosive\, inventive\, high-energy juggling of Jason Tardy. His show is a combination of many years of relentless practice\, and virtually no social life whatsoever. His hilarious show includes innovative choreographed juggling to music\, fitting his body through a tennis racket\, bowling ball juggling\, balancing a ladder on his face\, standing on a yoga ball\, and if you trust him enough; fire eating and fire breathing!
URL:https://mrvvillage.com/event/high-energy-juggling-with-jason-tardy/
LOCATION:Gate House Lodge\, Lincoln Peak
CATEGORIES:Family Friendly,Sugarbush
ATTACH;FMTTYPE=image/jpeg:https://mrvvillage.com/wp-content/uploads/2023/11/juggling-with-jason-tardy-XCMUyR.tmp_.jpg
GEO:44.1272818;-72.9284492
X-APPLE-STRUCTURED-LOCATION;VALUE=URI;X-ADDRESS=Gate House Lodge Lincoln Peak;X-APPLE-RADIUS=500;X-TITLE=Lincoln Peak:geo:-72.9284492,44.1272818
END:VEVENT
END:VCALENDAR