BEGIN:VCALENDAR
VERSION:2.0
PRODID:-//The Mad River Valley Village - ECPv6.0.13//NONSGML v1.0//EN
CALSCALE:GREGORIAN
METHOD:PUBLISH
X-WR-CALNAME:The Mad River Valley Village
X-ORIGINAL-URL:https://mrvvillage.com
X-WR-CALDESC:Events for The Mad River Valley Village
REFRESH-INTERVAL;VALUE=DURATION:PT1H
X-Robots-Tag:noindex
X-PUBLISHED-TTL:PT1H
BEGIN:VTIMEZONE
TZID:America/New_York
BEGIN:DAYLIGHT
TZOFFSETFROM:-0500
TZOFFSETTO:-0400
TZNAME:EDT
DTSTART:20230312T070000
END:DAYLIGHT
BEGIN:STANDARD
TZOFFSETFROM:-0400
TZOFFSETTO:-0500
TZNAME:EST
DTSTART:20231105T060000
END:STANDARD
BEGIN:DAYLIGHT
TZOFFSETFROM:-0500
TZOFFSETTO:-0400
TZNAME:EDT
DTSTART:20240310T070000
END:DAYLIGHT
BEGIN:STANDARD
TZOFFSETFROM:-0400
TZOFFSETTO:-0500
TZNAME:EST
DTSTART:20241103T060000
END:STANDARD
END:VTIMEZONE
BEGIN:VEVENT
DTSTART;TZID=America/New_York:20231129T090000
DTEND;TZID=America/New_York:20240124T094500
DTSTAMP:20260423T221640
CREATED:20231111T210926Z
LAST-MODIFIED:20231129T153834Z
UID:10005520-1701248400-1706089500@mrvvillage.com
SUMMARY:Holiday Winter Baby music classes for 4mos- 14 mos (non walkers)
DESCRIPTION:Musical Munchkins Baby music class. Babies are musical in the womb\, so it’s never too early to begin your musical education with your baby. You will learn delightful musical ways to play with your baby\, make friends\, and nurture your baby’s sensory development and natural musicianship. Babies love the gentle bouncing\, instrument plays with shakers\, drums\, bells\, glockenspiels\, prop play\, peek-a-boo games\, tickling rhymes\, baby massages\, and dancing included in our specialized 45-minute class. Please bring a small blanket for your baby to lie down on.\nincludes uploaded digital music of songs we will be singing in class.\nFor information\, fees & registration go to \, www.musicalmunchkins.net
URL:https://mrvvillage.com/event/holiday-winter-baby-music-classes-for-4mos-14-mos-non-walkers/
LOCATION:Inklings Children’s Books\, 106 Mad River Greeen\, Waitsfield\, VT\, 05673\, United States
CATEGORIES:Arts & Entertainment,Community,Family Friendly
ATTACH;FMTTYPE=image/jpeg:https://mrvvillage.com/wp-content/uploads/2023/11/292615646_457756686356599_8227499784858362724_n-mKKh9w.tmp_.jpg
ORGANIZER;CN="Musical%20Munchkins%20with%20Andrea":MAILTO:musicalmunchkinswithandrea@gmail.com
GEO:44.1844899;-72.839037
X-APPLE-STRUCTURED-LOCATION;VALUE=URI;X-ADDRESS=Inklings Children’s Books 106 Mad River Greeen Waitsfield VT 05673 United States;X-APPLE-RADIUS=500;X-TITLE=106 Mad River Greeen:geo:-72.839037,44.1844899
END:VEVENT
BEGIN:VEVENT
DTSTART;TZID=America/New_York:20231129T100000
DTEND;TZID=America/New_York:20240124T104500
DTSTAMP:20260423T221640
CREATED:20231111T210926Z
LAST-MODIFIED:20231129T153834Z
UID:10005521-1701252000-1706093100@mrvvillage.com
SUMMARY:Musical Munchkins Holiday winter classes for Toddlers & Preschoolers
DESCRIPTION:Our winter session weaves a tapestry of Holiday and winter songs movement games\, puppets\, flannel board stories\, songbooks\, instruments: Jingle Bells\, glockenspiels\, xylophones\, Triangles\, Woods\, lollipop drums\, and of course our Gathering drums that will keep your little ones singing\, playing\, dancing and having a great time while learning so much. After music class\, you can enjoy art activities and browse Inklings Children’s Book Store’s beautiful selection of books for toddlers and preschoolers.
URL:https://mrvvillage.com/event/musical-munchkins-holiday-winter-classes-for-toddlers-preschoolers/
LOCATION:Inklings Children’s Books\, 106 Mad River Greeen\, Waitsfield\, VT\, 05673\, United States
CATEGORIES:Arts & Entertainment,Community,Family Friendly
ATTACH;FMTTYPE=image/jpeg:https://mrvvillage.com/wp-content/uploads/2023/11/292615646_457756686356599_8227499784858362724_n-mKKh9w.tmp_.jpg
ORGANIZER;CN="Musical%20Munchkins%20with%20Andrea":MAILTO:musicalmunchkinswithandrea@gmail.com
GEO:44.1844899;-72.839037
X-APPLE-STRUCTURED-LOCATION;VALUE=URI;X-ADDRESS=Inklings Children’s Books 106 Mad River Greeen Waitsfield VT 05673 United States;X-APPLE-RADIUS=500;X-TITLE=106 Mad River Greeen:geo:-72.839037,44.1844899
END:VEVENT
BEGIN:VEVENT
DTSTART;TZID=America/New_York:20240121T000000
DTEND;TZID=America/New_York:20240121T235959
DTSTAMP:20260423T221640
CREATED:20240104T233944Z
LAST-MODIFIED:20240121T153822Z
UID:10005819-1705795200-1705881599@mrvvillage.com
SUMMARY:Karate School Open House and  Free Trial Classes
DESCRIPTION:Central Vermont Martial Arts\, a Karate school offering classes on Wednesdays in Moretown\, is having an Open House on Sunday\, January 21\, 2024. \nThe event is  free\, and includes five free classes that anyone in the community is welcome to attend – even if you’ll never become a regular student. \n1045 – 1115: Young warriors aged 6-11 can experience martial arts in our specially tailored Trial Class for Kids. It’s a  blend of fun and discipline. \n1130 – 1230: Adults (12+)\, it’s your turn to step onto the mat. Our Adult Trial Class offers a way to dive into the art and discover your potential. \n1230 – 115: Join us for a Potluck Lunch. Meet current students\, ask questions\, and enjoy a variety of dishes brought by fellow attendees. \n115 – 145: Another chance for kids to shine in our Trial Class for Kids.  Kids are free to attend one or both. \n200 – 300: We’re back with a second Trial Class for Adults. Whether you’re here for round two or just joining\, all are welcome. \n315 – 445: Cap off the day with our Self-Defense Class for Adults (recommended for 16+). Learn practical skills to empower and protect yourself. \nArrive at least 5 minutes early for any classes you wish to join. This day is more than just classes; it’s an opportunity to be part of a community. \nFor More Information:\nFacebook Event: https://www.facebook.com/events/269150799141631\nWebsite Page: https://www.centralvermontmartialarts.com/open-house
URL:https://mrvvillage.com/event/karate-school-open-house-and-free-trial-classes/
LOCATION:Moretown Town Hall\, 1147 Rte 100B\, Moretown\, VT\, 05660
CATEGORIES:Family Friendly,Public Welcome,Sports & Recreation
ATTACH;FMTTYPE=image/png:https://mrvvillage.com/wp-content/uploads/2024/01/Event-Flyer-E8NHsG.tmp_.png
ORGANIZER;CN="Central%20Vermont%20Martial%20Arts":MAILTO:jeremylesniak@gmail.com
GEO:44.2693866;-72.7462061
X-APPLE-STRUCTURED-LOCATION;VALUE=URI;X-ADDRESS=Moretown Town Hall 1147 Rte 100B Moretown VT 05660;X-APPLE-RADIUS=500;X-TITLE=1147 Rte 100B:geo:-72.7462061,44.2693866
END:VEVENT
END:VCALENDAR