BEGIN:VCALENDAR
VERSION:2.0
PRODID:-//The Mad River Valley Village - ECPv6.0.13//NONSGML v1.0//EN
CALSCALE:GREGORIAN
METHOD:PUBLISH
X-ORIGINAL-URL:https://mrvvillage.com
X-WR-CALDESC:Events for The Mad River Valley Village
REFRESH-INTERVAL;VALUE=DURATION:PT1H
X-Robots-Tag:noindex
X-PUBLISHED-TTL:PT1H
BEGIN:VTIMEZONE
TZID:America/New_York
BEGIN:DAYLIGHT
TZOFFSETFROM:-0500
TZOFFSETTO:-0400
TZNAME:EDT
DTSTART:20240310T070000
END:DAYLIGHT
BEGIN:STANDARD
TZOFFSETFROM:-0400
TZOFFSETTO:-0500
TZNAME:EST
DTSTART:20241103T060000
END:STANDARD
END:VTIMEZONE
BEGIN:VEVENT
DTSTART;TZID=America/New_York:20240127T170000
DTEND;TZID=America/New_York:20240127T210000
DTSTAMP:20260423T051512
CREATED:20231123T145625Z
LAST-MODIFIED:20240127T170823Z
UID:10005609-1706374800-1706389200@mrvvillage.com
SUMMARY:Mt Ellen 60th Anniversary Party
DESCRIPTION:It’s a party over at Mt. Ellen for our 60th Anniversary! Join us on January 27th\, and enjoy live music\, Red Bull DJ truck\, and food and drinks at the Green Mountain Lounge. Bring your skis\, board\, and a helmet to enjoy a Rail Jam Session under the lights at the bottom of Straight Shot presented by the Sugarbush PARKS crew. Participants under the age of 18 will need parent present for waiver signature.
URL:https://mrvvillage.com/event/mt-ellen-60th-anniversary-party/
LOCATION:Sugarbush Resort\, 102 Forest Drive Warren\, VT 05674\, Warren\, 05674
CATEGORIES:Family Friendly,Food & Drink,Sugarbush
ATTACH;FMTTYPE=image/jpeg:https://mrvvillage.com/wp-content/uploads/2023/11/mt-ellen-60th-party-kPXBKt.tmp_.jpg
GEO:44.1272818;-72.9284492
X-APPLE-STRUCTURED-LOCATION;VALUE=URI;X-ADDRESS=Sugarbush Resort 102 Forest Drive Warren VT 05674 Warren 05674;X-APPLE-RADIUS=500;X-TITLE=102 Forest Drive Warren\, VT 05674:geo:-72.9284492,44.1272818
END:VEVENT
END:VCALENDAR