BEGIN:VCALENDAR
VERSION:2.0
PRODID:-//The Mad River Valley Village - ECPv6.0.13//NONSGML v1.0//EN
CALSCALE:GREGORIAN
METHOD:PUBLISH
X-ORIGINAL-URL:https://mrvvillage.com
X-WR-CALDESC:Events for The Mad River Valley Village
REFRESH-INTERVAL;VALUE=DURATION:PT1H
X-Robots-Tag:noindex
X-PUBLISHED-TTL:PT1H
BEGIN:VTIMEZONE
TZID:America/New_York
BEGIN:DAYLIGHT
TZOFFSETFROM:-0500
TZOFFSETTO:-0400
TZNAME:EDT
DTSTART:20240310T070000
END:DAYLIGHT
BEGIN:STANDARD
TZOFFSETFROM:-0400
TZOFFSETTO:-0500
TZNAME:EST
DTSTART:20241103T060000
END:STANDARD
END:VTIMEZONE
BEGIN:VEVENT
DTSTART;TZID=America/New_York:20240203T130000
DTEND;TZID=America/New_York:20240203T140000
DTSTAMP:20260423T051505
CREATED:20240130T172347Z
LAST-MODIFIED:20240203T183817Z
UID:10005898-1706965200-1706968800@mrvvillage.com
SUMMARY:Tim Jennings Words & Music
DESCRIPTION:Tim Jennings is Back! Vermont’s “legendary\,” “irresistible\,” “captivating” folk storyteller returns to LNT with a new program of tales and music! For this special event\, “Vermont’s Leading Talespinner” is crafting an hour-long show for Kids of ALL Ages; one that the entire family can enjoy. Together! (surprise musical guests may pop in to join Tim too!) Gather round and be transported! The show will run approximately 60 minutes without an intermission. \nCovid Safety Protocols: Masks are strongly encouraged. (LNT’s State of the Art Bio-Defense Air Purification “Synexis” System is also in service 24/7 keeping everyone as safe as possible.) \nPlease\, enter through the frond doors. The Flood made LNT/City Hall’s elevator inoperable\, requiring climbing stairs to attend in person. The play will be available digitally to make the show accessible to those unable to physically join us. We appreciate your understanding during this emergency situation. \nSPONSORS: Vermont Recovery & Resilience Fund of the Vermont Community Foundation\, Montpelier Strong Fund\, The City of Montpelier\, Vermont Mutual Insurance\, National Life Group\, The World\, Eternity\, Vermont Arts Council/NEA\, The Estate of Ted Richards\, The Mary Shriver Fund of the Alan Weiss Estate \nABOUT LNT: Lost Nation Theater winner “Theater of the Decade” – Broadway World (2020); “Best of New England”\, Yankee Magazine\, was named “One of the Best regional theaters in America” by the New York Drama League\, “Outstanding Achievement Award” from the New England Theatre Conference; and has won the People’s Choice awards from both Seven Days and The Times Argus for Best Theater.
URL:https://mrvvillage.com/event/tim-jennings-words-music/
LOCATION:Lost Nation Theater\, 39 Main Street\, Montpelier\, 05602
CATEGORIES:Arts & Entertainment,Community,Family Friendly
ATTACH;FMTTYPE=image/png:https://mrvvillage.com/wp-content/uploads/2024/01/updated-Tim-Jennings-words-music-feb-2024-Patman-LARGE700-x-840-px.db2c4d02.31712343-CSVjFF.tmp_.png
ORGANIZER;CN="Lost%20Nation%20Theater":MAILTO:boxoffice@lostnationtheater.org
GEO:44.2591817;-72.5755222
X-APPLE-STRUCTURED-LOCATION;VALUE=URI;X-ADDRESS=Lost Nation Theater 39 Main Street Montpelier 05602;X-APPLE-RADIUS=500;X-TITLE=39 Main Street:geo:-72.5755222,44.2591817
END:VEVENT
BEGIN:VEVENT
DTSTART;TZID=America/New_York:20240203T140000
DTEND;TZID=America/New_York:20240203T153000
DTSTAMP:20260423T051505
CREATED:20240110T124135Z
LAST-MODIFIED:20240203T183817Z
UID:10005854-1706968800-1706974200@mrvvillage.com
SUMMARY:Author Event: Mason Goes Mushrooming
DESCRIPTION:Celebrate Take Your Child to the Library Day with Melany Kahn\, author of “Mason Goes Mushrooming.” The program features an animated read-aloud of the foraging adventure picture book\, an interactive mushroom ID session\, and a cooking demonstration and tasting. Suitable for all ages. \nInklings Children’s Books will be on hand with copies of “Mason Goes Mushrooming” to purchase.
URL:https://mrvvillage.com/event/author-event-mason-goes-mushrooming/
LOCATION:Warren Public Library\, 413 Main Street\, Warren\, 05674
CATEGORIES:Community,Family Friendly
ATTACH;FMTTYPE=image/jpeg:https://mrvvillage.com/wp-content/uploads/2024/01/Melany-Kahn-flyer-2024-vIJCwY.tmp_.jpg
ORGANIZER;CN="Warren%20Public%20Library":MAILTO:director@warrenlibrary.com
GEO:44.118347;-72.8576681
X-APPLE-STRUCTURED-LOCATION;VALUE=URI;X-ADDRESS=Warren Public Library 413 Main Street Warren 05674;X-APPLE-RADIUS=500;X-TITLE=413 Main Street:geo:-72.8576681,44.118347
END:VEVENT
BEGIN:VEVENT
DTSTART;TZID=America/New_York:20240203T160000
DTEND;TZID=America/New_York:20240203T170000
DTSTAMP:20260423T051505
CREATED:20231123T145641Z
LAST-MODIFIED:20240203T183817Z
UID:10005612-1706976000-1706979600@mrvvillage.com
SUMMARY:Vermont Institute of Natural Science Meet and Greet
DESCRIPTION:Stop by and learn about owls and their calls. Touchable artifacts and educational\, informational materials round out this experience.
URL:https://mrvvillage.com/event/vermont-institute-of-natural-science-meet-and-greet-2/
LOCATION:Sugarbush Resort\, 102 Forest Drive Warren\, VT 05674\, Warren\, 05674
CATEGORIES:Family Friendly,Sugarbush
ATTACH;FMTTYPE=image/png:https://mrvvillage.com/wp-content/uploads/2023/11/vins-logo-Z0Rb7h.tmp_.png
GEO:44.1272818;-72.9284492
X-APPLE-STRUCTURED-LOCATION;VALUE=URI;X-ADDRESS=Sugarbush Resort 102 Forest Drive Warren VT 05674 Warren 05674;X-APPLE-RADIUS=500;X-TITLE=102 Forest Drive Warren\, VT 05674:geo:-72.9284492,44.1272818
END:VEVENT
END:VCALENDAR