BEGIN:VCALENDAR
VERSION:2.0
PRODID:-//The Mad River Valley Village - ECPv6.0.13//NONSGML v1.0//EN
CALSCALE:GREGORIAN
METHOD:PUBLISH
X-ORIGINAL-URL:https://mrvvillage.com
X-WR-CALDESC:Events for The Mad River Valley Village
REFRESH-INTERVAL;VALUE=DURATION:PT1H
X-Robots-Tag:noindex
X-PUBLISHED-TTL:PT1H
BEGIN:VTIMEZONE
TZID:America/New_York
BEGIN:DAYLIGHT
TZOFFSETFROM:-0500
TZOFFSETTO:-0400
TZNAME:EDT
DTSTART:20240310T070000
END:DAYLIGHT
BEGIN:STANDARD
TZOFFSETFROM:-0400
TZOFFSETTO:-0500
TZNAME:EST
DTSTART:20241103T060000
END:STANDARD
END:VTIMEZONE
BEGIN:VEVENT
DTSTART;TZID=America/New_York:20240217T100000
DTEND;TZID=America/New_York:20240217T110000
DTSTAMP:20260423T105032
CREATED:20240202T173958Z
LAST-MODIFIED:20240217T212317Z
UID:10005908-1708164000-1708167600@mrvvillage.com
SUMMARY:Author Reading at Inklings Children’s Books!
DESCRIPTION:Inklings is excited to welcome Vermont author / illustrator\, Liza Woodruff on Saturday\, February 17th at 10am! \nFollowing the reading\, Liza will show the children how to draw characters from the book! \nA QUIETER STORY is a colorful and inventive picture book about a creative girl and her kitten. When the little kitten insists that his little-girl owner write an adventure story suitable for a TIGER\, the little tiger discovers that might not be what he wants after all. \nLIZA WOODRUFF’s home is in Vermont\, nestled between the Green Mountains and Lake Champlain. Nature is a big part of her life and when not working in her studio\, she can be found on the lake\, on the side of a mountain\, or deep in the woods with her family and/or two dogs.
URL:https://mrvvillage.com/event/author-reading-at-inklings-childrens-books-3/
LOCATION:Inklings Children’s Books\, 106 Mad River Greeen\, Waitsfield\, VT\, 05673\, United States
CATEGORIES:Community,Family Friendly
ATTACH;FMTTYPE=image/jpeg:https://mrvvillage.com/wp-content/uploads/2024/02/LizaWoodruffPost-copy-BOy6w2.tmp_.jpg
ORGANIZER;CN="Inklings%20Children%26%238217%3Bs%20Books":MAILTO:inklingschildrensbooks@gmail.com
GEO:44.1844899;-72.839037
X-APPLE-STRUCTURED-LOCATION;VALUE=URI;X-ADDRESS=Inklings Children’s Books 106 Mad River Greeen Waitsfield VT 05673 United States;X-APPLE-RADIUS=500;X-TITLE=106 Mad River Greeen:geo:-72.839037,44.1844899
END:VEVENT
BEGIN:VEVENT
DTSTART;TZID=America/New_York:20240217T120000
DTEND;TZID=America/New_York:20240217T150000
DTSTAMP:20260423T105032
CREATED:20231123T145721Z
LAST-MODIFIED:20240217T212317Z
UID:10005616-1708171200-1708182000@mrvvillage.com
SUMMARY:Blue Trunk Balloon
DESCRIPTION:ome enjoy energetic\, fun-filled\, and engaging balloon twisting in the Lincoln Peak Courtyard!
URL:https://mrvvillage.com/event/blue-trunk-balloon-4/
LOCATION:Lincoln Peak Courtyard\, Warren\, 05674\, United States
CATEGORIES:Family Friendly,Sugarbush
ATTACH;FMTTYPE=image/jpeg:https://mrvvillage.com/wp-content/uploads/2023/11/balloon-man-adobestock_229638877-1176x784-1df03bcb-2bd5-4a64-926d-b0514c6f12c5-oaSzoN.tmp_.jpg
GEO:44.1359019;-72.8944139
END:VEVENT
END:VCALENDAR