BEGIN:VCALENDAR
VERSION:2.0
PRODID:-//The Mad River Valley Village - ECPv6.0.13//NONSGML v1.0//EN
CALSCALE:GREGORIAN
METHOD:PUBLISH
X-ORIGINAL-URL:https://mrvvillage.com
X-WR-CALDESC:Events for The Mad River Valley Village
REFRESH-INTERVAL;VALUE=DURATION:PT1H
X-Robots-Tag:noindex
X-PUBLISHED-TTL:PT1H
BEGIN:VTIMEZONE
TZID:America/New_York
BEGIN:DAYLIGHT
TZOFFSETFROM:-0500
TZOFFSETTO:-0400
TZNAME:EDT
DTSTART:20240310T070000
END:DAYLIGHT
BEGIN:STANDARD
TZOFFSETFROM:-0400
TZOFFSETTO:-0500
TZNAME:EST
DTSTART:20241103T060000
END:STANDARD
TZID:UTC
BEGIN:STANDARD
TZOFFSETFROM:+0000
TZOFFSETTO:+0000
TZNAME:UTC
DTSTART:20240101T000000
END:STANDARD
END:VTIMEZONE
BEGIN:VEVENT
DTSTART;TZID=America/New_York:20240221T160000
DTEND;TZID=America/New_York:20240221T170000
DTSTAMP:20260423T221843
CREATED:20231123T145724Z
LAST-MODIFIED:20240221T220813Z
UID:10005621-1708531200-1708534800@mrvvillage.com
SUMMARY:Vermont Institute of Natural Science Meet and Greet
DESCRIPTION:Stop by and learn defining characteristics that make a bird a raptor and their adaptations for life as a predator on the wing. Touchable artifacts and educational\, informational materials round out this experience.
URL:https://mrvvillage.com/event/vermont-institute-of-natural-science-meet-and-greet-3/
LOCATION:Gate House Lodge\, Lincoln Peak
CATEGORIES:Family Friendly,Sugarbush
ATTACH;FMTTYPE=image/png:https://mrvvillage.com/wp-content/uploads/2023/11/vins-logo-Z0Rb7h.tmp_.png
GEO:44.1272818;-72.9284492
X-APPLE-STRUCTURED-LOCATION;VALUE=URI;X-ADDRESS=Gate House Lodge Lincoln Peak;X-APPLE-RADIUS=500;X-TITLE=Lincoln Peak:geo:-72.9284492,44.1272818
END:VEVENT
BEGIN:VEVENT
DTSTART;TZID=UTC:20240221T170000
DTEND;TZID=UTC:20240221T210000
DTSTAMP:20260423T221843
CREATED:20240123T155632Z
LAST-MODIFIED:20240221T220813Z
UID:10005887-1708534800-1708549200@mrvvillage.com
SUMMARY:MRB Pub Music Series: Al’s Pals
DESCRIPTION:Join us for live music\, food & drinks from 5:00-9:00pm. Music featuring Al’s Pals
URL:https://mrvvillage.com/event/mrb-pub-music-series-als-pals-9/
LOCATION:Mad River Barn
CATEGORIES:Dining,Family Friendly,Live Music,Public Welcome
ATTACH;FMTTYPE=image/png:https://mrvvillage.com/wp-content/uploads/2023/12/PalsParty-3E9eEp.tmp_-z7HjPH.tmp_.png
GEO:44.195472;-72.8915611
END:VEVENT
BEGIN:VEVENT
DTSTART;TZID=America/New_York:20240221T180000
DTEND;TZID=America/New_York:20240221T190000
DTSTAMP:20260423T221843
CREATED:20231123T145736Z
LAST-MODIFIED:20240221T220813Z
UID:10005622-1708538400-1708542000@mrvvillage.com
SUMMARY:Family Stargazing Night with Vaughn
DESCRIPTION:Join us to explore the night sky and learn about the constellations’ folk lore.Weather permitting. Limited amounts of binoculars are available. We encourage you to bring your own binoculars or telescope if you have them! For more information contact Vaughn Keenholdvkeenhold@sugarbush.com
URL:https://mrvvillage.com/event/family-stargazing-night-with-vaughn-2/
LOCATION:Sugarbush Resort\, 102 Forest Drive Warren\, VT 05674\, Warren\, 05674
CATEGORIES:Family Friendly,Sugarbush
ATTACH;FMTTYPE=image/webp:https://mrvvillage.com/wp-content/uploads/2023/11/stargazing-adobestock_252269112-1176x785-59b1133e-f81a-4087-ba0d-66b7b640b35e-5jDX7d.tmp_.webp
GEO:44.1272818;-72.9284492
X-APPLE-STRUCTURED-LOCATION;VALUE=URI;X-ADDRESS=Sugarbush Resort 102 Forest Drive Warren VT 05674 Warren 05674;X-APPLE-RADIUS=500;X-TITLE=102 Forest Drive Warren\, VT 05674:geo:-72.9284492,44.1272818
END:VEVENT
END:VCALENDAR