BEGIN:VCALENDAR
VERSION:2.0
PRODID:-//The Mad River Valley Village - ECPv6.0.13//NONSGML v1.0//EN
CALSCALE:GREGORIAN
METHOD:PUBLISH
X-ORIGINAL-URL:https://mrvvillage.com
X-WR-CALDESC:Events for The Mad River Valley Village
REFRESH-INTERVAL;VALUE=DURATION:PT1H
X-Robots-Tag:noindex
X-PUBLISHED-TTL:PT1H
BEGIN:VTIMEZONE
TZID:America/New_York
BEGIN:DAYLIGHT
TZOFFSETFROM:-0500
TZOFFSETTO:-0400
TZNAME:EDT
DTSTART:20240310T070000
END:DAYLIGHT
BEGIN:STANDARD
TZOFFSETFROM:-0400
TZOFFSETTO:-0500
TZNAME:EST
DTSTART:20241103T060000
END:STANDARD
END:VTIMEZONE
BEGIN:VEVENT
DTSTART;TZID=America/New_York:20240223T120000
DTEND;TZID=America/New_York:20240223T140000
DTSTAMP:20260423T070040
CREATED:20231125T152703Z
LAST-MODIFIED:20240223T222314Z
UID:10005628-1708689600-1708696800@mrvvillage.com
SUMMARY:Marko the Magician
DESCRIPTION:MARKO’s engaging personality and sharp-as-a-tack wit will have you amazed and laughing at the same time. MARKO’s magic is world-class\, pure perfection. There is no way to truly explain the power of MARKO’s magic; one must see it to believe it. Join us in The Gate House Lodge for close up magic!
URL:https://mrvvillage.com/event/marko-the-magician-6/
LOCATION:Gate House Lodge\, Lincoln Peak
CATEGORIES:Family Friendly,Sugarbush
ATTACH;FMTTYPE=image/jpeg:https://mrvvillage.com/wp-content/uploads/2023/11/marko-the-magician-1-H6HQg2.tmp_.jpg
GEO:44.1272818;-72.9284492
X-APPLE-STRUCTURED-LOCATION;VALUE=URI;X-ADDRESS=Gate House Lodge Lincoln Peak;X-APPLE-RADIUS=500;X-TITLE=Lincoln Peak:geo:-72.9284492,44.1272818
END:VEVENT
BEGIN:VEVENT
DTSTART;TZID=America/New_York:20240223T170000
DTEND;TZID=America/New_York:20240223T190000
DTSTAMP:20260423T070040
CREATED:20240220T205329Z
LAST-MODIFIED:20240223T222314Z
UID:10005944-1708707600-1708714800@mrvvillage.com
SUMMARY:All You Can Eat Fish Fry
DESCRIPTION:Friday Lenten Fish Frys are back! Please join us at St. Leo’s Hall\, 109 South Main St. in Waterbury. Located behind St. Andrews Catholic Church. Fresh beer battered fish fillets\, french fries\, cole slaw\, beverages and dessert will be served. All you can eat! No need for reservations. Take out is available by calling 802-244-7734 after 3pm on the day of the dinner. Cost: $18 per person\, $8 children 6-12 or $40 for a family of 4. Everyone is welcome! Sponsored by Knights of Columbus Council 2085 Waterbury to benefit our charity fund.
URL:https://mrvvillage.com/event/all-you-can-eat-fish-fry/
LOCATION:St. Andrews Catholic Church\, 109 S Main Street\, Waterbury\, 05676\, United States
CATEGORIES:Community,Family Friendly,Food & Drink
ATTACH;FMTTYPE=image/webp:https://mrvvillage.com/wp-content/uploads/2024/02/hero_Fish_Fry_clipart-1-KRJW2y.tmp_.webp
ORGANIZER;CN="Knights%20of%20Columbus%20Council%202085%20Waterbury":MAILTO:longchampsteve@gmail.com
GEO:44.3321993;-72.7514276
X-APPLE-STRUCTURED-LOCATION;VALUE=URI;X-ADDRESS=St. Andrews Catholic Church 109 S Main Street Waterbury 05676 United States;X-APPLE-RADIUS=500;X-TITLE=109 S Main Street:geo:-72.7514276,44.3321993
END:VEVENT
END:VCALENDAR