BEGIN:VCALENDAR
VERSION:2.0
PRODID:-//The Mad River Valley Village - ECPv6.0.13//NONSGML v1.0//EN
CALSCALE:GREGORIAN
METHOD:PUBLISH
X-ORIGINAL-URL:https://mrvvillage.com
X-WR-CALDESC:Events for The Mad River Valley Village
REFRESH-INTERVAL;VALUE=DURATION:PT1H
X-Robots-Tag:noindex
X-PUBLISHED-TTL:PT1H
BEGIN:VTIMEZONE
TZID:America/New_York
BEGIN:DAYLIGHT
TZOFFSETFROM:-0500
TZOFFSETTO:-0400
TZNAME:EDT
DTSTART:20240310T070000
END:DAYLIGHT
BEGIN:STANDARD
TZOFFSETFROM:-0400
TZOFFSETTO:-0500
TZNAME:EST
DTSTART:20241103T060000
END:STANDARD
END:VTIMEZONE
BEGIN:VEVENT
DTSTART;TZID=America/New_York:20240309T070000
DTEND;TZID=America/New_York:20240309T160000
DTSTAMP:20260423T221826
CREATED:20231210T035737Z
LAST-MODIFIED:20240309T230811Z
UID:10005691-1709967600-1710000000@mrvvillage.com
SUMMARY:Junior Castlerock Extreme
DESCRIPTION:The Junior Castlerock Extreme is the premier unconventional terrain competition in the East. Talented young skiers (14 & under) are invited to tame Castlerock’s fabled terrain and compete in a highly challenging and technical run down Castlerock’s infamous Lift Line.Awards for Top 3 Boys and Girls.Schedule7:00am:8:00am Bib Pickup outside Castlerock Pub8:00- 8:15am: Mandatory Competitor Safety Meeting- Lincoln Peak Courtyard8:45am-10:00am: Course Inspection10:00am: Competition Start4:00pm: Awards Ceremony- Lincoln Peak CourtyardLimited to First 100 Entrants
URL:https://mrvvillage.com/event/junior-castlerock-extreme/
LOCATION:Sugarbush Resort\, 102 Forest Drive Warren\, VT 05674\, Warren\, 05674
CATEGORIES:Family Friendly,Sugarbush
ATTACH;FMTTYPE=image/jpeg:https://mrvvillage.com/wp-content/uploads/2023/12/castlerock-extreme-23-oBv6Le.tmp_.jpg
GEO:44.1272818;-72.9284492
X-APPLE-STRUCTURED-LOCATION;VALUE=URI;X-ADDRESS=Sugarbush Resort 102 Forest Drive Warren VT 05674 Warren 05674;X-APPLE-RADIUS=500;X-TITLE=102 Forest Drive Warren\, VT 05674:geo:-72.9284492,44.1272818
END:VEVENT
BEGIN:VEVENT
DTSTART;TZID=America/New_York:20240309T100000
DTEND;TZID=America/New_York:20240309T110000
DTSTAMP:20260423T221826
CREATED:20240226T205414Z
LAST-MODIFIED:20240309T230811Z
UID:10005951-1709978400-1709982000@mrvvillage.com
SUMMARY:Author Reading at Inklings Children’s Books!
DESCRIPTION:Inklings is excited to announce that we will be celebrating the release of Brian Wray’s latest book on Saturday\, March 9th at 10am! \nTHE BOOK BUS is based on a true-life vintage V.W. pickup truck\, and tells the story of what can happen when a community pulls together to share the gift of books. \nFollowing the reading\, there will be a craft for the children! \nTo honor the work of The Book Bus\, Inklings is having a book drive! Starting on March 9th\, people bringing a used children’s book for donation will receive a 10% discount off the purchase of any new book!! Book donations collected through April 9th will be passed on to the Waitsfield Children’s Center.
URL:https://mrvvillage.com/event/author-reading-at-inklings-childrens-books-4/
LOCATION:Waitsfield Children’s Center\, 6307 Main Street\, Watisfield\, VT\, 05673\, United States
CATEGORIES:Community,Family Friendly
ATTACH;FMTTYPE=image/jpeg:https://mrvvillage.com/wp-content/uploads/2024/02/BrianWrayEvent-copy-hnt8wz.tmp_.jpg
ORGANIZER;CN="Inklings%20Children%26%238217%3Bs%20Books":MAILTO:inklingschildrensbooks@gmail.com
GEO:44.1708065;-72.8308542
X-APPLE-STRUCTURED-LOCATION;VALUE=URI;X-ADDRESS=Waitsfield Children’s Center 6307 Main Street Watisfield VT 05673 United States;X-APPLE-RADIUS=500;X-TITLE=6307 Main Street:geo:-72.8308542,44.1708065
END:VEVENT
END:VCALENDAR