BEGIN:VCALENDAR
VERSION:2.0
PRODID:-//The Mad River Valley Village - ECPv6.0.13//NONSGML v1.0//EN
CALSCALE:GREGORIAN
METHOD:PUBLISH
X-WR-CALNAME:The Mad River Valley Village
X-ORIGINAL-URL:https://mrvvillage.com
X-WR-CALDESC:Events for The Mad River Valley Village
REFRESH-INTERVAL;VALUE=DURATION:PT1H
X-Robots-Tag:noindex
X-PUBLISHED-TTL:PT1H
BEGIN:VTIMEZONE
TZID:America/New_York
BEGIN:DAYLIGHT
TZOFFSETFROM:-0500
TZOFFSETTO:-0400
TZNAME:EDT
DTSTART:20240310T070000
END:DAYLIGHT
BEGIN:STANDARD
TZOFFSETFROM:-0400
TZOFFSETTO:-0500
TZNAME:EST
DTSTART:20241103T060000
END:STANDARD
END:VTIMEZONE
BEGIN:VEVENT
DTSTART;TZID=America/New_York:20240403T150000
DTEND;TZID=America/New_York:20240417T160000
DTSTAMP:20260423T202442
CREATED:20240228T212546Z
LAST-MODIFIED:20240403T135323Z
UID:10005970-1712156400-1713369600@mrvvillage.com
SUMMARY:“Cook and Book” Classes at Inklings Children’s Books!
DESCRIPTION:Join Vegging on the Mountain for “Cook and Book” at Inklings! \nStarting Wednesday\, April 3rd at 3:00pm\, Inklings will be hosting Vegging on the Mountain for a weekly class featuring a children’s book focused on food and a cooking project. \nEach class\, children will receive the featured book of the week. Following a reading of the book\, Marci will discuss the story before leading the class through a cooking project based on the book. \nPRICE for 3 Classes: $105.00 ($35 per class). Cost includes books and supplies.\nREGISTRATION is required. Only 12 Seats Available.
URL:https://mrvvillage.com/event/cook-and-book-classes-at-inklings-childrens-books/
LOCATION:Inklings Children’s Books\, 106 Mad River Greeen\, Waitsfield\, VT\, 05673\, United States
CATEGORIES:Arts & Entertainment,Community,Family Friendly,Food & Drink
ATTACH;FMTTYPE=image/jpeg:https://mrvvillage.com/wp-content/uploads/2024/02/CookandBookFlyer-copy-3zJ6im.tmp_.jpg
ORGANIZER;CN="Inklings%20Children%26%238217%3Bs%20Books":MAILTO:inklingschildrensbooks@gmail.com
GEO:44.1844899;-72.839037
X-APPLE-STRUCTURED-LOCATION;VALUE=URI;X-ADDRESS=Inklings Children’s Books 106 Mad River Greeen Waitsfield VT 05673 United States;X-APPLE-RADIUS=500;X-TITLE=106 Mad River Greeen:geo:-72.839037,44.1844899
END:VEVENT
BEGIN:VEVENT
DTSTART;TZID=America/New_York:20240413T130000
DTEND;TZID=America/New_York:20240413T190000
DTSTAMP:20260423T202442
CREATED:20240114T134403Z
LAST-MODIFIED:20240413T142314Z
UID:10005866-1713013200-1713034800@mrvvillage.com
SUMMARY:Spring Fling
DESCRIPTION:We’re excited to announce that on Saturday\, April 13th\, Sugarbush will be hosting our third annual Spring Fling! We have a lot to celebrate\, and we want you to join in on the fun at what is shaping up to be the event of the season.
URL:https://mrvvillage.com/event/spring-fling/
LOCATION:Sugarbush Resort\, 102 Forest Drive Warren\, VT 05674\, Warren\, 05674
CATEGORIES:Family Friendly,Food & Drink,Sugarbush
ATTACH;FMTTYPE=image/webp:https://mrvvillage.com/wp-content/uploads/2024/01/spring-fling-scaled-V5gQiT.tmp_.webp
GEO:44.1272818;-72.9284492
X-APPLE-STRUCTURED-LOCATION;VALUE=URI;X-ADDRESS=Sugarbush Resort 102 Forest Drive Warren VT 05674 Warren 05674;X-APPLE-RADIUS=500;X-TITLE=102 Forest Drive Warren\, VT 05674:geo:-72.9284492,44.1272818
END:VEVENT
BEGIN:VEVENT
DTSTART;TZID=America/New_York:20240413T150000
DTEND;TZID=America/New_York:20240413T160000
DTSTAMP:20260423T202442
CREATED:20240408T022339Z
LAST-MODIFIED:20240413T142315Z
UID:10006067-1713020400-1713024000@mrvvillage.com
SUMMARY:Drag Story Hour
DESCRIPTION:Drag Story Hour (DSH) is just what it sounds like… \n…drag performers reading stories to children in libraries\, schools\, and bookstores. DSH captures the imagination and play of the gender fluidity of childhood and gives kids glamorous\, positive\, and unabashedly queer role models. In spaces like this\, kids are able to see people who defy rigid gender restrictions and imagine a world where people can present as they wish\, where dress up is real. \nEmoji Nightmare and Katniss Everqueer\, two of Vermont’s favorite queer performing artists\, will be sure to delight and captivate audience members of all ages as they share stories focused on individuality\, activism\, gender\, creativity\, expression\, and social responsibility. \nDSH was created by Michelle Tea and RADAR Productions in San Francisco in 2015. The Vermont Chapter of DSH was created by Emoji Nightmare and Nikki Champagne in 2017. In 2021\, Emoji joined the national board of directors for DSH. For more information on DSH\, visit DragStoryHour.org. \n​This event is funded by a grant from the Vermont Children’s Trust Foundation’s Samara Fund and is part of The Vermont Chapter’s 2024 Rural Outreach Program.
URL:https://mrvvillage.com/event/drag-story-hour/
LOCATION:Warren Town Hall\, 42 Cemetary Rd\, Warren\, VT\, 05674
CATEGORIES:Community,Family Friendly,Special Events
ATTACH;FMTTYPE=image/jpeg:https://mrvvillage.com/wp-content/uploads/2024/04/2024-DSH-Tc8XKE.tmp_.jpg
ORGANIZER;CN="Warren%20Public%20Library":MAILTO:director@warrenlibrary.com
GEO:44.1129609;-72.8553324
X-APPLE-STRUCTURED-LOCATION;VALUE=URI;X-ADDRESS=Warren Town Hall 42 Cemetary Rd Warren VT 05674;X-APPLE-RADIUS=500;X-TITLE=42 Cemetary Rd:geo:-72.8553324,44.1129609
END:VEVENT
END:VCALENDAR