BEGIN:VCALENDAR
VERSION:2.0
PRODID:-//The Mad River Valley Village - ECPv6.0.13//NONSGML v1.0//EN
CALSCALE:GREGORIAN
METHOD:PUBLISH
X-WR-CALNAME:The Mad River Valley Village
X-ORIGINAL-URL:https://mrvvillage.com
X-WR-CALDESC:Events for The Mad River Valley Village
REFRESH-INTERVAL;VALUE=DURATION:PT1H
X-Robots-Tag:noindex
X-PUBLISHED-TTL:PT1H
BEGIN:VTIMEZONE
TZID:America/New_York
BEGIN:DAYLIGHT
TZOFFSETFROM:-0500
TZOFFSETTO:-0400
TZNAME:EDT
DTSTART:20240310T070000
END:DAYLIGHT
BEGIN:STANDARD
TZOFFSETFROM:-0400
TZOFFSETTO:-0500
TZNAME:EST
DTSTART:20241103T060000
END:STANDARD
END:VTIMEZONE
BEGIN:VEVENT
DTSTART;TZID=America/New_York:20240608T103000
DTEND;TZID=America/New_York:20240608T113000
DTSTAMP:20260424T013318
CREATED:20240525T172355Z
LAST-MODIFIED:20240608T173810Z
UID:10006179-1717842600-1717846200@mrvvillage.com
SUMMARY:Author Reading at Inklings Children’s Books!
DESCRIPTION:Inklings is excited to welcome Vermont author Melinda Moulton on Saturday\, June 8th at 10:30am\, for a reading of her book\, BOBBY BLUE. \nFollowing the reading there will be a craft for the children! \nBOBBY BLUE’s story is a wonderful reminder of the importance of keeping kindness and love in your heart\, and how our actions\, deeds\, and words create an energy that will eventually return to us. \nMELINDA MOULTON spent forty years as the CEO of Main Street Landing\, working to redevelop the Burlington waterfront on Lake Champlain. She has her own television program\, Moments With Melinda\, where she interviews people doing creative and important work throughout Vermont.
URL:https://mrvvillage.com/event/author-reading-at-inklings-childrens-books-5/
LOCATION:Inklings Children’s Books\, 106 Mad River Greeen\, Waitsfield\, VT\, 05673\, United States
CATEGORIES:Arts & Entertainment,Community,Family Friendly
ATTACH;FMTTYPE=image/jpeg:https://mrvvillage.com/wp-content/uploads/2024/05/MelindaMoultonVisit-copy-fYCdzL.tmp_.jpg
ORGANIZER;CN="Inklings%20Children%26%238217%3Bs%20Books":MAILTO:inklingschildrensbooks@gmail.com
GEO:44.1844899;-72.839037
X-APPLE-STRUCTURED-LOCATION;VALUE=URI;X-ADDRESS=Inklings Children’s Books 106 Mad River Greeen Waitsfield VT 05673 United States;X-APPLE-RADIUS=500;X-TITLE=106 Mad River Greeen:geo:-72.839037,44.1844899
END:VEVENT
BEGIN:VEVENT
DTSTART;TZID=America/New_York:20240608T120000
DTEND;TZID=America/New_York:20240608T170000
DTSTAMP:20260424T013318
CREATED:20240509T042357Z
LAST-MODIFIED:20240608T173810Z
UID:10006116-1717848000-1717866000@mrvvillage.com
SUMMARY:Art Market at Firefolk Arts
DESCRIPTION:All ages\, Free Art Market at Firefolk Arts — held at 4412 Main St. Waitsfield — in the “Kodak Building” next door to the gallery \n20 vendors\, selling art of many mediums: ceramics\, painting\, jewelry\, textiles\, woodcraft\, metalwork\, photography\, clothing\, prints\, comics\, poetry\, etc. \nKorean + Filipino Food\, Herbal Mocktails\, and Ice Cream for sale
URL:https://mrvvillage.com/event/art-market-at-firefolk-arts/
LOCATION:Firefolk Arts\, 4424 Main Street\, Waitsfield\, Vermont\, 05673\, United States
CATEGORIES:Arts & Entertainment,Family Friendly,Food & Drink,Special Events
ATTACH;FMTTYPE=image/png:https://mrvvillage.com/wp-content/uploads/2024/05/1-GYVvPl.tmp_.png
ORGANIZER;CN="Tina%20Picz":MAILTO:tinapicz@gmail.com
GEO:44.1897106;-72.825057
X-APPLE-STRUCTURED-LOCATION;VALUE=URI;X-ADDRESS=Firefolk Arts 4424 Main Street Waitsfield Vermont 05673 United States;X-APPLE-RADIUS=500;X-TITLE=4424 Main Street:geo:-72.825057,44.1897106
END:VEVENT
END:VCALENDAR