BEGIN:VCALENDAR
VERSION:2.0
PRODID:-//The Mad River Valley Village - ECPv6.0.13//NONSGML v1.0//EN
CALSCALE:GREGORIAN
METHOD:PUBLISH
X-WR-CALNAME:The Mad River Valley Village
X-ORIGINAL-URL:https://mrvvillage.com
X-WR-CALDESC:Events for The Mad River Valley Village
REFRESH-INTERVAL;VALUE=DURATION:PT1H
X-Robots-Tag:noindex
X-PUBLISHED-TTL:PT1H
BEGIN:VTIMEZONE
TZID:America/New_York
BEGIN:DAYLIGHT
TZOFFSETFROM:-0500
TZOFFSETTO:-0400
TZNAME:EDT
DTSTART:20240310T070000
END:DAYLIGHT
BEGIN:STANDARD
TZOFFSETFROM:-0400
TZOFFSETTO:-0500
TZNAME:EST
DTSTART:20241103T060000
END:STANDARD
END:VTIMEZONE
BEGIN:VEVENT
DTSTART;TZID=America/New_York:20240914T100000
DTEND;TZID=America/New_York:20240914T110000
DTSTAMP:20260425T103153
CREATED:20240826T170903Z
LAST-MODIFIED:20240914T222318Z
UID:10006895-1726308000-1726311600@mrvvillage.com
SUMMARY:Author Christy Mihaly Visits Inklings!
DESCRIPTION:Inklings Children’s Books is so excited to welcome Vermont author Christy Mihaly on Saturday\, September 14th at 10am! \nChristy will be reading her new book\, OUR CONGRESS\, the story of a child who gets a once-in-a-lifetime guided tour of the US Capitol that helps her see just how Congress has shaped our nation throughout history\, and how it continues to impact life for every American today. \nFollowing the reading Christy will lead children through a project\, showing them how they can have a voice in their community.
URL:https://mrvvillage.com/event/author-christy-mihaly-visits-inklings/
LOCATION:Unnamed Venue\, United States
CATEGORIES:Arts & Entertainment,Community,Family Friendly
ATTACH;FMTTYPE=image/jpeg:https://mrvvillage.com/wp-content/uploads/2024/08/MRV-copy-C4GaWH.tmp_.jpg
GEO:37.09024;-95.712891
END:VEVENT
BEGIN:VEVENT
DTSTART;TZID=America/New_York:20240914T130000
DTEND;TZID=America/New_York:20240914T170000
DTSTAMP:20260425T103153
CREATED:20240828T173942Z
LAST-MODIFIED:20240914T222318Z
UID:10006938-1726318800-1726333200@mrvvillage.com
SUMMARY:Wild Pink
DESCRIPTION:WILD PINK is a group show about the natural and cultural relationship of the ancient color PINK. There is certainly no dearth of pink in the natural world or in human culture. We accessorize\, cosmeticize\, gender-ize and interiorize to the point of being ‘tickled pink’. In the animal and floral world pink as hue and shade exists multifold. Whether to shock\, protest or code the millennials\, pink has survived the test of time. This show examines the fluid origins of PINK in ‘natural’ and/or ‘cultural’ contexts. This is open media\, interdisciplinary\, multimedia\, installation\, all contemporary crafts and design arts in two/three dimensions for the wall and floor. \nReception & Artist talks: Sept. 26th\, 5-7pm
URL:https://mrvvillage.com/event/wild-pink-8/
LOCATION:Festival Gallery at Valley Arts\, 5031 Main Street\,\, Waitsfield\, 05673
CATEGORIES:Arts & Entertainment,Community,Family Friendly
ATTACH;FMTTYPE=image/webp:https://mrvvillage.com/wp-content/uploads/2024/08/panolin-1920w.jpg-2-wtSfZS.tmp_.webp
ORGANIZER;CN="Mad%20River%20Valley%20Arts":MAILTO:director@madrivervalleyarts.org
GEO:44.1926386;-72.7798479
X-APPLE-STRUCTURED-LOCATION;VALUE=URI;X-ADDRESS=Festival Gallery at Valley Arts 5031 Main Street Waitsfield 05673;X-APPLE-RADIUS=500;X-TITLE=5031 Main Street\,:geo:-72.7798479,44.1926386
END:VEVENT
END:VCALENDAR