BEGIN:VCALENDAR
VERSION:2.0
PRODID:-//The Mad River Valley Village - ECPv6.0.13//NONSGML v1.0//EN
CALSCALE:GREGORIAN
METHOD:PUBLISH
X-ORIGINAL-URL:https://mrvvillage.com
X-WR-CALDESC:Events for The Mad River Valley Village
REFRESH-INTERVAL;VALUE=DURATION:PT1H
X-Robots-Tag:noindex
X-PUBLISHED-TTL:PT1H
BEGIN:VTIMEZONE
TZID:America/New_York
BEGIN:DAYLIGHT
TZOFFSETFROM:-0500
TZOFFSETTO:-0400
TZNAME:EDT
DTSTART:20240310T070000
END:DAYLIGHT
BEGIN:STANDARD
TZOFFSETFROM:-0400
TZOFFSETTO:-0500
TZNAME:EST
DTSTART:20241103T060000
END:STANDARD
END:VTIMEZONE
BEGIN:VEVENT
DTSTART;TZID=America/New_York:20240917T100000
DTEND;TZID=America/New_York:20240917T104500
DTSTAMP:20260425T002803
CREATED:20240911T202342Z
LAST-MODIFIED:20240917T225316Z
UID:10007019-1726567200-1726569900@mrvvillage.com
SUMMARY:Little One & Me Yoga
DESCRIPTION:This gentle and fun yoga class is designed specifically for a parent or caregiver and their children\, ages 18 months to 4 years. Older children are welcome too! \nPoses like butterfly\, downward dog\, tree\, forest\, bug\, cat\, cow and lion will bring smiles and creativity. They also promote balance\, coordination\, motor skills and mindfulness. Through visuals and words\, e will introduce and/or reinforce mechanisms for movement\, independence and stress relief. And of course … some giggles too. \nBrought to you in partnership: Inklings Children’s Books and Salt & Sand Studios. Salt & Sand’s Karen McPhillips will lead the yoga. She is a fully certified Yoga Alliance 500-hour instructor and 200-hour educational provider.
URL:https://mrvvillage.com/event/little-one-me-yoga-2/
LOCATION:Inklings Children’s Books\, 106 Mad River Greeen\, Waitsfield\, VT\, 05673\, United States
CATEGORIES:Community,Family Friendly
ATTACH;FMTTYPE=image/png:https://mrvvillage.com/wp-content/uploads/2024/09/YogaMouse-bAwuVt.tmp_.png
ORGANIZER;CN="Salt%20%26amp%3B%20Sand%20Studios":MAILTO:contact@saltandsandstudios.com
GEO:44.1844899;-72.839037
X-APPLE-STRUCTURED-LOCATION;VALUE=URI;X-ADDRESS=Inklings Children’s Books 106 Mad River Greeen Waitsfield VT 05673 United States;X-APPLE-RADIUS=500;X-TITLE=106 Mad River Greeen:geo:-72.839037,44.1844899
END:VEVENT
BEGIN:VEVENT
DTSTART;TZID=America/New_York:20240917T130000
DTEND;TZID=America/New_York:20240917T170000
DTSTAMP:20260425T002803
CREATED:20240828T173954Z
LAST-MODIFIED:20240917T225316Z
UID:10006939-1726578000-1726592400@mrvvillage.com
SUMMARY:Wild Pink
DESCRIPTION:WILD PINK is a group show about the natural and cultural relationship of the ancient color PINK. There is certainly no dearth of pink in the natural world or in human culture. We accessorize\, cosmeticize\, gender-ize and interiorize to the point of being ‘tickled pink’. In the animal and floral world pink as hue and shade exists multifold. Whether to shock\, protest or code the millennials\, pink has survived the test of time. This show examines the fluid origins of PINK in ‘natural’ and/or ‘cultural’ contexts. This is open media\, interdisciplinary\, multimedia\, installation\, all contemporary crafts and design arts in two/three dimensions for the wall and floor. \nReception & Artist talks: Sept. 26th\, 5-7pm
URL:https://mrvvillage.com/event/wild-pink-9/
LOCATION:Festival Gallery at Valley Arts\, 5031 Main Street\,\, Waitsfield\, 05673
CATEGORIES:Arts & Entertainment,Community,Family Friendly
ATTACH;FMTTYPE=image/webp:https://mrvvillage.com/wp-content/uploads/2024/08/panolin-1920w.jpg-2-wtSfZS.tmp_.webp
ORGANIZER;CN="Mad%20River%20Valley%20Arts":MAILTO:director@madrivervalleyarts.org
GEO:44.1926386;-72.7798479
X-APPLE-STRUCTURED-LOCATION;VALUE=URI;X-ADDRESS=Festival Gallery at Valley Arts 5031 Main Street Waitsfield 05673;X-APPLE-RADIUS=500;X-TITLE=5031 Main Street\,:geo:-72.7798479,44.1926386
END:VEVENT
END:VCALENDAR