BEGIN:VCALENDAR
VERSION:2.0
PRODID:-//The Mad River Valley Village - ECPv6.0.13//NONSGML v1.0//EN
CALSCALE:GREGORIAN
METHOD:PUBLISH
X-ORIGINAL-URL:https://mrvvillage.com
X-WR-CALDESC:Events for The Mad River Valley Village
REFRESH-INTERVAL;VALUE=DURATION:PT1H
X-Robots-Tag:noindex
X-PUBLISHED-TTL:PT1H
BEGIN:VTIMEZONE
TZID:America/New_York
BEGIN:DAYLIGHT
TZOFFSETFROM:-0500
TZOFFSETTO:-0400
TZNAME:EDT
DTSTART:20240310T070000
END:DAYLIGHT
BEGIN:STANDARD
TZOFFSETFROM:-0400
TZOFFSETTO:-0500
TZNAME:EST
DTSTART:20241103T060000
END:STANDARD
END:VTIMEZONE
BEGIN:VEVENT
DTSTART;TZID=America/New_York:20240928T100000
DTEND;TZID=America/New_York:20240928T110000
DTSTAMP:20260425T002746
CREATED:20240917T215416Z
LAST-MODIFIED:20240928T233815Z
UID:10007035-1727517600-1727521200@mrvvillage.com
SUMMARY:Author Julia Macalaster Visits Inklings Children’s Books!
DESCRIPTION:Inklings Children’s Books welcomes author Julia Macalaster on Saturday\, September 28th at 10am! \nJulia will be sharing her book\, MOUSE MOVES\, the story of a tiny mouse that has to move homes. This is the perfect book to talk to children about big changes\, including moving into a brand new house! \nFollowing the reading Julia will lead children through a craft where they can make brand new mouse homes of their very own!!
URL:https://mrvvillage.com/event/author-julia-macalaster-visits-inklings-childrens-books/
LOCATION:Inklings Children’s Books\, 106 Mad River Greeen\, Waitsfield\, VT\, 05673\, United States
CATEGORIES:Arts & Entertainment,Community,Family Friendly
ATTACH;FMTTYPE=image/jpeg:https://mrvvillage.com/wp-content/uploads/2024/09/JuliaMacalasterVisitmrv-yIKFOY.tmp_.jpg
ORGANIZER;CN="Inklings%20Children%26%238217%3Bs%20Books":MAILTO:inklingschildrensbooks@gmail.com
GEO:44.1844899;-72.839037
X-APPLE-STRUCTURED-LOCATION;VALUE=URI;X-ADDRESS=Inklings Children’s Books 106 Mad River Greeen Waitsfield VT 05673 United States;X-APPLE-RADIUS=500;X-TITLE=106 Mad River Greeen:geo:-72.839037,44.1844899
END:VEVENT
BEGIN:VEVENT
DTSTART;TZID=America/New_York:20240928T100000
DTEND;TZID=America/New_York:20240928T150000
DTSTAMP:20260425T002746
CREATED:20240819T174053Z
LAST-MODIFIED:20240928T233815Z
UID:10006861-1727517600-1727535600@mrvvillage.com
SUMMARY:Bristol Harvest Festival
DESCRIPTION:Join us for the 25th annual Bristol Harvest Festival. The event features more than 70 vendors displaying local crafts and terrific food options on the green. All day live music at the bandstand with kids’ activities and an ADA-compliant children’s playground. After visiting the festival\, continue strolling through the  downtown and shop the local businesses.
URL:https://mrvvillage.com/event/bristol-harvest-festival-3/
LOCATION:Bristol Town Green\, Bristol Town Green\, Bristol\, Vermont\, 05443\, United States
CATEGORIES:Community,Family Friendly,Live Music
ATTACH;FMTTYPE=image/jpeg:https://mrvvillage.com/wp-content/uploads/2024/08/2024-BHF-event-image-6eUP6l.tmp_.jpg
ORGANIZER;CN="Addison%20County%20Chamber%20of%20Commerce":MAILTO:maria@addisoncounty.com
GEO:44.134076;-73.079881
X-APPLE-STRUCTURED-LOCATION;VALUE=URI;X-ADDRESS=Bristol Town Green Bristol Town Green Bristol Vermont 05443 United States;X-APPLE-RADIUS=500;X-TITLE=Bristol Town Green:geo:-73.079881,44.134076
END:VEVENT
BEGIN:VEVENT
DTSTART;TZID=America/New_York:20240928T130000
DTEND;TZID=America/New_York:20240928T170000
DTSTAMP:20260425T002746
CREATED:20240828T174036Z
LAST-MODIFIED:20240928T233816Z
UID:10006950-1727528400-1727542800@mrvvillage.com
SUMMARY:Wild Pink
DESCRIPTION:WILD PINK is a group show about the natural and cultural relationship of the ancient color PINK. There is certainly no dearth of pink in the natural world or in human culture. We accessorize\, cosmeticize\, gender-ize and interiorize to the point of being ‘tickled pink’. In the animal and floral world pink as hue and shade exists multifold. Whether to shock\, protest or code the millennials\, pink has survived the test of time. This show examines the fluid origins of PINK in ‘natural’ and/or ‘cultural’ contexts. This is open media\, interdisciplinary\, multimedia\, installation\, all contemporary crafts and design arts in two/three dimensions for the wall and floor. \nReception & Artist talks: Sept. 26th\, 5-7pm
URL:https://mrvvillage.com/event/wild-pink-18/
LOCATION:Festival Gallery at Valley Arts\, 5031 Main Street\,\, Waitsfield\, 05673
CATEGORIES:Arts & Entertainment,Community,Family Friendly
ATTACH;FMTTYPE=image/webp:https://mrvvillage.com/wp-content/uploads/2024/08/panolin-1920w.jpg-2-wtSfZS.tmp_.webp
ORGANIZER;CN="Mad%20River%20Valley%20Arts":MAILTO:director@madrivervalleyarts.org
GEO:44.1926386;-72.7798479
X-APPLE-STRUCTURED-LOCATION;VALUE=URI;X-ADDRESS=Festival Gallery at Valley Arts 5031 Main Street Waitsfield 05673;X-APPLE-RADIUS=500;X-TITLE=5031 Main Street\,:geo:-72.7798479,44.1926386
END:VEVENT
END:VCALENDAR