BEGIN:VCALENDAR
VERSION:2.0
PRODID:-//The Mad River Valley Village - ECPv6.0.13//NONSGML v1.0//EN
CALSCALE:GREGORIAN
METHOD:PUBLISH
X-ORIGINAL-URL:https://mrvvillage.com
X-WR-CALDESC:Events for The Mad River Valley Village
REFRESH-INTERVAL;VALUE=DURATION:PT1H
X-Robots-Tag:noindex
X-PUBLISHED-TTL:PT1H
BEGIN:VTIMEZONE
TZID:America/New_York
BEGIN:DAYLIGHT
TZOFFSETFROM:-0500
TZOFFSETTO:-0400
TZNAME:EDT
DTSTART:20240310T070000
END:DAYLIGHT
BEGIN:STANDARD
TZOFFSETFROM:-0400
TZOFFSETTO:-0500
TZNAME:EST
DTSTART:20241103T060000
END:STANDARD
END:VTIMEZONE
BEGIN:VEVENT
DTSTART;TZID=America/New_York:20241207T000000
DTEND;TZID=America/New_York:20241213T235959
DTSTAMP:20260425T185234
CREATED:20241121T180844Z
LAST-MODIFIED:20241121T182343Z
UID:10007233-1733529600-1734134399@mrvvillage.com
SUMMARY:Kids Ski Free Week
DESCRIPTION:From Saturday\, December 7 through Friday\, December 13\, kids 12 and under ski and/or ride free at Sugarbush. It’s time to plan the family trip – whether your kids are first-timers (or you are\,) a free week of mountain fun is waiting.
URL:https://mrvvillage.com/event/kids-ski-free-week/
LOCATION:Lincoln Peak\, 102 Forest Drive\, Warren\, VT 05674\, USA
CATEGORIES:Family Friendly,Sports & Recreation,Sugarbush
ATTACH;FMTTYPE=image/jpeg:https://mrvvillage.com/wp-content/uploads/2024/11/BANNER-15-pqOi4I.tmp_.jpg
GEO:44.1359019;-72.8944139
X-APPLE-STRUCTURED-LOCATION;VALUE=URI;X-ADDRESS=Lincoln Peak 102 Forest Drive Warren VT 05674 USA;X-APPLE-RADIUS=500;X-TITLE=102 Forest Drive\, Warren\, VT 05674\, USA:geo:-72.8944139,44.1359019
END:VEVENT
END:VCALENDAR